BEGIN:VCALENDAR
VERSION:2.0
PRODID:-//Arte Que Acontece - ECPv6.15.20//NONSGML v1.0//EN
CALSCALE:GREGORIAN
METHOD:PUBLISH
X-WR-CALNAME:Arte Que Acontece
X-ORIGINAL-URL:https://artequeacontece.com.br
X-WR-CALDESC:Eventos para Arte Que Acontece
REFRESH-INTERVAL;VALUE=DURATION:PT1H
X-Robots-Tag:noindex
X-PUBLISHED-TTL:PT1H
BEGIN:VTIMEZONE
TZID:America/Sao_Paulo
BEGIN:STANDARD
TZOFFSETFROM:-0300
TZOFFSETTO:-0300
TZNAME:-03
DTSTART:20230101T000000
END:STANDARD
END:VTIMEZONE
BEGIN:VEVENT
DTSTART;TZID=America/Sao_Paulo:20240312T093000
DTEND;TZID=America/Sao_Paulo:20240630T180000
DTSTAMP:20260420T003657
CREATED:20240410T120754Z
LAST-MODIFIED:20240410T121646Z
UID:48092-1710235800-1719770400@artequeacontece.com.br
SUMMARY:"Être ici est une splendeur" de Nathanaëlle Herbelin no Musée d'Orsay
DESCRIPTION:Nathanaëlle Herbelin\, Emmanuelle et Efi [detalhe]\, 2024 © Cortesia do artista e da Galerie Jousse Entreprise / Foto: Objets pointus / © Adagp\, Paris\, 2024.\n\n\n\nSua apresentação no Museu d’Orsay se encaixa diretamente em um eixo do projeto cultural do museu que visa expandir a “polifonia de Orsay” para figuras artísticas menos clássicas\, aqui apresentando uma artista emergente já muito elogiada pela crítica. Sua trajetória meteórica desde sua saída da Escola de Belas Artes de Paris há menos de dez anos foi comentada várias vezes e será também uma oportunidade de mostrar a atenção do Museu d’Orsay para os artistas frequentadores da escola vizinha e entre os ex-alunos que são apaixonados por suas coleções. \n\n\n\nA exposição contemporânea da primavera de 2024 destacará a sensível inserção da artista na tradição dos Nabis – grupo de jovens artistas pós-impressionistas vanguardistas da última década do século XIX. Se o toque sutil da artista\, sua paleta cromática e seus motivos preferidos nos lembram Pierre Bonnard\, Édouard Vuillard ou Félix Vallotton\, outros detalhes figurativos nos trazem de volta à realidade mais contemporânea: graças à presença de características atuais (telefones celulares ou cabos de alimentação eletrônicos) nessas cenas de gênero atualizadas\, mas também ao transpor preocupações de nosso tempo para essas composições. Assim\, a intimidade do corpo materno no banho às vezes apresenta o modelo se depilando\, ou o gênero é questionado pela transposição de um modelo masculino nu na banheira\, outra tela até mesmo apresenta uma cena íntima centrada no prazer feminino\, ou a encenação do familiar em um quarto é iluminada pela luz azul noturna de um laptop apoiado nos joelhos de uma figura deitada. \n\n\n\nEssa atualização deverá\, incontestavelmente\, ressoar com as telas de Pierre Bonnard\, Édouard Vuillard e Félix Vallotton permanentemente expostas nessas galerias\, sem choque ou sentimento de pastiche\, dado que o universo de Nathanaëlle Herbelin permanece sensível e singular.
URL:https://artequeacontece.com.br/evento/etre-ici-est-une-splendeur-de-nathanaelle-herbelin-no-musee-dorsay/
LOCATION:Musée d’Orsay\, 1 Rue de la Légion d'Honneur Paris\, Paris\, Paris\, França
CATEGORIES:Paris
ATTACH;FMTTYPE=image/jpeg:https://artequeacontece.com.br/wp-content/uploads/2024/04/Nathanaelle-Herbelin-1989-Emmanuelle-et-Efi-2024.jpg
END:VEVENT
END:VCALENDAR