BEGIN:VCALENDAR
VERSION:2.0
PRODID:-//Arte Que Acontece - ECPv6.15.20//NONSGML v1.0//EN
CALSCALE:GREGORIAN
METHOD:PUBLISH
X-ORIGINAL-URL:https://artequeacontece.com.br
X-WR-CALDESC:Eventos para Arte Que Acontece
REFRESH-INTERVAL;VALUE=DURATION:PT1H
X-Robots-Tag:noindex
X-PUBLISHED-TTL:PT1H
BEGIN:VTIMEZONE
TZID:America/Sao_Paulo
BEGIN:STANDARD
TZOFFSETFROM:-0300
TZOFFSETTO:-0300
TZNAME:-03
DTSTART:20230101T000000
END:STANDARD
END:VTIMEZONE
BEGIN:VEVENT
DTSTART;TZID=America/Sao_Paulo:20240912T103000
DTEND;TZID=America/Sao_Paulo:20250112T203000
DTSTAMP:20260426T004503
CREATED:20241003T185733Z
LAST-MODIFIED:20241003T185744Z
UID:57833-1726137000-1736713800@artequeacontece.com.br
SUMMARY:“A Seed Under Our Tongue” de Saodat Ismailova no Pirelli HangarBicocca
DESCRIPTION:Saodat Ismailova As We Fade 2024 Vista da instalação no Pirelli HangarBicocca\, Milão\, 2024 Comissionada e produzida por Pirelli HangarBicocca. Cortesia da artista © Saodat Ismailova e Pirelli HangarBicocca\, Milão Foto: Agostino Osio\n\n\n\n\nO Pirelli HangarBicocca apresenta A Seed Under Our Tongue\, a primeira grande retrospectiva italiana de Saodat Ismailova (Tashkent\, Uzbequistão\, 1981)\, uma das artistas contemporâneas mais aclamadas da nova geração\, que trabalha na interseção entre cinema\, som e arte visual. Seus filmes e instalações\, com uma iconografia marcante e narrativas hipnóticas\, evocam o poder da natureza\, o legado da colonização e a delicada relação entre humanidade e meio ambiente. Explorando a memória coletiva\, o conhecimento ancestral e a representação da feminilidade\, suas obras se baseiam no patrimônio sociopolítico e cultural da Ásia Central para refletir sobre valores universais. \nCom novas obras comissionadas pelo Pirelli HangarBicocca\, a exposição marca a primeira grande mostra institucional de Saodat Ismailova na Itália. Apresentando trabalhos de suas duas décadas de carreira\, incluindo filmes\, esculturas e instalações\, o ambiente espacial foi projetado especialmente para a exposição. Focando no conceito e nas implicações da transmissão—seja de conhecimento\, histórias\, memórias ou paisagens—a mostra constrói diferentes narrativas\, criando uma atmosfera complexa e multifacetada. Os visitantes são imersos nas realidades culturais\, sociais e políticas da Ásia Central através de uma sobreposição intrincada de memórias\, paisagens\, imagens pessoais e coletivas e do tempo. \nSaodat Ismailova é cineasta e artista da primeira geração pós-soviética do Uzbequistão. Entrelaçando memórias\, mitos\, rituais e sonhos ao cotidiano\, seus filmes exploram a rica e multicamada cultura de sua região\, situada no cruzamento de diferentes realidades\, migrações e legados coloniais. Através de sua história pessoal\, Ismailova mergulha na dimensão coletiva da memória e na resistência global ao impacto da atividade humana no meio ambiente. Sua pesquisa abrange o conhecimento ancestral\, práticas tradicionais e histórias mais recentes. Por exemplo\, ela incorpora filmagens de arquivo ou elementos têxteis de tradições vernaculares que permitem a continuidade de atividades artesanais ameaçadas de desaparecer. Ao fazer isso\, Ismailova recontextualiza o passado colonial e a questão da identidade na região\, combinando mitos e práticas animistas com os sonhos das pessoas que habitam essas terras. \n“Eu acho que o cinema é como um vaso que carrega e lembra de tudo”\, afirma Ismailova. \nO título da exposição\, A Seed Under Our Tongue (Uma Semente Sob Nossa Língua)\, refere-se diretamente às novas obras apresentadas\, incluindo o filme recém-editado Arslanbob (2023-24) e as esculturas relacionadas\, como a semente dourada de Amanat (2024) e o molde em resina de uma caverna em The Mountain Our Bodies Emptied (2024). Inspirada em uma narrativa oral—sobre uma semente de tâmara escondida sob a língua e transmitida através de diferentes épocas e povos até ser transformada—a exposição reúne doze obras\, incluindo seis filmes e sete esculturas\, que exploram a questão da transmissão e a ideia\, nas palavras da artista\, de “que somos responsáveis pelas sete gerações que nos precederam e pelas sete gerações que virão depois de nós.” \nCoincidindo com a exposição no Pirelli HangarBicocca\, será publicada no outono de 2024 uma monografia abrangente sobre a artista\, editada por Roberta Tenconi. O volume traçará a prática de Ismailova sob diversas perspectivas\, incluindo ensaios e contribuições temáticas de estudiosos e críticos internacionais.
URL:https://artequeacontece.com.br/evento/a-seed-under-our-tongue-de-saodat-ismailova-no-pirelli-hangarbicocca/
LOCATION:Fondazione Pirelli HangarBicocca\, Via Chiese 2\, Milão\, Itália
CATEGORIES:Milão
ATTACH;FMTTYPE=image/jpeg:https://artequeacontece.com.br/wp-content/uploads/2024/10/AGO5486-1.jpg
END:VEVENT
BEGIN:VEVENT
DTSTART;TZID=America/Sao_Paulo:20240914T120000
DTEND;TZID=America/Sao_Paulo:20250126T193000
DTSTAMP:20260426T004503
CREATED:20241003T174942Z
LAST-MODIFIED:20241003T174942Z
UID:57819-1726315200-1737919800@artequeacontece.com.br
SUMMARY:“MUNCH Il grido interiore” no Palazzo Reale
DESCRIPTION:Edvard Munch\, The Girls on the Bridge\, 1927\n\n\n\n\nPor ocasião do 80º aniversário de sua morte\, o Palazzo Reale e Arthemisia\, em colaboração com o Museu MUNCH\, apresentam um prestigioso evento cultural: uma grande exposição monográfica dedicada a um dos artistas mais amados e populares do século passado\, Edvard Munch. \nAo longo de sua carreira artística\, Edvard Munch explorou questões de significado existencial perene e desafiou as expressões da arte. Nesta ampla exposição\, a arte de Munch será explorada desde 1880 até sua morte em 1944. \nA mostra inclui 100 obras\, entre pinturas\, desenhos e gravuras\, todas provenientes do Museu MUNCH.
URL:https://artequeacontece.com.br/evento/munch-il-grido-interiore-no-palazzo-reale/
LOCATION:Palazzo Reale\, Piazza del Duomo\, 12\, Milão\, Itália
CATEGORIES:Milão
ATTACH;FMTTYPE=image/jpeg:https://artequeacontece.com.br/wp-content/uploads/2024/10/Edvard-Munch-The-Girls-on-the-Bridge-1927.jpg
END:VEVENT
BEGIN:VEVENT
DTSTART;TZID=America/Sao_Paulo:20240920T120000
DTEND;TZID=America/Sao_Paulo:20250202T193000
DTSTAMP:20260426T004503
CREATED:20241003T180253Z
LAST-MODIFIED:20241003T180333Z
UID:57822-1726833600-1738524600@artequeacontece.com.br
SUMMARY:"Picasso lo straniero" no Palazzo Reale
DESCRIPTION:Pablo Picasso\, VALLAURIS (detalhe)\, 1956 EXPOSITION\, Musée national Picasso-Paris RMN-Grand Palais / Adrien Didierjean © Succession Picasso by SIAE 2024\n\n\n\n\nSobre Picasso\, parece que já se escreveu tudo. Nenhum outro artista provocou tantos debates\, controvérsias e paixões. Mas quantos sabem quais obstáculos o jovem gênio teve de enfrentar quando chegou a Paris pela primeira vez\, em 1900\, sem falar uma palavra de francês? \nA exposição Picasso lo straniero apresenta mais de 90 obras do artista\, além de documentos\, fotografias\, cartas e vídeos\, oferecendo uma nova e audaciosa interpretação de Picasso\, abordando temas urgentes do nosso presente. Com uma abordagem multidisciplinar e uma extraordinária pesquisa nos arquivos da polícia francesa e do Museu Picasso em Paris\, Annie Cohen-Solal revela essa história fascinante a partir de inúmeros documentos inéditos. A ideia original do projeto surgiu de Annie Cohen-Solal\, curadora científica da exposição\, com a curadoria especial de Cécile Debray\, presidente do MNPP. \nUma exposição organizada pelo Comune di Milano – Cultura\, Palazzo Reale\, Marsilio Arte\, Musée national Picasso – Paris\, Palais de la Porte Dorée e Collection Musée Magnelli Musée de la Céramique\, Vallauris. \nCuradoria de Annie Cohen-Solal e Cécile Debray.
URL:https://artequeacontece.com.br/evento/picasso-lo-straniero-no-palazzo-reale/
LOCATION:Palazzo Reale\, Piazza del Duomo\, 12\, Milão\, Itália
CATEGORIES:Milão
ATTACH;FMTTYPE=image/jpeg:https://artequeacontece.com.br/wp-content/uploads/2024/10/dawsoncolefineart-pablo-picasso-vallauris-exhibition-1956-1-1-1.jpg
END:VEVENT
END:VCALENDAR