BEGIN:VCALENDAR
VERSION:2.0
PRODID:-//Arte Que Acontece - ECPv6.15.20//NONSGML v1.0//EN
CALSCALE:GREGORIAN
METHOD:PUBLISH
X-WR-CALNAME:Arte Que Acontece
X-ORIGINAL-URL:https://artequeacontece.com.br
X-WR-CALDESC:Eventos para Arte Que Acontece
REFRESH-INTERVAL;VALUE=DURATION:PT1H
X-Robots-Tag:noindex
X-PUBLISHED-TTL:PT1H
BEGIN:VTIMEZONE
TZID:America/Sao_Paulo
BEGIN:STANDARD
TZOFFSETFROM:-0300
TZOFFSETTO:-0300
TZNAME:-03
DTSTART:20240101T000000
END:STANDARD
END:VTIMEZONE
BEGIN:VEVENT
DTSTART;TZID=America/Sao_Paulo:20251120T140000
DTEND;TZID=America/Sao_Paulo:20260307T180000
DTSTAMP:20260419T142503
CREATED:20251211T134122Z
LAST-MODIFIED:20251211T134122Z
UID:66826-1763647200-1772906400@artequeacontece.com.br
SUMMARY:"Rodamoinho" de Marina Rheingantz no Fondazione ICA Milano
DESCRIPTION:Marina Rheingantz\, “Maritaca” 2025. Divulgação.\n  \nA exposição Rodamoinho\, da artista brasileira Marina Rheingantz (Araraquara\, São Paulo)\, apresentado pela Fondazione ICA Milano e com curadoria de Alberto Salvadori\, reúne um conjunto de obras recentes que expandem seu diálogo entre pintura e tecelagem\, entre abstração e a sedimentação da memória. \nEm suas pinturas\, Marina Rheingantz se expressa por meio da cor e do gesto\, permitindo que espaços e atmosferas em constante mutação surjam da superfície da tela. Espessas camadas de tinta a óleo\, em sua materialidade\, surgem como a urdidura de superfícies têxteis e a trama de uma paisagem. \nAs pinturas abstratas de Rheingantz confiam à cor e ao gesto a narração de lugares da memória pertencentes à própria biografia da artista que\, uma vez depositados como manchas e linhas sobre a tela\, tornam-se imagens universais\, mundos que todos podem imaginar e habitar.
URL:https://artequeacontece.com.br/evento/rodamoinho-de-marina-rheingantz-no-fondazione-ica-milano/
LOCATION:Fondazione ICA Milano\, Via Orobia\, 26\, Milão\, 20139\, Italy
CATEGORIES:Milão
ATTACH;FMTTYPE=image/jpeg:https://artequeacontece.com.br/wp-content/uploads/2025/12/Marina-Rheingantz_Maritaca_Ph.-Eduardo-Ortega.jpg
END:VEVENT
BEGIN:VEVENT
DTSTART;TZID=America/Sao_Paulo:20260120T150000
DTEND;TZID=America/Sao_Paulo:20260305T190000
DTSTAMP:20260419T142503
CREATED:20260213T204956Z
LAST-MODIFIED:20260213T204956Z
UID:68700-1768921200-1772737200@artequeacontece.com.br
SUMMARY:"Nessun boato" de Francesco Pacelli na Limbo Contemporary
DESCRIPTION:A galeria Limbo Contemporary apresenta Nessun boato\, exposição individual do artista italiano Francesco Pacelli\, proposta que explora o conceito do caos como princípio gerador de forma\, antes de qualquer ordem e organização perceptível. A mostra\, com curadoria de Anni Wu\, oferece uma experiência imersiva em que desenhos a óleo\, esculturas em bronze e instalações refletem sobre a origem\, a finitude e os mecanismos com que a mente humana constrói significado a partir do indeterminado. \nO título “Nessun boato” remete ao vácuo primordial e ao silêncio como espaços de criação\, convidando o público a um olhar atento e contemplativo sobre formas orgânicas e abstratas que pairam entre a materialidade e a projeção simbólica. A exposição aborda temas como o tempo cósmico\, a transição da matéria e as tensões entre corpo\, natureza e imaginação\, ampliando os limites da percepção sensorial no ambiente expositivo.
URL:https://artequeacontece.com.br/evento/nessun-boato-francesco-pacelli-milao-2026/
LOCATION:Limbo Contemporary
CATEGORIES:Milão
ATTACH;FMTTYPE=image/webp:https://artequeacontece.com.br/wp-content/uploads/2026/02/F_Pacelli_0189491.webp
END:VEVENT
BEGIN:VEVENT
DTSTART;TZID=America/Sao_Paulo:20260129T100000
DTEND;TZID=America/Sao_Paulo:20261109T190000
DTSTAMP:20260419T142503
CREATED:20260115T130005Z
LAST-MODIFIED:20251211T135721Z
UID:66830-1769680800-1794250800@artequeacontece.com.br
SUMMARY:"Over\, under and in between" de Mona Hatoum na Fondazione Prada
DESCRIPTION:Mona Hatoum\, “All of a quiver” 2025. Divulgação.\n  \n“Over\, under and in between” é um projeto site-specific concebido pela artista Mona Hatoum para o espaço em Milão\, que convida à reflexão sobre a instabilidade dos nossos tempos e a precariedade da existência. \nAs três instalações que compõem a exposição exploram alguns dos elementos definidores do vocabulário artístico de Hatoum: a teia de aranha\, o mapa e a grade. Sua presença reativa o espaço do edifício Cisterna\, que outrora abrigava os silos e tanques da antiga destilaria de álcool localizada dentro do complexo da Fondazione Prada. As três obras\, independentes entre si\, representam os conceitos de instabilidade\, perigo e fragilidade\, criando um diálogo com o espaço e\, em particular\, com a experiência física do visitante.
URL:https://artequeacontece.com.br/evento/over-under-and-in-between-de-mona-hatoum-na-fondazione-prada/
LOCATION:Fondazione Prada\, Largo Isarco\, 2\, Milão\, Itália
CATEGORIES:Milão
ATTACH;FMTTYPE=image/jpeg:https://artequeacontece.com.br/wp-content/uploads/2025/12/Mona-Hatoum_all-of-a-quiver.jpg
END:VEVENT
BEGIN:VEVENT
DTSTART;VALUE=DATE:20260207
DTEND;VALUE=DATE:20260928
DTSTAMP:20260419T142503
CREATED:20260401T161450Z
LAST-MODIFIED:20260401T161450Z
UID:70598-1770422400-1790553599@artequeacontece.com.br
SUMMARY:"The Women Alchemists" de Anselm Kiefer no Palazzo Reale de Milão
DESCRIPTION:O Palazzo Reale\, em Milão\, apresenta The Women Alchemists\, instalação site-specific de Anselm Kiefer composta por 42 grandes telas criadas especialmente para a Sala delle Cariatidi — espaço marcado pelas cicatrizes do bombardeio de 1943. Com curadoria de Gabriella Belli\, a obra homenageia mulheres alquimistas que dedicaram suas vidas ao conhecimento experimental antes da ciência moderna\, mas foram perseguidas\, silenciadas ou esquecidas. \nNas telas\, figuras femininas emergem da matéria pictórica como aparições — entre mito\, ciência\, magia e filosofia. Kiefer dá rosto a nomes como Caterina Sforza\, Isabella Cortese e Marie Meudrac\, mas também a mulheres praticamente desconhecidas\, tornando visível o que foi soterrado.
URL:https://artequeacontece.com.br/evento/the-women-alchemists-de-anselm-kiefer-no-palazzo-reale-de-milao/
LOCATION:Palazzo Reale\, Piazza del Duomo\, 12\, Milão\, Itália
CATEGORIES:Milão
ATTACH;FMTTYPE=image/png:https://artequeacontece.com.br/wp-content/uploads/2026/04/Kiefer-Le-Alchimiste-Palazzo-Reale-Milan-art-plugged_.png
END:VEVENT
BEGIN:VEVENT
DTSTART;VALUE=DATE:20260325
DTEND;VALUE=DATE:20260326
DTSTAMP:20260419T142503
CREATED:20260324T174820Z
LAST-MODIFIED:20260324T174820Z
UID:70246-1774396800-1774483199@artequeacontece.com.br
SUMMARY:Gabriella Garcia e Léa Dumayet na Orma
DESCRIPTION:Tout se tient reúne as pesquisas da brasileira Gabriella Garcia e da francesa Léa Dumayet em torno de uma questão central da escultura contemporânea: o que a matéria guarda\, transmite e transforma ao longo do tempo. \nTrabalhando com pedra\, fibras\, elementos naturais e superfícies construídas\, as duas artistas investigam a força simbólica dos materiais e a tensão entre fragilidade e resistência. Em vez de formas concluídas\, as obras se apresentam como processos sensíveis — capazes de atravessar épocas\, paisagens e imaginários\, e de reativar memórias profundas ligadas ao corpo\, à natureza e à história.
URL:https://artequeacontece.com.br/evento/gabriella-garcia-e-lea-dumayet-na-orma/
LOCATION:Orma\, Via dei Bossi 2/A\, Milão\, Italy
CATEGORIES:Milão
ATTACH;FMTTYPE=image/png:https://artequeacontece.com.br/wp-content/uploads/2026/03/Tout-se-tient-foto-allestimento.png
END:VEVENT
BEGIN:VEVENT
DTSTART;VALUE=DATE:20260326
DTEND;VALUE=DATE:20260509
DTSTAMP:20260419T142503
CREATED:20260408T235926Z
LAST-MODIFIED:20260408T235926Z
UID:70902-1774483200-1778284799@artequeacontece.com.br
SUMMARY:"Continuum" de Maria Kreyn na Robilant+Voena
DESCRIPTION:Robilant+Voena apresenta Continuum\, primeira exposição individual da americana Maria Kreyn em Milão. Novas pinturas de paisagem marítima são colocadas em diálogo com The Splügen Pass (c. 1842–43)\, aquarela suíça de J.M.W. Turner\, numa proposta de curadoria transhistórica que conecta dois olhares sobre o sublime da natureza separados por quase dois séculos. \nKreyn constrói composições que fundem paisagens tempestuosas com geometrias abstratas — mares agitados sobrepostos por marcações ovoides\, parabólicas ou lineares\, como o esboço de uma razão áurea ou o projeto de um desenho renascentista.
URL:https://artequeacontece.com.br/evento/continuum-maria-kreyn-milano/
LOCATION:Robilant+Voena\, Villa della Spiga 1\, Milão\, Italy
CATEGORIES:Milão
ATTACH;FMTTYPE=image/png:https://artequeacontece.com.br/wp-content/uploads/2026/04/Captura-de-Tela-2026-04-08-as-20.53.54.png
END:VEVENT
BEGIN:VEVENT
DTSTART;TZID=America/Sao_Paulo:20260326T103000
DTEND;TZID=America/Sao_Paulo:20260726T203000
DTSTAMP:20260419T142503
CREATED:20260417T194020Z
LAST-MODIFIED:20260417T194020Z
UID:71212-1774521000-1785097800@artequeacontece.com.br
SUMMARY:“The House That Jack Built”\, de Rirkrit Tiravanija
DESCRIPTION:Foto: Reprodução\nO Pirelli HangarBicocca apresenta “The House That Jack Built”\, uma retrospectiva dedicada ao artista Rirkrit Tiravanija\, com curadoria de Lucia Aspesi e Vicente Todolí. A mostra reúne cerca de três décadas de pesquisa do artista em torno de práticas espaciais e arquitetônicas. \nO título faz referência à tradicional rima infantil inglesa do século XVIII\, cuja estrutura cumulativa evidencia relações indiretas entre elementos e personagens. A partir dessa ideia\, Tiravanija propõe uma reflexão sobre autoria\, um tema recorrente em sua obra\, ao conceber a arquitetura como plataforma de uso\, definida não por sua forma\, mas pelas interações que abriga. \nA exposição apresenta o maior conjunto já realizado de estruturas arquitetônicas do artista\, muitas delas inspiradas em projetos de nomes centrais do modernismo\, como Le Corbusier\, Jean Prouvé e Philip Johnson. Ao reconfigurar essas referências\, Tiravanija altera suas funções originais e as insere em novos contextos\, ativando-as por meio da participação coletiva. \nAo longo do percurso\, a mostra se estrutura como uma sequência de situações em que o público assume papel central\, ativando as obras e transformando seus significados. Em muitas instalações\, a presença de “muitas pessoas” figura como elemento constitutivo\, incorporando o imprevisto e reforçando o caráter processual do trabalho. Mais do que uma retrospectiva\, “The House That Jack Built” se apresenta como um dispositivo vivo\, no qual formas e sentidos são continuamente reconfigurados a partir das experiências compartilhadas.
URL:https://artequeacontece.com.br/evento/rirkrit-tiravanija-the-house-that-jack-built-pirelli-hangarbicocca-milao/
LOCATION:Fondazione Pirelli HangarBicocca\, Via Chiese 2\, Milão\, Itália
CATEGORIES:Milão
ATTACH;FMTTYPE=image/jpeg:https://artequeacontece.com.br/wp-content/uploads/2026/04/Thumb_Bubble_the-house-the-cat-built.jpg
END:VEVENT
END:VCALENDAR