BEGIN:VCALENDAR
VERSION:2.0
PRODID:-//Arte Que Acontece - ECPv6.15.20//NONSGML v1.0//EN
CALSCALE:GREGORIAN
METHOD:PUBLISH
X-ORIGINAL-URL:https://artequeacontece.com.br
X-WR-CALDESC:Eventos para Arte Que Acontece
REFRESH-INTERVAL;VALUE=DURATION:PT1H
X-Robots-Tag:noindex
X-PUBLISHED-TTL:PT1H
BEGIN:VTIMEZONE
TZID:America/Sao_Paulo
BEGIN:STANDARD
TZOFFSETFROM:-0300
TZOFFSETTO:-0300
TZNAME:-03
DTSTART:20240101T000000
END:STANDARD
END:VTIMEZONE
BEGIN:VEVENT
DTSTART;TZID=America/Sao_Paulo:20250918T103000
DTEND;TZID=America/Sao_Paulo:20260111T203000
DTSTAMP:20260419T214839
CREATED:20250918T165258Z
LAST-MODIFIED:20250918T165258Z
UID:64990-1758191400-1768163400@artequeacontece.com.br
SUMMARY:"Entanglements" de Yuko Mohri no Pirelli HangarBicocca
DESCRIPTION:Yuko Mohri\, obra em exibição na mostra “Entanglements”\, Pirelli HangarBicocca\, Milão\, 2025 / Reprodução\n\n\n\n\nA entrada para a exposição é gratuita\, e a reserva online garante acesso prioritário no horário selecionado. Membros têm acesso prioritário mesmo sem reserva. \nDe 18 de setembro de 2025 a 11 de janeiro de 2026\, a Pirelli HangarBicocca apresentará “Entanglements”\, uma individual de Yuko Mohri (Kanagawa\, Japão\, 1980; vive e trabalha em Tóquio)\, artista japonesa cuja prática investiga o potencial transformador de objetos cotidianos e elementos naturais\, bem como sua capacidade de gerar deslocamentos visuais e sonoros. Por meio de assemblages efêmeras e sistemas interconectados\, ela chama a atenção do público para questões ambientais e sociais fundamentais. \nYuko Mohri é conhecida por suas composições intrincadas e originais\, recentemente apresentadas na Itália no Pavilhão do Japão da 60ª Bienal de Veneza (2024). Inspirada por Marcel Duchamp (1887–1968)\, Mohri cria esculturas cinéticas site-specific que incorporam objetos encontrados\, assim como instrumentos musicais retrabalhados conectados a circuitos eletrônicos. Suas obras respondem a fenômenos imperceptíveis\, transitórios e efêmeros\, como gravidade\, magnetismo\, calor e umidade. Elementos ambientais aleatórios e instáveis — como ar\, poeira\, resíduos e temperatura — moldam suas assemblages\, transformando-as em ecossistemas orgânicos onde o som desempenha papel central. \nEntanglements é a exposição individual mais extensa de Yuko Mohri até hoje em uma instituição europeia. O título evoca os vínculos invisíveis e as interações complexas que existem entre objetos\, forças\, sons e pessoas. A mostra investiga como cada elemento pertence a um sistema interconectado em que nada age de forma independente e tudo integra uma vasta rede de relações em constante evolução. As esculturas delicadamente equilibradas de Mohri revelam a complexidade latente das estruturas naturais e artificiais que constituem nosso mundo e o fluxo constante de energia que nos circunda. Por meio dos materiais que utiliza\, a artista introduz uma ironia sutil e uma dimensão lúdica quase escondida\, apoiando-se em referências culturais que vão da filosofia à cultura pop\, além de influências iconográficas e sonoras que variam da arte cinética à experimentação sonora. \nA exposição é acompanhada pela monografia mais abrangente já dedicada à prática de Yuko Mohri. O volume reúne ensaios de críticos e pesquisadores internacionais que acompanharam de perto sua carreira. Inclui uma visão geral de sua obra assinada pelo crítico de arte Ryo Sawayama; um ensaio do curador Martin Clark; e uma contribuição do curador Diego Sileo. Uma seleção de escritos da própria artista oferece uma perspectiva pessoal sobre sua relação com o som\, enquanto um texto dos curadores da mostra aprofunda o projeto expositivo no Pirelli HangarBicocca. Além disso\, um recurso único desenvolvido especificamente para esta publicação é o glossário\, que explora os principais temas da obra de Mohri e oferece uma nova ferramenta interpretativa para compreender sua linguagem artística em constante evolução. Por fim\, o catálogo inclui o mangá japonês Shōjo de Ran Kurumi\, que ilustra a trajetória artística de Mohri.
URL:https://artequeacontece.com.br/evento/entanglements-de-yuko-mohri-no-pirelli-hangarbicocca/
LOCATION:Fondazione Pirelli HangarBicocca\, Via Chiese 2\, Milão\, Itália
CATEGORIES:Milão
ATTACH;FMTTYPE=image/jpeg:https://artequeacontece.com.br/wp-content/uploads/2025/09/AGO9713-1-1.jpg
END:VEVENT
BEGIN:VEVENT
DTSTART;TZID=America/Sao_Paulo:20250920T100000
DTEND;TZID=America/Sao_Paulo:20260111T193000
DTSTAMP:20260419T214839
CREATED:20250918T124833Z
LAST-MODIFIED:20250918T124833Z
UID:64974-1758362400-1768159800@artequeacontece.com.br
SUMMARY:"Leonora Carrington" no Palazzo Reale
DESCRIPTION:Leonora Carrington\, “The Magical World of the Mayas”\, 1963. The Charles B. Goddard Center for Visual and Performing Arts\, Ardmore\, Oklahoma. © Leonora Carrington / DACS\, Artimage 2025 / SIAE\n\n\n\n\nEsta mostra é a primeira individual dedicada à obra de Leonora Carrington na Itália e pretende apresentar a artista como uma figura radicalmente poliedrica\, atravessando as múltiplas linguagens por ela experimentadas: pintura\, escrita\, teatro e pensamento crítico. \nAtravés de uma seleção de obras visionárias e materiais de arquivo\, a exposição explora seu universo imaginativo e intelectual\, no qual se fundem arte\, mitologia\, ecologia\, feminismo e espiritualidade. A mostra destaca o profundo vínculo que Carrington teve com a Itália\, desde a descoberta da arte renascentista em Florença nos anos de formação\, até revelar a complexidade de suas raízes culturais\, célticas e pós-vitorianas\, e sua participação no movimento surrealista. \nO percurso expositivo restitui a trajetória única de uma mulher artista\, migrante e exilada\, que fez da imaginação um instrumento de resistência e conhecimento. Carrington surge como pioneira do ecofeminismo e incansável exploradora da consciência\, capaz de dar vida a um mundo fantástico e subversivo no qual o cotidiano se entrelaça com a alquimia\, o conto de fadas e o inconsciente. \nA exposição inclui pinturas\, fotografias\, livros de sua biblioteca pessoal\, escritos e documentos inéditos\, oferecendo uma ocasião extraordinária para descobrir uma das figuras mais influentes e visionárias do século XX.
URL:https://artequeacontece.com.br/evento/leonora-carrington-no-palazzo-reale/
LOCATION:Palazzo Reale\, Piazza del Duomo\, 12\, Milão\, Itália
CATEGORIES:Milão
ATTACH;FMTTYPE=image/jpeg:https://artequeacontece.com.br/wp-content/uploads/2025/09/6_sfondo-evento_1920x1080-1.jpg
END:VEVENT
BEGIN:VEVENT
DTSTART;TZID=America/Sao_Paulo:20250923T100000
DTEND;TZID=America/Sao_Paulo:20260111T193000
DTSTAMP:20260419T214839
CREATED:20250918T155712Z
LAST-MODIFIED:20250918T155712Z
UID:64977-1758621600-1768159800@artequeacontece.com.br
SUMMARY:"Appiani. Il Neoclassicismo a Milano" no Palazzo Reale
DESCRIPTION:Andrea Appiani\, “Juno assistida pelas Graças (Toalete de Juno)”\, c. 1810-1812. Bréscia\, Pinacoteca Tosio Martinengo © Archivio Fotografico Musei Civici di Brescia-Fotostudio Rapuzzi\n\n\n\n \nDe 23 de setembro de 2025 a 11 de janeiro de 2026\, o Palazzo Reale recebe Appiani. Il Neoclassicismo a Milano em Milão\, uma importante mostra dedicada a Andrea Appiani (Milão\, 1754 – 1817)\, figura central do Neoclassicismo italiano e intérprete eminente da pintura entre o Iluminismo e a era napoleônica. \nPor meio de uma cuidadosa seleção de mais de 100 obras\, provenientes de coleções públicas e privadas italianas e estrangeiras\, a exposição reconstrói o percurso artístico de Andrea Appiani\, revelando ao público a riqueza e o dinamismo da Milão neoclássica\, da qual foi pintor-símbolo e “primeiro pintor” do Reino da Itália. \nA iniciativa é apoiada pela Fondazione Bracco e pela Biofer Spa e integra o programa da Olimpíada Cultural de Milão-Cortina 2026. \nA mostra é acompanhada por um catálogo abrangente publicado pela Electa\, que reúne ensaios introdutórios\, análises críticas e fichas científicas das obras expostas.
URL:https://artequeacontece.com.br/evento/appiani-il-neoclassicismo-a-milano-no-palazzo-reale/
LOCATION:Palazzo Reale\, Piazza del Duomo\, 12\, Milão\, Itália
CATEGORIES:Milão
ATTACH;FMTTYPE=image/png:https://artequeacontece.com.br/wp-content/uploads/2025/09/immagine-2025-09-05-065216.png
END:VEVENT
BEGIN:VEVENT
DTSTART;TZID=America/Sao_Paulo:20250924T100000
DTEND;TZID=America/Sao_Paulo:20260111T193000
DTSTAMP:20260419T214839
CREATED:20250918T163148Z
LAST-MODIFIED:20250918T163148Z
UID:64985-1758708000-1768159800@artequeacontece.com.br
SUMMARY:"Man Ray: Forme di luce" no Palazzo Reale
DESCRIPTION:Man Ray\, “Teardrop”\, anos 1930. Reprodução\n\n\n\n \nMan Ray é sem dúvida um dos grandes protagonistas da arte do século XX. Foi um dos primeiros a utilizar a fotografia como um verdadeiro meio criativo\, realizando obras emblemáticas que entraram para a história da arte do Novecento. \nA retrospectiva em cartaz de 24 de setembro de 2025 a 11 de janeiro de 2026 no Palazzo Reale permitirá ao público percorrer as etapas biográficas e da carreira de Man Ray. Graças a um importante núcleo de materiais originais (provas vintage\, negativos\, colagens\, documentos)\, é possível acompanhar a trajetória de Man Ray desde seu nascimento (1890\, na Filadélfia)\, passando pelos ambientes nova-iorquinos onde descobre as vanguardas europeias e faz amizade com Marcel Duchamp\, até sua chegada a Paris em 1921. \nEm Paris\, foi acolhido pelos poetas André Breton\, Louis Aragon e Paul Éluard\, e conheceu a cantora e modelo Kiki de Montparnasse\, sua amada e musa\, criando fotografias imortais como Noire et blanche ou Le Violon d’Ingres. Mais tarde\, se dedicará ao mundo da moda e à realização das famosas “rayografias” e “solarizações”. De volta aos Estados Unidos em 1940\, retornará a Paris em 1951\, onde permanecerá até sua morte em 1976. \nAtravés de um percurso temático (os autorretratos\, as musas\, os nus\, as rayografias e solarizações\, a moda)\, esta mostra propõe redescobrir um artista único em seu gênero e um pioneiro genial.
URL:https://artequeacontece.com.br/evento/man-ray-forme-di-luce-no-palazzo-reale/
LOCATION:Palazzo Reale\, Piazza del Duomo\, 12\, Milão\, Itália
CATEGORIES:Milão
ATTACH;FMTTYPE=image/png:https://artequeacontece.com.br/wp-content/uploads/2025/09/image-11-1.png
END:VEVENT
BEGIN:VEVENT
DTSTART;TZID=America/Sao_Paulo:20250927T120000
DTEND;TZID=America/Sao_Paulo:20251108T190000
DTSTAMP:20260419T214839
CREATED:20250918T184822Z
LAST-MODIFIED:20250918T184822Z
UID:64993-1758974400-1762628400@artequeacontece.com.br
SUMMARY:"Oliver Osborne. The Sleeping Guard" na ICA Milão
DESCRIPTION:Oliver Osborne\, “Portrait of the Artist’s Son III”\, 2023. Cortesia do artista\n\n\n\n\n\n\n\n\n\n\n\n\n\n\nNavegando entre a figuração e a abstração\, Oliver Osborne (Escócia\, 1985) apresenta uma exposição que abrange os últimos dez anos de sua prática artística. Inspirado pelo estudo da história da arte\, Osborne investiga as possibilidades conceituais da pintura ao longo do tempo\, variando de figuras extraídas das tradições do retrato até membros de sua própria família. As obras em The Sleeping Guard fazem referência a uma ampla gama de fontes — do afresco A Libertação de São Pedro\, de Filippino Lippi (c. 1481)\, na Capela Brancacci em Florença\, ao retrato fotográfico de Michel Majerus feito por Albrecht Fuchs (1996) — e incluem os próprios filhos de Osborne como sujeitos e protagonistas de sua pesquisa. Ao transitar entre a história e o âmbito pessoal\, o artista questiona como a pintura pode persistir no século XXI\, em um tempo em que o mundo digital alterou radicalmente as condições temporais e espaciais que definem a prática artística. \nA monografia do artista\, Recent Painting\, será lançada pela DISTANZ em outubro de 2025 e apresentada oficialmente em novembro na Fondazione ICA Milano.
URL:https://artequeacontece.com.br/evento/oliver-osborne-the-sleeping-guard-na-ica-milao/
LOCATION:ICA Milão\, Via Orobia 26\, Milão\, Itália
CATEGORIES:Milão
ATTACH;FMTTYPE=image/jpeg:https://artequeacontece.com.br/wp-content/uploads/2025/09/thumb-1.jpeg
END:VEVENT
BEGIN:VEVENT
DTSTART;TZID=America/Sao_Paulo:20250927T120000
DTEND;TZID=America/Sao_Paulo:20251108T190000
DTSTAMP:20260419T214839
CREATED:20250918T193156Z
LAST-MODIFIED:20250918T193156Z
UID:64996-1758974400-1762628400@artequeacontece.com.br
SUMMARY:"Lewis Hammond. Black Milk" na ICA Milão
DESCRIPTION:Lewis Hammond\, “Untitled (empty altar)”\, 2025. Cortesia do artista e Arcadia Missa\, Londres. Fotografia de Tom Carter\n\n\n\n\n\n\n\n\n\n\n\n\n\n\nConstruindo um percurso que transforma o espaço arquitetônico da fundação e sua percepção\, Black Milk reúne uma seleção de 20 pinturas de Lewis Hammond (Reino Unido\, 1987)\, concebidas especialmente para esta exposição entre o final de 2024 e 2025. Apresentadas no piso térreo\, as obras refletem o interesse contínuo do artista pela história da pintura e sua interseção com a fé — entendida em suas dimensões mais transformadoras e sociais. Visionária e por vezes surreal\, a prática de Hammond transita entre o pessoal e o coletivo\, dialogando com a história da arte e sua relação com a fé. Seja em crenças esotéricas\, na confiança depositada nos outros\, em vínculos sociais ou românticos\, no medo ou na esperança\, no centro de sua obra está uma questão aberta: onde reside a nossa esperança hoje? Um sentimento que atravessa não apenas a intimidade\, mas também os sistemas sociais\, políticos e econômicos. Em quem — e no quê — escolhemos acreditar? E o que significa perder a fé — e a esperança?
URL:https://artequeacontece.com.br/evento/lewis-hammond-black-milk-na-ica-milao/
LOCATION:ICA Milão\, Via Orobia 26\, Milão\, Itália
CATEGORIES:Milão
ATTACH;FMTTYPE=image/jpeg:https://artequeacontece.com.br/wp-content/uploads/2025/09/thumb-2-1-1.jpeg
END:VEVENT
BEGIN:VEVENT
DTSTART;TZID=America/Sao_Paulo:20251120T140000
DTEND;TZID=America/Sao_Paulo:20260307T180000
DTSTAMP:20260419T214839
CREATED:20251211T134122Z
LAST-MODIFIED:20251211T134122Z
UID:66826-1763647200-1772906400@artequeacontece.com.br
SUMMARY:"Rodamoinho" de Marina Rheingantz no Fondazione ICA Milano
DESCRIPTION:Marina Rheingantz\, “Maritaca” 2025. Divulgação. \n  \nA exposição Rodamoinho\, da artista brasileira Marina Rheingantz (Araraquara\, São Paulo)\, apresentado pela Fondazione ICA Milano e com curadoria de Alberto Salvadori\, reúne um conjunto de obras recentes que expandem seu diálogo entre pintura e tecelagem\, entre abstração e a sedimentação da memória. \nEm suas pinturas\, Marina Rheingantz se expressa por meio da cor e do gesto\, permitindo que espaços e atmosferas em constante mutação surjam da superfície da tela. Espessas camadas de tinta a óleo\, em sua materialidade\, surgem como a urdidura de superfícies têxteis e a trama de uma paisagem. \nAs pinturas abstratas de Rheingantz confiam à cor e ao gesto a narração de lugares da memória pertencentes à própria biografia da artista que\, uma vez depositados como manchas e linhas sobre a tela\, tornam-se imagens universais\, mundos que todos podem imaginar e habitar.
URL:https://artequeacontece.com.br/evento/rodamoinho-de-marina-rheingantz-no-fondazione-ica-milano/
LOCATION:Fondazione ICA Milano\, Via Orobia\, 26\, Milão\, 20139\, Italy
CATEGORIES:Milão
ATTACH;FMTTYPE=image/jpeg:https://artequeacontece.com.br/wp-content/uploads/2025/12/Marina-Rheingantz_Maritaca_Ph.-Eduardo-Ortega.jpg
END:VEVENT
END:VCALENDAR