BEGIN:VCALENDAR
VERSION:2.0
PRODID:-//Arte Que Acontece - ECPv6.15.20//NONSGML v1.0//EN
CALSCALE:GREGORIAN
METHOD:PUBLISH
X-WR-CALNAME:Arte Que Acontece
X-ORIGINAL-URL:https://artequeacontece.com.br
X-WR-CALDESC:Eventos para Arte Que Acontece
REFRESH-INTERVAL;VALUE=DURATION:PT1H
X-Robots-Tag:noindex
X-PUBLISHED-TTL:PT1H
BEGIN:VTIMEZONE
TZID:America/Sao_Paulo
BEGIN:STANDARD
TZOFFSETFROM:-0300
TZOFFSETTO:-0300
TZNAME:-03
DTSTART:20240101T000000
END:STANDARD
END:VTIMEZONE
BEGIN:VEVENT
DTSTART;TZID=America/Sao_Paulo:20251105T100000
DTEND;TZID=America/Sao_Paulo:20260316T170000
DTSTAMP:20260419T181055
CREATED:20251204T132523Z
LAST-MODIFIED:20251204T132523Z
UID:66539-1762336800-1773680400@artequeacontece.com.br
SUMMARY:"Hiba Schahbaz: The Garden" no Museum of Contemporary Art North Miami
DESCRIPTION:Hiba Schahbaz\, exposição “The Garden”. 2025. Imagens da instalação: Zachary Balber\n  \nConheço a realidade do paraíso\, mas \nPara manter o coração feliz\, Ghalib\, este pensamento é agradável. \n– Ustad Mirza Ghalib\, meados do século XIX \n  \nAbrangendo mais de quinze anos\, Hiba Schahbaz: O Jardim é a primeira grande retrospectiva da artista paquistanesa-americana Hiba Schahbaz. A exposição reúne temas recorrentes no léxico visual de Schahbaz: alegoria global\, um olhar feminista direto e seres fantásticos que percorrem os reinos elementares da terra\, do fogo\, do vento\, do céu e do mar\, ao lado de intervenções arquitetônicas humanas. Coletivamente\, esta seleção de pinturas forma um ambiente que convida os espectadores a adentrar os vastos mundos imaginados da artista. \nA exposição é estruturada conceitualmente pela ideia do jannat\, ou “Jardim do Paraíso” — um espaço idílico mencionado na tradição islâmica e na poesia sufi do Oriente Médio e do Sul da Ásia. Embora enraizado nessas tradições\, o Jardim do Paraíso é uma estrutura que ressoa em diversas culturas e práticas espirituais. Os jardins\, enquanto locais de refúgio\, abundância e transcendência\, são um fenómeno global\, e estas ressonâncias estão intrinsecamente ligadas à prática de Schahbaz através da sua linguagem visual em constante evolução.
URL:https://artequeacontece.com.br/evento/hiba-schahbaz-the-garden-no-museum-of-contemporary-art-north-miami/
LOCATION:Museum of Contemporary Art North Miami\, 770 NE 125 Street\, Miami\, 33161\, United States
CATEGORIES:Miami
ATTACH;FMTTYPE=image/jpeg:https://artequeacontece.com.br/wp-content/uploads/2025/12/Hiba-Schahbaz-The-Garden.jpg
END:VEVENT
BEGIN:VEVENT
DTSTART;TZID=America/Sao_Paulo:20251112T110000
DTEND;TZID=America/Sao_Paulo:20260404T160000
DTSTAMP:20260419T181055
CREATED:20251203T185456Z
LAST-MODIFIED:20251203T185456Z
UID:66532-1762945200-1775318400@artequeacontece.com.br
SUMMARY:"Pop Art" na The Marguilles Collection at the WAREHOUSE
DESCRIPTION:Roy Lichtenstein\, “Hot Dog”\, 1963. Divulgação.\n  \nOs artistas do movimento da Pop Art responderam à ascensão da produção comercial em massa após a Segunda Guerra Mundial reproduzindo objetos comuns ou utilizando objetos encontrados em suas obras. A exposição abrange o movimento americano e apresenta elementos únicos da história dos Estados Unidos\, incluindo um vagão de metrô de Nova York na obra Subway (1968) de George Segal\, partes de um vagão destruído na obra Dee Dee Bitch (1976) de George Chamberlain e Hot Dog (1963) de George Lichtenstein. Muitas dessas obras raramente vistas vêm de coleções particulares e chegam ao Warehouse para a temporada 2025-26. Para a exposição\, o colecionador Martin Z. Margulies e a curadora de longa data Katherine Hinds criaram uma experiência imersiva que começa com um longo hall de entrada cinza\, que se abre para um espaço amplo\, porém intimista\, com uma parede preta do chão ao teto na obra Depression Breadline (1991) de George Segal.
URL:https://artequeacontece.com.br/evento/pop-art-na-the-marguilles-collection-at-the-warehouse/
LOCATION:The Margulies Collection at the WAREhOUSE\, 591 NW 27th St Wynwood Art District\, Miami\, Flórida\, Estados Unidos
CATEGORIES:Miami
ATTACH;FMTTYPE=image/jpeg:https://artequeacontece.com.br/wp-content/uploads/2025/12/card-5.-pop-art-Roy-Lichtenstein-Hot-Dog-1963.jpeg
END:VEVENT
END:VCALENDAR