BEGIN:VCALENDAR
VERSION:2.0
PRODID:-//Arte Que Acontece - ECPv6.15.20//NONSGML v1.0//EN
CALSCALE:GREGORIAN
METHOD:PUBLISH
X-ORIGINAL-URL:https://artequeacontece.com.br
X-WR-CALDESC:Eventos para Arte Que Acontece
REFRESH-INTERVAL;VALUE=DURATION:PT1H
X-Robots-Tag:noindex
X-PUBLISHED-TTL:PT1H
BEGIN:VTIMEZONE
TZID:America/Sao_Paulo
BEGIN:STANDARD
TZOFFSETFROM:-0300
TZOFFSETTO:-0300
TZNAME:-03
DTSTART:20250101T000000
END:STANDARD
END:VTIMEZONE
BEGIN:VEVENT
DTSTART;TZID=America/Sao_Paulo:20260128T100000
DTEND;TZID=America/Sao_Paulo:20260406T170000
DTSTAMP:20260419T162054
CREATED:20260204T131958Z
LAST-MODIFIED:20260213T031036Z
UID:68543-1769594400-1775494800@artequeacontece.com.br
SUMMARY:"Antonio Scaccabarozzi: Diafanés" no Museo Fortuny Venezia
DESCRIPTION:Antonio Scaccabarozzi\, “Essenziali Essenziale”\, 1991.\nDiafanés dedica-se ao diálogo entre a obra e o olhar que a transcende. Através do conceito do diáfano\, a exposição pretende permitir a emergência de afinidades linguísticas e metodológicas entre a pesquisa artística de um dos protagonistas da arte neoconcreta e conceitual italiana entre os anos 1970 e o novo milênio\, Antonio Scaccabarozzi\, e a investigação eclética e exuberante de seu anfitrião\, Mariano Fortuny. Composta por obras leves\, translúcidas\, coloridas e transparentes\, a exposição entrelaça artes visuais com a semiótica e a fenomenologia da imagem\, convidando o público a embarcar numa intensa jornada de investigação da obra de Scaccabarozzi. A mostra centra-se nos trabalhos realizados entre a década de 1980 e o início dos anos 2000\, período em que o artista começou a utilizar primeiro o acetato e depois o polietileno como suportes preferenciais para a criação de eventos no espaço pictórico e como locais de exploração das relações entre arquitetura\, observador e obra. Fascinado pela sua leveza\, transparência e versatilidade\, Scaccabarozzi viu no polietileno o meio que lhe permitia abordar o problema da visão e os seus limites\, a consideração do duplo\, da frente e do verso da pintura e a sua relação e extensão no espaço num novo patamar\, ao ponto de a tornar autónoma e independente de todas as outras técnicas artísticas. \n— Museo Fortuny. \n 
URL:https://artequeacontece.com.br/evento/antonio-scaccabarozzi-diafanes-no-museo-fortuny-venezia/
LOCATION:Museo Fortuny\, San Marco 3958\, Veneza\, 30124\, Italy
CATEGORIES:Veneza
ATTACH;FMTTYPE=image/jpeg:https://artequeacontece.com.br/wp-content/uploads/2026/02/13_Essenziali-Essenziale-con-ombre-pittoriche-acrilico-e-mastice-rinforzati-1991-cm.-41x79-1.jpg
END:VEVENT
END:VCALENDAR