BEGIN:VCALENDAR
VERSION:2.0
PRODID:-//Arte Que Acontece - ECPv6.15.20//NONSGML v1.0//EN
CALSCALE:GREGORIAN
METHOD:PUBLISH
X-ORIGINAL-URL:https://artequeacontece.com.br
X-WR-CALDESC:Eventos para Arte Que Acontece
REFRESH-INTERVAL;VALUE=DURATION:PT1H
X-Robots-Tag:noindex
X-PUBLISHED-TTL:PT1H
BEGIN:VTIMEZONE
TZID:America/Sao_Paulo
BEGIN:STANDARD
TZOFFSETFROM:-0300
TZOFFSETTO:-0300
TZNAME:-03
DTSTART:20240101T000000
END:STANDARD
END:VTIMEZONE
BEGIN:VEVENT
DTSTART;TZID=America/Sao_Paulo:20251022T110000
DTEND;TZID=America/Sao_Paulo:20271031T180000
DTSTAMP:20260419T175016
CREATED:20251021T141526Z
LAST-MODIFIED:20251021T141526Z
UID:65761-1761130800-1825005600@artequeacontece.com.br
SUMMARY:"Brasil das Múltiplas Faces" no Itaú Cultural
DESCRIPTION:Emiliano di Cavalcanti\, “Vendedoras de Peixe” 1952. Divulgação.\nCom início dia 22\, exposição ocupa novo piso do Itaú Cultural com obras da considerada maior coleção corporativa de arte da América Latina \nA exposição “Brasil das Múltiplas Faces” marca a inauguração de um novo ambiente para visitação no prédio do Itaú Cultural\, em São Paulo. A partir do dia 22 de outubro\, o Espaço Milú Villela – Brasiliana: Arte Moderna e Contemporânea oferece ao público mostras de longa duração focadas nas artes moderna e contemporânea produzida no país e que compõem o Acervo Itaú Unibanco. \nO novo espaço está localizado no 7º piso do prédio da Avenida Paulista e conta com 280 metros quadrados. Ao lado do Espaço Olavo Setubal\, que abriga a Brasiliana\, e do Espaço Herculano Pires\, com a Numismática\, a instituição agora oferece quatro pisos permanentes para mostras desta que é considerada a maior coleção corporativa de arte da América Latina\, e segue em busca de ampliar o seu acesso ao público. \nA curadoria da exposição é assinada por Agnaldo Farias\, com concepção e realização da equipe Itaú Cultural e arquitetura de Daniel Winnik. O nome dado ao espaço homenageia Milú Villela\, que presidiu e expandiu o Itaú Cultural durante 18 anos\, de 2001 a 2019\, e o Museu de Arte Moderna de São Paulo (MAM/SP)\, entre 1995 e 2019. Psicóloga\, gestora cultural e filantropa\, Milú​ dedicou sua vida à democratização do acesso à arte e à cultura. \n‍ Por sua vez\, o nome Brasil das Múltiplas Faces\, que batiza a exposição inaugural deste espaço\, dá pistas do que o público está para mergulhar em uma espécie de contação das várias histórias e visões do país. Através de uma narrativa que trabalha com o conceito de arte múltipla\, a mostra busca mostrar a complexidade do Brasil com um olhar que desafia a visão tradicional. \n  \n  \n  \n  \n  \n  \n  \n  \n  \n 
URL:https://artequeacontece.com.br/evento/brasil-das-multiplas-faces-no-itau-cultural/
LOCATION:Itaú Cultural\, 149 Av. Paulista Bela Vista\, São Paulo\, São Paulo\, Brasil
CATEGORIES:São Paulo
ATTACH;FMTTYPE=image/jpeg:https://artequeacontece.com.br/wp-content/uploads/2025/10/42_VendedorasDePeixe_1952_EmilianoDiCavalcanti_FotoJoaoLMusa.jpg
END:VEVENT
END:VCALENDAR