BEGIN:VCALENDAR
VERSION:2.0
PRODID:-//Arte Que Acontece - ECPv6.15.20//NONSGML v1.0//EN
CALSCALE:GREGORIAN
METHOD:PUBLISH
X-ORIGINAL-URL:https://artequeacontece.com.br
X-WR-CALDESC:Eventos para Arte Que Acontece
REFRESH-INTERVAL;VALUE=DURATION:PT1H
X-Robots-Tag:noindex
X-PUBLISHED-TTL:PT1H
BEGIN:VTIMEZONE
TZID:America/Sao_Paulo
BEGIN:STANDARD
TZOFFSETFROM:-0300
TZOFFSETTO:-0300
TZNAME:-03
DTSTART:20250101T000000
END:STANDARD
END:VTIMEZONE
BEGIN:VEVENT
DTSTART;VALUE=DATE:20260324
DTEND;VALUE=DATE:20260604
DTSTAMP:20260423T122155
CREATED:20260323T220352Z
LAST-MODIFIED:20260401T171123Z
UID:70132-1774310400-1780531199@artequeacontece.com.br
SUMMARY:Miguel Afa em Galeria Rhinoceros
DESCRIPTION:A Galeria Rhinoceros exibe O tempo que vive em mim\, de Miguel Afa. A exposição conta com pinturas inéditas produzidas durante residência artística na galeria rhinoceros. Concebidas especialmente para a mostra\, as obras são exibidas pela primeira vez e refletem experiências vividas entre o Rio de Janeiro e a capital italiana. \nA série investiga as relações entre vida\, memória e lugar\, articulando cenas do cotidiano e construções afetivas. Como afirma o artista\, “memória é um corpo: saudade é um quintal”\, sintetizando a ideia de um território íntimo onde experiências e lembranças se entrelaçam. \n 
URL:https://artequeacontece.com.br/evento/miguel-afa-em-galeria-rhinoceros/
LOCATION:Galeria Rhinoceros\, Via del Velabro\, 9\, Roma\, Italy
CATEGORIES:Destaque,Roma
ATTACH;FMTTYPE=image/png:https://artequeacontece.com.br/wp-content/uploads/2026/03/Captura-de-Tela-2026-03-23-as-18.57.36.png
END:VEVENT
END:VCALENDAR