BEGIN:VCALENDAR
VERSION:2.0
PRODID:-//Arte Que Acontece - ECPv6.15.20//NONSGML v1.0//EN
CALSCALE:GREGORIAN
METHOD:PUBLISH
X-WR-CALNAME:Arte Que Acontece
X-ORIGINAL-URL:https://artequeacontece.com.br
X-WR-CALDESC:Eventos para Arte Que Acontece
REFRESH-INTERVAL;VALUE=DURATION:PT1H
X-Robots-Tag:noindex
X-PUBLISHED-TTL:PT1H
BEGIN:VTIMEZONE
TZID:America/Sao_Paulo
BEGIN:STANDARD
TZOFFSETFROM:-0300
TZOFFSETTO:-0300
TZNAME:-03
DTSTART:20240101T000000
END:STANDARD
END:VTIMEZONE
BEGIN:VEVENT
DTSTART;TZID=America/Sao_Paulo:20250531T110000
DTEND;TZID=America/Sao_Paulo:20260531T180000
DTSTAMP:20260423T180924
CREATED:20250630T215720Z
LAST-MODIFIED:20250630T215720Z
UID:63469-1748689200-1780250400@artequeacontece.com.br
SUMMARY:"Nossa Vida Bantu" no Museu de Arte do Rio
DESCRIPTION:Márcia Falcão\, “Jogo 2”\, da série Capoeira em Paleta. Foto: Rafael Salim\n\n\n\n\nO Museu de Arte do Rio (MAR) lança a sua nova exposição “Nossa Vida Bantu” no sábado\, dia 31 de maio. A principal mostra do ano do MAR ressalta o papel significativo que os povos de diversos países africanos\, denominados sob o termo linguístico “bantus”\, tiveram na formação cultural brasileira e na identidade nacional. Expressões como\, “dengo”\, “caçula”\, “farofa”; as congadas e folias; as tecnologias da metalurgia e do couro são algumas das expressões culturais que herdamos e recriamos da cultura bantu. Apresentada pelo Instituto Cultural Vale\, com curadoria de Marcelo Campos e Amanda Bonan junto ao curador convidado Tiganá Santana\, a mostra contou também com a colaboração de consultores\, como Salloma Salomão\, Abreu Paxe\, Wanderson Flor e Margarida Petter.
URL:https://artequeacontece.com.br/evento/nossa-vida-bantu-no-museu-de-arte-do-rio/
LOCATION:Museu de Arte do Rio\, Praça Mauá\, 5 - Centro\, Rio de Janeiro\, RJ\, Brasil
CATEGORIES:Rio de Janeiro
ATTACH;FMTTYPE=image/jpeg:https://artequeacontece.com.br/wp-content/uploads/2025/06/MFA00195_Marcia-Falcao_Jogo-2-da-Serie-Capoeira-em-Paleta-Alta_Ph.-Rafael-Salim_DDM-1-1-1980x1323-1.jpg
END:VEVENT
BEGIN:VEVENT
DTSTART;TZID=America/Sao_Paulo:20251022T100000
DTEND;TZID=America/Sao_Paulo:20271122T190000
DTSTAMP:20260423T180924
CREATED:20251021T145123Z
LAST-MODIFIED:20251021T145123Z
UID:65763-1761127200-1826910000@artequeacontece.com.br
SUMMARY:"Costurar os sentidos" na Anita Schwartz Galeria de Arte
DESCRIPTION:Arthur Chaves. “Sem título”\, 2024. Divulgação. \nBordado\, tecido\, pintura\, colagem e poesia se entrelaçam em Costurar Sentidos\, exposição coletiva que será inaugurada no dia 22 de outubro de 2025\, às 19h\, no 2º piso da Anita Schwartz Galeria de Arte\, sob a curadoria de Cecília Fortes. A mostra reúne obras têxteis e derivações da costura como eixo central de criação\, explorando o gesto de costurar como metáfora de identidade\, memória e afeto. \n“São trabalhos permeados por motivos relacionados à construção e à afirmação de identidade\, ao resgate de memórias afetivas e à ressignificação de sentidos. Falam de questões sociais e temas sensíveis aos autores\, ao mesmo tempo em que expressam as suas origens e o caminho percorrido ao longo da jornada pessoal e artística”\, afirma Cecília Fortes. \nParticipam da exposição Arthur Chaves\, Dani Cavalier\, Duda Moraes\, Jeane Terra\, Renato Bezerra de Mello\, Rosana Palazyan e Yolanda Freyre. A seleção\, inicialmente orientada pela técnica\, acabou revelando pontos de convergência poética entre as obras\, que dialogam com o universo da costura e suas ressonâncias simbólicas. \n  \n  \n  \n  \n  \n  \n  \n  \n 
URL:https://artequeacontece.com.br/evento/costurar-os-sentidos-na-anita-schwartz/
LOCATION:Anita Schwartz Galeria de Arte\, R. José Roberto Macedo Soares\, 30\, Rido de Janeiro\, RJ\, Brasil
CATEGORIES:Rio de Janeiro
ATTACH;FMTTYPE=image/jpeg:https://artequeacontece.com.br/wp-content/uploads/2025/10/Arthur-Chaves.jpg
END:VEVENT
BEGIN:VEVENT
DTSTART;TZID=America/Sao_Paulo:20251022T100000
DTEND;TZID=America/Sao_Paulo:20271122T190000
DTSTAMP:20260423T180924
CREATED:20251021T150428Z
LAST-MODIFIED:20251021T150428Z
UID:65769-1761127200-1826910000@artequeacontece.com.br
SUMMARY:"Aparição" na Anita Schwartz Galeria de Arte
DESCRIPTION:Pedro Varela\, “Formigueiro” s.d. Divulgação. \nA Anita Schwartz Galeria de Arte inaugura\, em 22 de outubro de 2025\, às 19h\, a mostra Aparição\, individual de Pedro Varela\, com curadoria de Cecília Fortes. A exposição reúne pinturas inéditas\, além de uma instalação criada especialmente para o espaço da galeria. \nConhecido por investigar a cultura de massa e o imaginário digital\, Varela se afasta\, nesta nova fase\, do universo dos memes e das imagens das redes sociais para mergulhar em uma dimensão mais íntima e subjetiva\, marcada por questões de identidade\, medo e angústia. “É uma virada na minha produção”\, afirma o artista. “Aquelas inquietações que antes apareciam mediadas por ícones da cultura de internet agora surgem de forma direta\, como aparições que emergem do inconsciente.” \nSegundo a curadora Cecília Fortes\, “as obras apresentadas em Aparição dão continuidade à pesquisa de Pedro Varela sobre a geração ansiosa\, que sofre de insônia e vive imersa em pensamentos. O artista retoma a série de florestas\, agora numa paleta em preto e branco\, e nelas incorpora figuras fantasmagóricas e formigueiros de palavras\, que provocam o espectador. De forma irônica\, Varela desafia a norma estética do bom gosto e joga com dualidades como luz e sombra\, claro e escuro\, belo e caricato. Numa época de excessos\, destaque para uma grande instalação de recortes em branco sobre branco\, uma proposição de silêncio e pausa em contraposição ao turbilhão de estímulos vivenciados pela sociedade contemporânea.” \n  \n  \n  \n  \n  \n  \n  \n  \n 
URL:https://artequeacontece.com.br/evento/aparicao-na-anita-schwartz-galeria-de-arte/
LOCATION:Anita Schwartz Galeria de Arte\, R. José Roberto Macedo Soares\, 30\, Rido de Janeiro\, RJ\, Brasil
CATEGORIES:Rio de Janeiro
ATTACH;FMTTYPE=image/jpeg:https://artequeacontece.com.br/wp-content/uploads/2025/10/Formigueiro-Pedro-Varela.jpg
END:VEVENT
BEGIN:VEVENT
DTSTART;VALUE=DATE:20260312
DTEND;VALUE=DATE:20260531
DTSTAMP:20260423T180924
CREATED:20260316T123812Z
LAST-MODIFIED:20260316T123907Z
UID:69726-1773273600-1780185599@artequeacontece.com.br
SUMMARY:"(como me apaixonei por uma linha)" de Emilio Azevedo na Danielian
DESCRIPTION:A Danielian Rio de Janeiro apresenta a exposição (como me apaixonei por uma linha)\, primeira mostra individual de Emilio Azevedo no Brasil. O conjunto de trabalhos nasce de uma investigação sobre os modos como o território amazônico foi historicamente transformado em imagem.  \nA partir dessa questão\, o artista percorre os rastros deixados por Marechal Rondon\, figura central na expansão territorial brasileira\, cujas marcas permanecem tanto no estado que leva seu nome quanto na memória institucional do Exército. Com curadoria de Fernanda Brenner\, a exposição propõe um olhar crítico sobre os processos de representação da Amazônia. 
URL:https://artequeacontece.com.br/evento/como-me-apaixonei-por-uma-linha-de-emilio-azevedo-na-danielian/
LOCATION:Danielian Rio de Janeiro\, Rua Major Rubens Vaz\, 414 - Gávea\, Rio de Janeiro\, Brazil
CATEGORIES:Rio de Janeiro
ATTACH;FMTTYPE=image/png:https://artequeacontece.com.br/wp-content/uploads/2026/03/linkezine.png
END:VEVENT
BEGIN:VEVENT
DTSTART;VALUE=DATE:20260314
DTEND;VALUE=DATE:20260615
DTSTAMP:20260423T180924
CREATED:20260316T125431Z
LAST-MODIFIED:20260316T125431Z
UID:69734-1773446400-1781481599@artequeacontece.com.br
SUMMARY:"Tecendo histórias – arte têxtil latino-americana" no Sesc Tijuca
DESCRIPTION:A exposição Tecendo histórias – arte têxtil latino-americana reúne no Sesc Tijuca obras de artistas e coletivos da Argentina\, Brasil\, Guatemala e Peru que investigam o potencial contemporâneo das práticas têxteis. A mostra apresenta trabalhos de Ana Tereza Barboza\, Angelica Serech\, Cláu Epiphanio\, Claudia Lara\, iahra\, Karine de Souza\, Laís Domingues\, Mayara\, Mónica Millán\, Nádia Taquary e Rafa Bqueer\, além dos coletivos Mulheres Atingidas por Barragens e Serigrafistas Queer. \nA curadoria de Francela Carrera\, com colaboração de Ana Carla Soler e Carolina Rodrigues\, destaca como técnicas ancestrais como bordado\, tecelagem e costura vêm sendo mobilizadas por artistas mulheres para refletir sobre território\, identidade e memória. \nDividida em cinco núcleos curatoriais\, a exposição articula práticas artísticas e engajamento político. Em “Mobilização social”\, obras dos coletivos participantes aparecem como instrumentos de denúncia e ação coletiva. Já em “Uma geografia sensível”\, trabalhos de Ana Tereza Barboza\, Angelica Serech\, Claudia Lara e Mayara exploram narrativas territoriais e cartografias afetivas. Outros núcleos investigam o têxtil em diálogo com performance\, autorrepresentação e espiritualidade\, reunindo obras que abordam temas como ancestralidade\, corpo\, identidade e sagrado.
URL:https://artequeacontece.com.br/evento/tecendo-historias-arte-textil-latino-americana-no-sesc-tijuca/
LOCATION:Sesc Tijuca\, R. Barão de Mesquita\, 539 - Tijuca\, Rio de Janeiro\, Brazil
CATEGORIES:Rio de Janeiro
ATTACH;FMTTYPE=image/png:https://artequeacontece.com.br/wp-content/uploads/2026/03/K0N1aPVGgTUKQByoxWfCJo10032026110915-e1773665638282.png
END:VEVENT
BEGIN:VEVENT
DTSTART;VALUE=DATE:20260328
DTEND;VALUE=DATE:20260608
DTSTAMP:20260423T180924
CREATED:20260401T144605Z
LAST-MODIFIED:20260401T144605Z
UID:70591-1774656000-1780876799@artequeacontece.com.br
SUMMARY:"Constelações: 40 anos do Paço Imperial"
DESCRIPTION:O Paço Imperial\, no centro histórico do Rio de Janeiro\, apresenta Constelações\, exposição com curadoria de Claudia Saldanha\, Ivair Reinaldim e equipe que celebra os 40 anos da instituição como centro cultural. A mostra reúne obras de mais de cem artistas de diferentes gerações — de Lygia Clark e Hélio Oiticica a Maxwell Alexandre e Denilson Baniwa — que passaram pela instituição ao longo de quatro décadas. \nO título parte da imagem da constelação como agrupamento de elementos díspares e igualmente importantes\, capazes de produzir lampejos e novas significações. Assim\, as obras não se organizam em ordem cronológica ou por país\, mas por proximidade e interação. \nA exposição inclui também peças do acervo documental da instituição que registram a presença de mostras internacionais e projetos brasileiros ao longo do tempo\, reconhecendo o papel do Paço Imperial na promoção das artes e da cultura brasileira desde sua reabertura como centro cultural em 1985.
URL:https://artequeacontece.com.br/evento/constelacoes-40-anos-do-paco-imperial/
LOCATION:Paço Imperial\, Praça Quinze de Novembro\, 48 - Centro\, Rio de Janeiro\, RJ\, Brasil
CATEGORIES:Rio de Janeiro
ATTACH;FMTTYPE=image/png:https://artequeacontece.com.br/wp-content/uploads/2026/04/img.guiadasartes-scaled.png
END:VEVENT
BEGIN:VEVENT
DTSTART;VALUE=DATE:20260331
DTEND;VALUE=DATE:20260531
DTSTAMP:20260423T180924
CREATED:20260401T165308Z
LAST-MODIFIED:20260401T165308Z
UID:70609-1774915200-1780185599@artequeacontece.com.br
SUMMARY:"Como vender a Lua" de Anna Bella Geiger na Danielian
DESCRIPTION:Danielian Rio de Janeiro apresenta Como vender a Lua\, exposição de Anna Bella Geiger com curadoria de Marcus de Lontra Costa e Rafael Fortes Peixoto. A mostra reúne obras produzidas nos anos 1970 em que fotografias da Lua feitas pela NASA são retrabalhadas e o território lunar se torna escultura — materializando a ideia de criação de um novo território\, constante que percorre toda a carreira da artista. \nAo tomar contato com as fotos da primeira expedição humana à Lua no início dos anos 1970\, Geiger mergulhou num processo silencioso de experimentação que só anos depois seria apresentado ao público. Nessas obras\, mapas e sinalizações geográficas funcionam como campo de fricção entre abstração e provocação conceitual e política — e a posição crítica da artista sobre a ditadura militar. \nCom mais de sete décadas de carreira e obras nas coleções do MoMA\, Centre Pompidou\, Reina Sofía e Victoria & Albert Museum\, Anna Bella Geiger produz uma obra de forte potência crítica que desafia definições geopolíticas hegemônicas em suportes que vão da pintura e gravura ao vídeo\, à fotografia e à instalação.
URL:https://artequeacontece.com.br/evento/como-vender-a-lua-de-anna-bella-geiger-na-danielian/
LOCATION:Danielian Rio de Janeiro\, Rua Major Rubens Vaz\, 414 - Gávea\, Rio de Janeiro\, Brazil
CATEGORIES:Rio de Janeiro
ATTACH;FMTTYPE=image/jpeg:https://artequeacontece.com.br/wp-content/uploads/2026/04/Oceanus-Procelarum-1973-Foto-gravura-em-metal-755cm×565cm-scaled-e1775062354543.jpg
END:VEVENT
BEGIN:VEVENT
DTSTART;VALUE=DATE:20260418
DTEND;VALUE=DATE:20260803
DTSTAMP:20260423T180924
CREATED:20260416T163548Z
LAST-MODIFIED:20260401T164408Z
UID:70606-1776470400-1785715199@artequeacontece.com.br
SUMMARY:"A ordem do sensível" de Rubem Valentim no MAM Rio
DESCRIPTION:© Levi Fanan / Fundação Bienal de São Paulo \nO MAM Rio apresenta Rubem Valentim: a ordem do sensível\, com curadoria de Raquel Barreto e Phelipe Rezende\, desenvolvida em colaboração com o Museu de Arte Moderna da Bahia. A mostra reúne cerca de 180 pinturas\, relevos e esculturas de coleções públicas e privadas de diferentes regiões do país\, traçando um amplo panorama da trajetória de Valentim (Salvador\, 1922 – São Paulo\, 1991) ao longo de mais de quatro décadas. \nOrganizada em cinco núcleos que correspondem às cidades que marcaram sua trajetória — Salvador\, Rio de Janeiro\, Roma\, Brasília e São Paulo —\, a exposição evidencia como Valentim foi construindo uma linguagem singular ao articular geometria\, cor e sistemas simbólicos de matrizes afro-brasileiras e indígenas. A exposição culmina com o Templo de Oxalá\, instalação criada em 1977 e exibida originalmente na 14ª Bienal de São Paulo.
URL:https://artequeacontece.com.br/evento/a-ordem-do-sensivel-de-rubem-valentim-no-mam-rio/
LOCATION:MAM Rio\, 85 Av. Infante Dom Henrique Parque do Flamengo\, Rio de Janeiro\, Rio de Janeiro\, Brasil
CATEGORIES:Rio de Janeiro
ATTACH;FMTTYPE=image/jpeg:https://artequeacontece.com.br/wp-content/uploads/2026/04/Levi-Fanan-_-Fundacao-Bienal-de-Sao-Paulo-scaled.jpg
END:VEVENT
END:VCALENDAR