BEGIN:VCALENDAR
VERSION:2.0
PRODID:-//Arte Que Acontece - ECPv6.15.20//NONSGML v1.0//EN
CALSCALE:GREGORIAN
METHOD:PUBLISH
X-ORIGINAL-URL:https://artequeacontece.com.br
X-WR-CALDESC:Eventos para Arte Que Acontece
REFRESH-INTERVAL;VALUE=DURATION:PT1H
X-Robots-Tag:noindex
X-PUBLISHED-TTL:PT1H
BEGIN:VTIMEZONE
TZID:America/Sao_Paulo
BEGIN:STANDARD
TZOFFSETFROM:-0300
TZOFFSETTO:-0300
TZNAME:-03
DTSTART:20250101T000000
END:STANDARD
END:VTIMEZONE
BEGIN:VEVENT
DTSTART;VALUE=DATE:20260325
DTEND;VALUE=DATE:20260901
DTSTAMP:20260419T193229
CREATED:20260330T154837Z
LAST-MODIFIED:20260330T154837Z
UID:70399-1774396800-1788220799@artequeacontece.com.br
SUMMARY:Anna Maria Maiolino no MAAT
DESCRIPTION:Anna Maria Maiolino — vencedora do Leão de Ouro na Bienal de Veneza de 2024 pelo conjunto de sua obra — apresenta no MAAT\, em Lisboa\, uma exposição que atravessa mais de cinco décadas de prática a partir de dois eixos. Conta com uma seleção de desenhos e fotografias dos anos 1970 e 1980\, e um conjunto de esculturas em argila criadas especialmente para a ocasião\, modeladas diretamente no espaço da galeria. \nNascida na Itália em 1942 e radicada no Brasil desde os anos 1960\, Maiolino desenvolveu uma prática em que o corpo\, a linguagem\, o desejo e a subjetividade são tratados como territórios de experimentação. Os trabalhos dos anos 1970 e 1980 situam esse percurso no contexto da ditadura militar brasileira\, período em que tomar o corpo — representado ou performativo — era também um gesto de resistência. \nAs esculturas em barro\, com as quais Maiolino trabalha desde a década de 1980\, serão o cerne da mostr. Desses gestos repetitivos e intuitivos emergem não apenas formas\, mas também ritmos\, falhas e pausas que tornam visíveis o tempo\, a fragilidade e a pulsação da vida.
URL:https://artequeacontece.com.br/evento/anna-maria-maiolino-no-maat/
CATEGORIES:Lisboa
ATTACH;FMTTYPE=image/jpeg:https://artequeacontece.com.br/wp-content/uploads/2026/03/SaveClip.App_655867667_1395254832643513_4714077816855598098_n.jpg
END:VEVENT
END:VCALENDAR