BEGIN:VCALENDAR
VERSION:2.0
PRODID:-//Arte Que Acontece - ECPv6.15.20//NONSGML v1.0//EN
CALSCALE:GREGORIAN
METHOD:PUBLISH
X-ORIGINAL-URL:https://artequeacontece.com.br
X-WR-CALDESC:Eventos para Arte Que Acontece
REFRESH-INTERVAL;VALUE=DURATION:PT1H
X-Robots-Tag:noindex
X-PUBLISHED-TTL:PT1H
BEGIN:VTIMEZONE
TZID:America/Sao_Paulo
BEGIN:STANDARD
TZOFFSETFROM:-0300
TZOFFSETTO:-0300
TZNAME:-03
DTSTART:20250101T000000
END:STANDARD
END:VTIMEZONE
BEGIN:VEVENT
DTSTART;VALUE=DATE:20260130
DTEND;VALUE=DATE:20260402
DTSTAMP:20260419T142123
CREATED:20260227T002317Z
LAST-MODIFIED:20260227T002344Z
UID:69162-1769731200-1775087999@artequeacontece.com.br
SUMMARY:"Rupeequul Kaajuleew / Vientre de los Cosmos" de Manuel Chavay em Lisboa
DESCRIPTION:A Galeria Pedro Cera\, em Lisboa\, apresenta Rupeequul Kaajuleew / Vientre de los Cosmos\, exposição de arte do artista maia Tz’utujil Manuel Chavajay. A mostra parte dos saberes ancestrais das comunidades indígenas da região do Lago Atitlán\, na Guatemala\, articulando arte contemporânea e cosmovisão maia\, baseada em uma relação espiritual e cíclica com a natureza\, o tempo e o universo. \nEm contraposição às epistemologias ocidentais marcadas pela racionalidade linear\, Chavajay incorpora o sistema ritualístico Tzolk’in — calendário sagrado de 260 dias — como estrutura conceitual para refletir sobre interdependência cósmica\, memória ancestral e continuidade da vida. \nAs esculturas apresentadas integram kuku\, jarros cerâmicos tradicionalmente utilizados em rituais indígenas\, reinterpretados pelo artista como corpos simbólicos que carregam energia vital e conhecimento espiritual. Dispostas sobre estruturas de madeira envoltas em fibras naturais\, as obras evocam numerologias sagradas e princípios de equilíbrio presentes na cosmologia maia. \n Ao unir escultura\, pintura e pensamento cosmológico\, Chavajay propõe uma experiência sensível que reafirma a identidade indígena e a dimensão espiritual da relação entre humanidade\, território e cosmos. \n\n\n\n\n\n\n\n\n\n\n\n\n\n\n\n\n\n\n\n\n\n\n\n\n\n\n\n\n \n\n\n\n\n\n\n 
URL:https://artequeacontece.com.br/evento/manuelchavay/
LOCATION:Galeria Pedro Cera\, R. do Patrocínio 67 E\, Lisboa\, Portugal
CATEGORIES:Lisboa
ATTACH;FMTTYPE=image/png:https://artequeacontece.com.br/wp-content/uploads/2026/02/CHA6127-scaled.png
END:VEVENT
BEGIN:VEVENT
DTSTART;VALUE=DATE:20260303
DTEND;VALUE=DATE:20260514
DTSTAMP:20260419T142123
CREATED:20260318T173846Z
LAST-MODIFIED:20260401T171744Z
UID:69977-1772496000-1778716799@artequeacontece.com.br
SUMMARY:"Plunder" de Berlinde de Bruyckere em Madri
DESCRIPTION:Pedro Cera\, em Madri\, apresenta Plunder\, primeira individual de Berlinde De Bruyckere na galeria. Reunindo novas esculturas\, a mostra retoma questões centrais de sua trajetória — como o corpo\, a vulnerabilidade e a transformação — a partir de uma abordagem sensível e perturbadora. \nEntre os destaques está Plunder VI (2025–2026)\, uma obra construída a partir de materiais desgastados e fragmentados\, formando uma espécie de mosaico marcado pelo tempo e pela violência. Já a série Cosmos de Bruyckere reúne composições delicadas feitas com tecidos litúrgicos\, papel\, fios e elementos encontrados\, evocando constelações e naturezas-mortas em estado de transformação. Em trabalhos como City of Refuge (Detail) e Need VIII\, troncos de árvores em cera e formas orgânicas evocam corpos mutilados\, criando imagens que oscilam entre proteção e exposição\, vida e decomposição.
URL:https://artequeacontece.com.br/evento/plunder-de-berlinde-de-bruyckere-em-madri/
LOCATION:Galeria Pedro Cera\, R. do Patrocínio 67 E\, Lisboa\, Portugal
CATEGORIES:Lisboa
ATTACH;FMTTYPE=image/png:https://artequeacontece.com.br/wp-content/uploads/2026/03/BER6217_01-scaled-e1773855418834.png
END:VEVENT
BEGIN:VEVENT
DTSTART;VALUE=DATE:20260318
DTEND;VALUE=DATE:20260531
DTSTAMP:20260419T142123
CREATED:20260330T160503Z
LAST-MODIFIED:20260330T160503Z
UID:70406-1773792000-1780185599@artequeacontece.com.br
SUMMARY:"La Chantin" de Cisco Merel na Kunsthalle Lissabon
DESCRIPTION:O artista panamenho Cisco Merel apresenta La Chantin na Kunsthalle Lissabon\, sua primeira exposição individual em Portugal. A instalação parte de uma palavra do calão panamenho para “casa” — derivada do inglês shanty — para investigar como o lar é construído e reconstituído em contextos de migração e desenraizamento. \nMerel recupera essas formas arquitetônicas populares e as transpõe para estruturas elevadas\, ventiladas e permeáveis\, incorporando rodas e elementos móveis. O público é convidado a ativar as obras pelo movimento\, gerando a cada deslocamento uma nova composição espacial. \nSobre as superfícies de madeira sobrepostas — técnica construtiva em que as tábuas são dispostas horizontalmente para escoar a chuva tropical —\, cores vivas e contrastantes emergem não como ornamento\, mas como afirmação de vitalidade e dignidade\, fundadas numa “ética de sobrevivência” que transforma necessidade em resistência cultural. \n 
URL:https://artequeacontece.com.br/evento/la-chantin-de-cisco-merel-na-kunsthalle-lissabon/
LOCATION:Kunsthalle Lissabon\, R. José Sobral Cid 9E\, Lisboa\, Portugal
CATEGORIES:Lisboa
ATTACH;FMTTYPE=image/png:https://artequeacontece.com.br/wp-content/uploads/2026/03/Cisco-Merel-20.png
END:VEVENT
END:VCALENDAR