BEGIN:VCALENDAR
VERSION:2.0
PRODID:-//Arte Que Acontece - ECPv6.15.20//NONSGML v1.0//EN
CALSCALE:GREGORIAN
METHOD:PUBLISH
X-WR-CALNAME:Arte Que Acontece
X-ORIGINAL-URL:https://artequeacontece.com.br
X-WR-CALDESC:Eventos para Arte Que Acontece
REFRESH-INTERVAL;VALUE=DURATION:PT1H
X-Robots-Tag:noindex
X-PUBLISHED-TTL:PT1H
BEGIN:VTIMEZONE
TZID:America/Sao_Paulo
BEGIN:STANDARD
TZOFFSETFROM:-0300
TZOFFSETTO:-0300
TZNAME:-03
DTSTART:20250101T000000
END:STANDARD
END:VTIMEZONE
BEGIN:VEVENT
DTSTART;VALUE=DATE:20260314
DTEND;VALUE=DATE:20260824
DTSTAMP:20260423T172650
CREATED:20260316T143547Z
LAST-MODIFIED:20260316T143547Z
UID:69770-1773446400-1787529599@artequeacontece.com.br
SUMMARY:Mark Rothko no Palazzo Strozzi em Florença
DESCRIPTION:Palazzo Strozzi apresenta a exposição Rothko in Florence\, uma das mais importantes mostras já dedicadas ao pintor Mark Rothko\, figura central da arte moderna americana. Curada por Christopher Rothko e Elena Geuna\, a exposição foi concebida especialmente para o contexto arquitetônico do palácio renascentista e investiga como o artista transformou a tensão entre medida clássica e liberdade expressiva em pintura. \nAo longo de sua trajetória\, Rothko explorou o poder da cor como campo sensorial capaz de redefinir a percepção do espaço pictórico\, ultrapassando os limites tradicionais da tela bidimensional. \nO projeto também se estende pela cidade de Florença com intervenções especiais em locais historicamente associados ao artista\, como o Museo di San Marco — onde suas pinturas dialogam com os afrescos de Fra Angelico — e o vestíbulo da Biblioteca Medicea Laurenziana\, projetado por Michelangelo\, ampliando o diálogo entre a pintura de Mark Rothko e a tradição artística da cidade.
URL:https://artequeacontece.com.br/evento/mark-rothko-no-palazzo-strozzi-em-florenca/
LOCATION:Palazzo Strozzi\, 50123 Firenze\, Florença\, Italy
CATEGORIES:Destaque,Florença
ATTACH;FMTTYPE=image/png:https://artequeacontece.com.br/wp-content/uploads/2026/03/Mark-Rothko_No.3-No.13_MoMA.png
END:VEVENT
END:VCALENDAR