BEGIN:VCALENDAR
VERSION:2.0
PRODID:-//Arte Que Acontece - ECPv6.15.20//NONSGML v1.0//EN
CALSCALE:GREGORIAN
METHOD:PUBLISH
X-ORIGINAL-URL:https://artequeacontece.com.br
X-WR-CALDESC:Eventos para Arte Que Acontece
REFRESH-INTERVAL;VALUE=DURATION:PT1H
X-Robots-Tag:noindex
X-PUBLISHED-TTL:PT1H
BEGIN:VTIMEZONE
TZID:America/Sao_Paulo
BEGIN:STANDARD
TZOFFSETFROM:-0300
TZOFFSETTO:-0300
TZNAME:-03
DTSTART:20250101T000000
END:STANDARD
END:VTIMEZONE
BEGIN:VEVENT
DTSTART;VALUE=DATE:20260314
DTEND;VALUE=DATE:20260803
DTSTAMP:20260423T085519
CREATED:20260408T202418Z
LAST-MODIFIED:20260408T202418Z
UID:70853-1773446400-1785715199@artequeacontece.com.br
SUMMARY:Yayoi Kusama no Museu Ludwig de Colônia
DESCRIPTION:O Museu Ludwig\, em Colônia\, apresenta uma grande retrospectiva de Yayoi Kusama em celebração ao seu 50º aniversário\, com curadoria de Stephan Diederich. Com mais de 300 obras em pintura\, desenho\, escultura\, instalação\, moda\, performance e literatura\, a mostra percorre nove décadas de prática — do primeiro desenho de Kusama\, de cerca de 1934\, a uma instalação imersiva criada especialmente para a ocasião. \nA exposição se estende por além dos espaços expositivos habituais e alcança outras áreas do edifício\, incluindo um terraço. Entre os destaques estão a primeira instalação de Kusama\, Aggregation: One Thousand Boats Show (1963)\, e o ambiente I’m Here but Nothing (2000/2026). Na cobertura do museu\, será instalada Flowers That Speak All about My Heart Given to the Sky\, escultura em bronze pintado de grandes dimensões.
URL:https://artequeacontece.com.br/evento/yayoi-kusama-alemanha/
LOCATION:Museu Ludwig\, Heinrich-Böll-Platz\, Colônia\, Germany
CATEGORIES:Colônia,Destaque
ATTACH;FMTTYPE=image/png:https://artequeacontece.com.br/wp-content/uploads/2026/04/csm_kusama_bls_archive2_0008_8fcc7807d9.png
END:VEVENT
END:VCALENDAR