BEGIN:VCALENDAR
VERSION:2.0
PRODID:-//Arte Que Acontece - ECPv6.15.20//NONSGML v1.0//EN
CALSCALE:GREGORIAN
METHOD:PUBLISH
X-ORIGINAL-URL:https://artequeacontece.com.br
X-WR-CALDESC:Eventos para Arte Que Acontece
REFRESH-INTERVAL;VALUE=DURATION:PT1H
X-Robots-Tag:noindex
X-PUBLISHED-TTL:PT1H
BEGIN:VTIMEZONE
TZID:America/Sao_Paulo
BEGIN:STANDARD
TZOFFSETFROM:-0300
TZOFFSETTO:-0300
TZNAME:-03
DTSTART:20250101T000000
END:STANDARD
END:VTIMEZONE
BEGIN:VEVENT
DTSTART;TZID=America/Sao_Paulo:20260316T080000
DTEND;TZID=America/Sao_Paulo:20260316T170000
DTSTAMP:20260423T140105
CREATED:20260316T131058Z
LAST-MODIFIED:20260316T131058Z
UID:69742-1773648000-1773680400@artequeacontece.com.br
SUMMARY:"Un lugar en el mundo" de Karlo Andrei Ibarra em Barcelona
DESCRIPTION:A galeria Zielinsky apresenta a exposição Un lugar en el mundo\, primeira mostra individual em Barcelona do artista porto-riquenho Karlo Andrei Ibarra. Reunindo obras que transitam entre escultura\, fotografia e instalação\, a exposição investiga as tensões entre história\, violência e poder por meio de símbolos reconhecíveis da cultura contemporânea e referências à história da arte. \nEntre os trabalhos apresentados está “I Like America and America Doesn’t Like Me” (2025)\, que retoma a célebre performance de Joseph Beuys de 1974 e introduz uma partícula de negação que atualiza a obra no contexto das políticas antimigratórias dos Estados Unidos. Já em “Lessons (after Lucio Fontana)” (2023–2026)\, Ibarra perfura quadros-negros escolares com munição de arma de fogo\, evocando tanto o espacialismo de Lucio Fontana quanto a violência armada em escolas norte-americanas.
URL:https://artequeacontece.com.br/evento/un-lugar-en-el-mundo-de-karlo-andrei-ibarra-em-barcelona/
LOCATION:Zielinsky Barcelona\, Passatge de Mercader\, 10\, Barcelona\, Spain
CATEGORIES:Barcelona,Destaque
ATTACH;FMTTYPE=image/png:https://artequeacontece.com.br/wp-content/uploads/2026/03/Gobierno-resbala-serie-roja.jpg.png
END:VEVENT
BEGIN:VEVENT
DTSTART;VALUE=DATE:20260318
DTEND;VALUE=DATE:20260928
DTSTAMP:20260423T140105
CREATED:20260309T143055Z
LAST-MODIFIED:20260401T171328Z
UID:69392-1773792000-1790553599@artequeacontece.com.br
SUMMARY:"The Assault of Illusion" em Barcelona
DESCRIPTION:The Assault of Illusion\, exposição de arte coletiva em Barcelona\, propõe uma reflexão sobre a arte como ferramenta capaz de produzir ilusões e enganos\, investigando como essas estratégias moldaram\, ao longo da história\, tanto o desejo humano quanto aquilo que entendemos como “realidade”. \nA mostra aborda temas como pós-verdade\, relações de poder e os mecanismos que sustentam a criação de narrativas hegemônicas\, examinando como diferentes técnicas artísticas contribuíram para construir formas de percepção que influenciam a maneira como interpretamos o mundo. \nEstruturada como um percurso cenográfico imersivo\, espelhos\, véus e paredes móveis conduzem o público por diferentes experiências visuais e conceituais. Ao longo de quatro etapas — o espaço da ilusão\, o espaço da revelação\, o espaço do questionamento e o espaço da recapitulação — o visitante transita entre distintos modos de representação\, como pintura\, fotografia\, vídeo e instalação.
URL:https://artequeacontece.com.br/evento/the-assault-of-illusion-em-barcelona/
LOCATION:Centre d’Arts Santa Mònica\, La Rambla\, 7\, Ciutat Vella\, Barcelona\, Spain
CATEGORIES:Barcelona,Destaque
ATTACH;FMTTYPE=image/png:https://artequeacontece.com.br/wp-content/uploads/2026/03/Lassalt_2800x1200_SM_02-scaled.png
END:VEVENT
END:VCALENDAR