BEGIN:VCALENDAR
VERSION:2.0
PRODID:-//Arte Que Acontece - ECPv6.15.20//NONSGML v1.0//EN
CALSCALE:GREGORIAN
METHOD:PUBLISH
X-WR-CALNAME:Arte Que Acontece
X-ORIGINAL-URL:https://artequeacontece.com.br
X-WR-CALDESC:Eventos para Arte Que Acontece
REFRESH-INTERVAL;VALUE=DURATION:PT1H
X-Robots-Tag:noindex
X-PUBLISHED-TTL:PT1H
BEGIN:VTIMEZONE
TZID:America/Sao_Paulo
BEGIN:STANDARD
TZOFFSETFROM:-0300
TZOFFSETTO:-0300
TZNAME:-03
DTSTART:20240101T000000
END:STANDARD
END:VTIMEZONE
BEGIN:VEVENT
DTSTART;TZID=America/Sao_Paulo:20250222T100000
DTEND;TZID=America/Sao_Paulo:20250623T200000
DTSTAMP:20260419T103721
CREATED:20250221T153719Z
LAST-MODIFIED:20250221T153719Z
UID:61234-1740218400-1750708800@artequeacontece.com.br
SUMMARY:"Zanele Muholi: Beleza valente" no IMS Paulista
DESCRIPTION:Somnyama Ngonyama II\, Oslo\, Noruega\, 2015 © Zanele Muholi\, cortesia Yancey Richardson Gallery\, Nova York\nExposição retrospectiva de Zanele Muholi\, um dos nomes mais aclamados da fotografia contemporânea. Desde o início dos anos 2000\, Muholi\, que se define como ativista visual\, documenta a vida da comunidade negra LGBTQIAPN+ na África do Sul e no mundo. A exposição reunirá suas principais séries fotográficas\, especialmente Faces and Phases (extenso mapeamento de pessoas lésbicas\, bissexuais\, não binárias e transmasculinas feito desde 2006\, hoje com centenas de fotos)\, Somnyama Ngomyama (autorretratos que tratam de temas como racismo\, trabalho\, eurocentrismo e sexualidade)\, Brave Beauties e trabalhos inéditos produzidos no Brasil.
URL:https://artequeacontece.com.br/evento/zanele-muholi-beleza-valente-no-ims-paulista/
LOCATION:IMS Paulista\, Avenida Paulista\, 2424\, São Paulo\, SP\, Brasil
CATEGORIES:São Paulo
ATTACH;FMTTYPE=image/jpeg:https://artequeacontece.com.br/wp-content/uploads/2025/02/Somnyama-Ngonyama_Somnyama-Ngonyama-II-Oslo-Noruega-2015_1920px-1.jpg
END:VEVENT
END:VCALENDAR