BEGIN:VCALENDAR
VERSION:2.0
PRODID:-//Arte Que Acontece - ECPv6.15.20//NONSGML v1.0//EN
CALSCALE:GREGORIAN
METHOD:PUBLISH
X-WR-CALNAME:Arte Que Acontece
X-ORIGINAL-URL:https://artequeacontece.com.br
X-WR-CALDESC:Eventos para Arte Que Acontece
REFRESH-INTERVAL;VALUE=DURATION:PT1H
X-Robots-Tag:noindex
X-PUBLISHED-TTL:PT1H
BEGIN:VTIMEZONE
TZID:America/Sao_Paulo
BEGIN:STANDARD
TZOFFSETFROM:-0300
TZOFFSETTO:-0300
TZNAME:-03
DTSTART:20220101T000000
END:STANDARD
END:VTIMEZONE
BEGIN:VEVENT
DTSTART;TZID=America/Sao_Paulo:20230512T110000
DTEND;TZID=America/Sao_Paulo:20230806T180000
DTSTAMP:20260419T104217
CREATED:20230515T185131Z
LAST-MODIFIED:20230515T202225Z
UID:40443-1683889200-1691344800@artequeacontece.com.br
SUMMARY:"Young Picasso in Paris" no Guggenheim
DESCRIPTION:Pablo Picasso chegou pela primeira vez a Paris\, vindo de Barcelona\, no outono de 1900\, durante as últimas semanas da Exposição Universal que incluía seu trabalho no pavilhão espanhol. A cidade da luz\, como Paris é conhecida\, cativou e transformou o jovem espanhol de dezenove anos. Embora Picasso falasse pouco francês\, ele absorveu tudo o que Paris tinha a oferecer durante sua estada inicial de dois meses e durante sua volta em maio do ano seguinte até o final de 1901. Ele frequentou não apenas as galerias de arte\, mas também os cafés boêmios\, clubes noturnos barulhentos e casas de dança que permeavam seu bairro no topo da colina de Montmartre. Esses locais de encontro social e os diversos tipos de pessoas que os frequentavam\, rapidamente se tornaram uma fonte primária de inspiração.Coincidindo com o cinquentenário da morte de Picasso\, a exposição “Young Picasso in Paris” explora um momento crítico em seu desenvolvimento artístico e destaca uma obra definidora\, Le Moulin de la Galette\, que recentemente foi objeto de uma análise de conservação e um projeto de tratamento. A famosa casa de dança havia sido retratada por vanguardistas como Ramon Casas\, Pierre-Auguste Renoir\, Henri de Toulouse-Lautrec e Vincent van Gogh. Na versão instigante de Picasso\, uma seção transversal da sociedade parisiense se mistura sob as luzes elétricas. Esta pintura e outras\, demonstram a fascinação do jovem artista pelos aspectos não convencionais da vida moderna. O trabalho inicial de Picasso antecipa o desenraizamento social que ele traz à tona com mais clareza em seu subsequente Blue Period (1901-04) através de representações dos explorados e vulneráveis. Esta exposição íntima inclui um pequeno grupo de pinturas e desenhos que mostram os exercícios de estudo de personagens de Picasso e demonstram sua evolução durante este período formativo. À beira do precipício em 1900\, o artista eventualmente superou sua formação acadêmica para criar uma prática singular reflexiva de seu tempo.
URL:https://artequeacontece.com.br/evento/young-picasso-in-paris-no-guggenheim/
LOCATION:Guggenheim\, 1071 5th Ave Manhattan\, Nova York\, Nova York\, Estados Unidos
CATEGORIES:Nova York
ATTACH;FMTTYPE=image/jpeg:https://artequeacontece.com.br/wp-content/uploads/2023/05/art-picasso-78.2514.34.jpg
END:VEVENT
END:VCALENDAR