BEGIN:VCALENDAR
VERSION:2.0
PRODID:-//Arte Que Acontece - ECPv6.15.20//NONSGML v1.0//EN
CALSCALE:GREGORIAN
METHOD:PUBLISH
X-WR-CALNAME:Arte Que Acontece
X-ORIGINAL-URL:https://artequeacontece.com.br
X-WR-CALDESC:Eventos para Arte Que Acontece
REFRESH-INTERVAL;VALUE=DURATION:PT1H
X-Robots-Tag:noindex
X-PUBLISHED-TTL:PT1H
BEGIN:VTIMEZONE
TZID:America/Sao_Paulo
BEGIN:STANDARD
TZOFFSETFROM:-0300
TZOFFSETTO:-0300
TZNAME:-03
DTSTART:20230101T000000
END:STANDARD
END:VTIMEZONE
BEGIN:VEVENT
DTSTART;TZID=America/Sao_Paulo:20240215T100000
DTEND;TZID=America/Sao_Paulo:20240804T170000
DTSTAMP:20260422T084752
CREATED:20240605T200830Z
LAST-MODIFIED:20240605T200833Z
UID:49035-1707991200-1722790800@artequeacontece.com.br
SUMMARY:"Wu Tsang: Of Whales" no ICA Boston
DESCRIPTION:Wu Tsang\, Of Whales\, 2022. Vista da instalação “Wu Tsang: Of Whales” no Instituto de Arte Contemporânea/Boston\, 2024. Foto por Mel Taing\n\n\n\nWu Tsang (nascida em 1982 em Worcester\, Massachusetts) é uma artista multidisciplinar que produz filmes narrativos e documentários\, performances ao vivo e instalações de vídeo. A instalação imersiva “Of Whales” faz parte de sua trilogia cinematográfica inspirada no clássico romance americano de 1851\, “Moby Dick”\, de Herman Melville. “Of Whales” oferece uma meditação poética sobre a perspectiva de uma baleia cachalote\, que mergulha nas profundezas do oceano por uma hora de cada vez\, emergindo ocasionalmente para respirar. Criada na plataforma de jogos Unity com tecnologias de realidade estendida (XR)\, a instalação de vídeo e som gerada dinamicamente em tempo real imerge os espectadores em uma paisagem oceânica exuberante e onírica para imaginação\, contemplação e provocação. Apresentada pela primeira vez na 59ª Bienal de Veneza em 2022\, a obra conta com uma trilha sonora composta por Asma Maroof e Daniel Pineda\, com Tapiwa Svosve\, Jalalu-Kalvert Nelson\, Miao Zhao e Ahya Simone. A trilha sonora mescla trompas\, saxofone\, clarinete e contrabaixo\, em uma paisagem sonora multicamadas que preenche todo o espaço da galeria. No ICA\, “Of Whales” é apresentada em uma galeria adjacente ao Porto de Boston\, conectando o público à localização à beira-mar do ICA e fazendo referência à história da caça às baleias na Nova Inglaterra.
URL:https://artequeacontece.com.br/evento/wu-tsang-of-whales-no-ica-boston/
LOCATION:Institute of Contemporary Art Boston\, 25 Harbor Shore Dr\, Boston\, Massachusetts\, Estados Unidos
CATEGORIES:Boston
ATTACH;FMTTYPE=image/jpeg:https://artequeacontece.com.br/wp-content/uploads/2024/06/Exhibitions_Wu-Tsang_Mel-Taing_1A3A7275-900x600-1.jpg
END:VEVENT
END:VCALENDAR