BEGIN:VCALENDAR
VERSION:2.0
PRODID:-//Arte Que Acontece - ECPv6.15.20//NONSGML v1.0//EN
CALSCALE:GREGORIAN
METHOD:PUBLISH
X-WR-CALNAME:Arte Que Acontece
X-ORIGINAL-URL:https://artequeacontece.com.br
X-WR-CALDESC:Eventos para Arte Que Acontece
REFRESH-INTERVAL;VALUE=DURATION:PT1H
X-Robots-Tag:noindex
X-PUBLISHED-TTL:PT1H
BEGIN:VTIMEZONE
TZID:America/Sao_Paulo
BEGIN:STANDARD
TZOFFSETFROM:-0300
TZOFFSETTO:-0300
TZNAME:-03
DTSTART:20230101T000000
END:STANDARD
END:VTIMEZONE
BEGIN:VEVENT
DTSTART;TZID=America/Sao_Paulo:20240126T100000
DTEND;TZID=America/Sao_Paulo:20240302T180000
DTSTAMP:20260422T072735
CREATED:20240206T181608Z
LAST-MODIFIED:20240206T181615Z
UID:46229-1706263200-1709402400@artequeacontece.com.br
SUMMARY:"Woven" de Liza Lou na Lehmann Maupin
DESCRIPTION:Desde o início de sua carreira\, Lou forjou uma visão original infundida de feminismo\, desafiando consistentemente e expandindo os limites entre as artes plásticas e aplicadas. Ela criou instalações figurativas do tamanho de salas\, esculturas em cores vibrantes e telas minimalistas fascinantes\, todas as quais tornam o trabalho radicalmente visível tanto nos registros formais quanto conceituais. Nos últimos quinze anos\, a artista voltou seu foco para a abstração e processos repetitivos para se envolver com a história da arte\, explorando o potencial conceitual e metafórico de certas dualidades persistentes\, como presença e ausência\, coesão e desintegração. Cada uma das obras em “Woven” destaca o envolvimento de Lou com a repetição e o foco\, bem como sua profunda compreensão da materialidade. Em particular\, suas pinturas e desenhos usam caneta e grafite para “tecer” estruturas semelhantes a tecido em uma tela plana\, investigando a possibilidade do formato bidimensional para tornar visível o processo de pensamento dentro do trabalho repetitivo.
URL:https://artequeacontece.com.br/evento/woven-de-liza-lou-na-lehmann-maupin/
LOCATION:Lehmann Maupin\, 501 W 24th St Manhattan\, Manhattan\, Nova York\, Estados Unidos
CATEGORIES:Nova York
ATTACH;FMTTYPE=image/png:https://artequeacontece.com.br/wp-content/uploads/2024/02/LIZA-LOU-though-failure-is-2024-detail.png
END:VEVENT
END:VCALENDAR