BEGIN:VCALENDAR
VERSION:2.0
PRODID:-//Arte Que Acontece - ECPv6.15.20//NONSGML v1.0//EN
CALSCALE:GREGORIAN
METHOD:PUBLISH
X-WR-CALNAME:Arte Que Acontece
X-ORIGINAL-URL:https://artequeacontece.com.br
X-WR-CALDESC:Eventos para Arte Que Acontece
REFRESH-INTERVAL;VALUE=DURATION:PT1H
X-Robots-Tag:noindex
X-PUBLISHED-TTL:PT1H
BEGIN:VTIMEZONE
TZID:America/Sao_Paulo
BEGIN:STANDARD
TZOFFSETFROM:-0300
TZOFFSETTO:-0300
TZNAME:-03
DTSTART:20220101T000000
END:STANDARD
END:VTIMEZONE
BEGIN:VEVENT
DTSTART;TZID=America/Sao_Paulo:20230917T110000
DTEND;TZID=America/Sao_Paulo:20240303T180000
DTSTAMP:20260422T054326
CREATED:20240202T200754Z
LAST-MODIFIED:20240202T201649Z
UID:46049-1694948400-1709488800@artequeacontece.com.br
SUMMARY:"The World Made Wondrous" no LACMA
DESCRIPTION:Repleta com mais de 300 objetos\, incluindo pinturas\, gravuras e esculturas\, bem como gemas\, conchas e taxidermia\, World Made Wondrous recria um gabinete fictício de colecionador holandês do século XVII para examinar as histórias políticas e coloniais das práticas de coleta europeias no século XVII. À medida que os europeus montavam seus gabinetes\, eles ordenavam o mundo de maneiras deliberadas\, estabelecendo julgamentos e hierarquias sobre o valor de materiais naturais\, formas de trabalho\, formas de artesanato\, bem como o valor humano\, muitas vezes com consequências graves e mortais. A exposição questionará as agendas subjacentes e estruturas que foram fundamentais para essas coleções – que são precursoras dos museus europeus e americanos atuais\, incluindo o LACMA. \n\n\n\nO visitante será conduzido pela exposição com um guia de áudio digital que inclui comentários de especialistas em diversas áreas\, produzidos especialmente para ampliar as narrativas de cada objeto e seus criadores. A exposição se beneficia das importantes contribuições de quatro artistas contemporâneos: Jennifer Ling Datchuk; Todd Gray; Sithabile Mlotshwa; e Uýra Sodoma; cujas obras\, juntamente com seus comentários no guia de áudio\, fornecem contexto essencial e reflexão sobre as narrativas históricas entrelaçadas na exposição.
URL:https://artequeacontece.com.br/evento/world-made-wondrous-no-lacma/
LOCATION:LACMA\, 5905 Wilshire Blvd Central LA\, Los Angeles\, Califórnia\, Estados Unidos
CATEGORIES:Los Angeles
ATTACH;FMTTYPE=image/jpeg:https://artequeacontece.com.br/wp-content/uploads/2024/02/ma-17175.jpg
END:VEVENT
END:VCALENDAR