BEGIN:VCALENDAR
VERSION:2.0
PRODID:-//Arte Que Acontece - ECPv6.15.20//NONSGML v1.0//EN
CALSCALE:GREGORIAN
METHOD:PUBLISH
X-WR-CALNAME:Arte Que Acontece
X-ORIGINAL-URL:https://artequeacontece.com.br
X-WR-CALDESC:Eventos para Arte Que Acontece
REFRESH-INTERVAL;VALUE=DURATION:PT1H
X-Robots-Tag:noindex
X-PUBLISHED-TTL:PT1H
BEGIN:VTIMEZONE
TZID:America/Sao_Paulo
BEGIN:STANDARD
TZOFFSETFROM:-0300
TZOFFSETTO:-0300
TZNAME:-03
DTSTART:20220101T000000
END:STANDARD
END:VTIMEZONE
BEGIN:VEVENT
DTSTART;TZID=America/Sao_Paulo:20231204T100000
DTEND;TZID=America/Sao_Paulo:20240303T170000
DTSTAMP:20260419T120910
CREATED:20240131T181324Z
LAST-MODIFIED:20240131T181330Z
UID:45924-1701684000-1709485200@artequeacontece.com.br
SUMMARY:"Women Dressing Women" no The Met
DESCRIPTION:A exposição de outono de 2023 do Instituto de Figurino explorará a criatividade e o legado artístico de estilistas mulheres a partir da coleção permanente do Met\, traçando uma linhagem de criadoras desde a virada do século XX até os dias atuais\, destacando estilistas consagradas\, novas vozes e histórias esquecidas da mesma forma. \n\n\n\nWomen Dressing Women contará com o trabalho de mais de setenta designers de moda feminina\, abrangendo aproximadamente de 1910 até hoje\, incluindo alta-costura francesa de casas como Jeanne Lanvin\, Elsa Schiaparelli e Madeleine Vionnet\, até criadoras americanas como Ann Lowe\, Claire McCardell e Isabel Toledo\, juntamente com designs contemporâneos de Iris van Herpen\, Rei Kawakubo\, Anifa Mvuemba e Simone Rocha. \n\n\n\nUm catálogo\, publicado pelo Met e distribuído pela Yale University Press\, acompanhará a exposição.
URL:https://artequeacontece.com.br/evento/women-dressing-women-no-the-met/
LOCATION:The Metropolitan Museum of Art\, 1000 5th Ave\, Nova York\, Nova York\, Estados Unidos
CATEGORIES:Nova York
ATTACH;FMTTYPE=image/jpeg:https://artequeacontece.com.br/wp-content/uploads/2024/01/Claire-McCardell-Photo-Erwin-Blumenfeld.jpg
END:VEVENT
END:VCALENDAR