BEGIN:VCALENDAR
VERSION:2.0
PRODID:-//Arte Que Acontece - ECPv6.15.20//NONSGML v1.0//EN
CALSCALE:GREGORIAN
METHOD:PUBLISH
X-WR-CALNAME:Arte Que Acontece
X-ORIGINAL-URL:https://artequeacontece.com.br
X-WR-CALDESC:Eventos para Arte Que Acontece
REFRESH-INTERVAL;VALUE=DURATION:PT1H
X-Robots-Tag:noindex
X-PUBLISHED-TTL:PT1H
BEGIN:VTIMEZONE
TZID:America/Sao_Paulo
BEGIN:STANDARD
TZOFFSETFROM:-0300
TZOFFSETTO:-0300
TZNAME:-03
DTSTART:20240101T000000
END:STANDARD
END:VTIMEZONE
BEGIN:VEVENT
DTSTART;TZID=America/Sao_Paulo:20250909T100000
DTEND;TZID=America/Sao_Paulo:20251010T190000
DTSTAMP:20260419T115050
CREATED:20250912T134403Z
LAST-MODIFIED:20250912T134403Z
UID:64834-1757412000-1760122800@artequeacontece.com.br
SUMMARY:"Willy Reuter: O engano do olhar" na Artur Fidalgo Galeria
DESCRIPTION:Willy Reuter\, Sem título\, 2025. Cortesia Artur Fidalgo Galeria\n“A exposição de Willy Reuter focaliza um conjunto de suas esculturas recentes e pinturas. Essas obras apresentam elementos fragmentários que se superpõem através de disciplinado e meticuloso exercício de ateliê\, quase artesanal\, como se tatuasse a realidade que habita o seu imaginário. Ao adentrar o núcleo de sua poética\, percebemos que ela incide no seu caráter híbrido\, protagonizado por vizinhanças súbitas\, sem aparentemente ter uma relação entre si\, mas que desestabilizam o nosso olhar. Formado em arquitetura\, passa a frequentar a Escola de Artes Visuais do Parque Lage\, no Rio de Janeiro. Willy desenvolve suas experimentações artísticas com obras compostas por objetos ambíguos que adicionam fragmentos em um outro objeto\, reativados em uma nova ordem. O objeto original perde a sua aparência natural\, fica desprovido de seus usos anteriores e reconfigurados em outra composição pelo acréscimo de elementos díspares\, de origens diversas e adentramos\, então\, nos recantos de uma realidade ampliada. Essas obras adquirem características híbridas ao renunciar as formas previsíveis\, pois nascem de encontros inesperados com múltiplas possibilidades de interpretação\, geram uma rede de estranhamento com matriz de acentos surrealistas. Nesse descompasso entre objeto original e suas novas sedimentações densamente populosas\, cada elemento parece se manter isolado\, porém conivente e passa a adquirir a aparência de verdadeiros objetos pictóricos\, uma superfície coberta de signos e códigos a serem decifrados”\, diz Vanda Klabin. \n* Funcionamento: de segunda a sexta\, das 10h às 13h e das 14h às 19h; aos sábados\, mediante agendamento
URL:https://artequeacontece.com.br/evento/willy-reuter-o-engano-do-olhar-na-artur-fidalgo-galeria/
LOCATION:Artur Fidalgo Galeria\, Rua Siqueira Campos\, 143/2º piso – loja 1 – Copacabana\, Rio de Janeiro\, RJ\, Brazil
CATEGORIES:Rio de Janeiro
ATTACH;FMTTYPE=image/png:https://artequeacontece.com.br/wp-content/uploads/2025/09/Willy-Reuter_Sem-ti¦utulo-2025_objeto-de-cera¦emica-1.png
END:VEVENT
END:VCALENDAR