BEGIN:VCALENDAR
VERSION:2.0
PRODID:-//Arte Que Acontece - ECPv6.15.20//NONSGML v1.0//EN
CALSCALE:GREGORIAN
METHOD:PUBLISH
X-WR-CALNAME:Arte Que Acontece
X-ORIGINAL-URL:https://artequeacontece.com.br
X-WR-CALDESC:Eventos para Arte Que Acontece
REFRESH-INTERVAL;VALUE=DURATION:PT1H
X-Robots-Tag:noindex
X-PUBLISHED-TTL:PT1H
BEGIN:VTIMEZONE
TZID:America/Sao_Paulo
BEGIN:STANDARD
TZOFFSETFROM:-0300
TZOFFSETTO:-0300
TZNAME:-03
DTSTART:20250101T000000
END:STANDARD
END:VTIMEZONE
BEGIN:VEVENT
DTSTART;TZID=America/Sao_Paulo:20260115T100000
DTEND;TZID=America/Sao_Paulo:20260307T190000
DTSTAMP:20260422T054653
CREATED:20260130T163319Z
LAST-MODIFIED:20260213T031836Z
UID:68554-1768471200-1772910000@artequeacontece.com.br
SUMMARY:"William Eggleston: The Last Dyes" na David Zwirner New York
DESCRIPTION:William Eggleston\, “Untitled”\, 1970. Eggleston Artistic Trust.\n“The Last Dyes” uma exposição de novas impressões do fotografo William Eggleston na David Zwirner Nova York\, West 19th Street. Eggleston foi pioneiro no uso da impressão por transferência de corantes para fotografia artística na década de 1970 e — como o título sugere — estas fotografias são as últimas impressões já feitas de suas imagens utilizando um processo analógico. A própria exposição constitui o último grande conjunto de fotografias a ser produzido com esse método de impressão\, tornando-se uma oportunidade única de ver diversas obras de Eggleston no formato em que ele as apresentou originalmente.
URL:https://artequeacontece.com.br/evento/william-eggleston-the-last-dyes-na-david-zwirner-new-york/
LOCATION:David Zwirner 19th St.\, 525 West 19th Street\, Nova York\, Nova York\, Estados Unidos
CATEGORIES:Nova York
ATTACH;FMTTYPE=image/jpeg:https://artequeacontece.com.br/wp-content/uploads/2026/02/William-Eggleston-Untitled-1970.jpg
END:VEVENT
END:VCALENDAR