BEGIN:VCALENDAR
VERSION:2.0
PRODID:-//Arte Que Acontece - ECPv6.15.20//NONSGML v1.0//EN
CALSCALE:GREGORIAN
METHOD:PUBLISH
X-WR-CALNAME:Arte Que Acontece
X-ORIGINAL-URL:https://artequeacontece.com.br
X-WR-CALDESC:Eventos para Arte Que Acontece
REFRESH-INTERVAL;VALUE=DURATION:PT1H
X-Robots-Tag:noindex
X-PUBLISHED-TTL:PT1H
BEGIN:VTIMEZONE
TZID:America/Sao_Paulo
BEGIN:STANDARD
TZOFFSETFROM:-0300
TZOFFSETTO:-0300
TZNAME:-03
DTSTART:20240101T000000
END:STANDARD
END:VTIMEZONE
BEGIN:VEVENT
DTSTART;TZID=America/Sao_Paulo:20250816T100000
DTEND;TZID=America/Sao_Paulo:20251025T190000
DTSTAMP:20260425T123304
CREATED:20250815T164833Z
LAST-MODIFIED:20250815T170423Z
UID:64236-1755338400-1761418800@artequeacontece.com.br
SUMMARY:"Wanda Pimentel – Percurso em Preto e Branco" na Carpintaria
DESCRIPTION:Wanda Pimentel\, Sem título\, da série Animais preto & branco. Foto: Eduardo Ortega / DDM\n\n\n\n\nA Fortes D’Aloia & Gabriel apresenta Wanda Pimentel – Percurso em Preto e Branco\, com abertura dia 16 de agosto na Carpintaria\, Rio de Janeiro. A mostra reúne\, pela primeira vez\, a série Animais Preto e Branco\, um conjunto de desenhos em preto e branco realizados nos primeiros anos de sua trajetória. Criadas entre 1965 e 1967\, essas obras dão a ver um período formativo de experimentação\, marcando o surgimento da linguagem visual singular de Pimentel. \nCom traços agitados e vigorosos\, numa paleta restrita\, Pimentel desenhou animais\, alguns identificáveis\, outros inventados\, cujas formas pulsam\, serpenteiam e vibram em meio a emaranhados gráficos de rabiscos e marcações. Besouros\, cangurus\, tatus\, tartarugas\, morcegos\, girafas\, corujas e macacos aparecem retratados com uma mão investigativa\, como se a artista explorasse as texturas de pelos\, penas\, escamas e peles\, apenas para distorcer suas formas e padrões nos espaços alucinatórios de seu bestiário estilizado. \nEssa faceta inicial da obra de Pimentel revela uma abordagem caligráfica mais livre\, na qual a superfície do papel é quase inteiramente ocupada\, vibrando com atividade visual — em contraste agudo com sua produção posterior\, de orientação geométrica\, baseada numa espacialidade rigorosa definida pelo vazio articulado às representações precisas de objetos e partes do corpo. Como propõe a historiadora da arte Vera Beatriz Siqueira em seu ensaio para a exposição: “Em Wanda\, os animais parecem afirmar a base gráfica e a posição central conferida à linha\, que define questões de sua obra\, ao mesmo tempo que anunciam a questão temática e plástica do ‘envolvimento’\, das relações entre criaturas\, objetos e seus ambientes — centrais em seu trabalho.” \nA obra Sem título (da série Envolvimento) (1969) da artista foi recentemente incorporada à coleção permanente do MoMA\, e integrou a exposição Vital Signs: Artists and the Body organizada por Lanka Tattersall em 2024\, na mesma instituição. Pimentel está atualmente em exibição na mostra Pop Brasil: Vanguarda e Nova Figuração\, 1960-70\, na Pinacoteca em São Paulo.
URL:https://artequeacontece.com.br/evento/wanda-pimentel-percurso-em-preto-e-branco-na-carpintaria/
LOCATION:Fortes D’aloia & Gabriel Carpintaria\, R. Jardim Botânico\, 971 - Jardim Botânico\, Rio de Janeiro\, RJ\, Brasil
CATEGORIES:Rio de Janeiro
ATTACH;FMTTYPE=image/jpeg:https://artequeacontece.com.br/wp-content/uploads/2025/08/wp00203-wanda-pimentel-sem-titulo-da-serie-animais-preto-branco-untitled-from-the-black-white-animals-series-ph-eduardo-ortega-ddm-scaled-e1754334649110-2360x1328-1.jpg
END:VEVENT
END:VCALENDAR