BEGIN:VCALENDAR
VERSION:2.0
PRODID:-//Arte Que Acontece - ECPv6.15.20//NONSGML v1.0//EN
CALSCALE:GREGORIAN
METHOD:PUBLISH
X-WR-CALNAME:Arte Que Acontece
X-ORIGINAL-URL:https://artequeacontece.com.br
X-WR-CALDESC:Eventos para Arte Que Acontece
REFRESH-INTERVAL;VALUE=DURATION:PT1H
X-Robots-Tag:noindex
X-PUBLISHED-TTL:PT1H
BEGIN:VTIMEZONE
TZID:America/Sao_Paulo
BEGIN:STANDARD
TZOFFSETFROM:-0300
TZOFFSETTO:-0300
TZNAME:-03
DTSTART:20240101T000000
END:STANDARD
END:VTIMEZONE
BEGIN:VEVENT
DTSTART;TZID=America/Sao_Paulo:20250522T110000
DTEND;TZID=America/Sao_Paulo:20250808T170000
DTSTAMP:20260425T160935
CREATED:20250520T191658Z
LAST-MODIFIED:20250520T191658Z
UID:62752-1747911600-1754672400@artequeacontece.com.br
SUMMARY:"V&P [vermelho&preto]" na Martha Pagy Escritório de Arte
DESCRIPTION:Obra de Filipi Dahrlan – Crédito: Divulgação\n\n\n\n\nNa exposição V&P [vermelho&preto]\, o encontro entre duas cores fundamentais — o vermelho e o preto — revela um território de intensidade\, contraste e significados múltiplos. Cada artista aqui presente explora essas cores como matéria e linguagem\, seja no embate visual entre elas\, seja em sua presença isolada e absoluta. \nO vermelho pulsa: é urgência\, corpo\, paixão\, perigo\, luta. O preto concentra: é silêncio\, sombra\, profundidade\, resistência. Na convivência ou na solidão dessas cores\, surgem tensões que atravessam o campo estético e tocam o simbólico e o político. \nAs obras de Anna Bella Geiger\, Anna Dantas\, Caligrapixo\, Filipi Dahrlan\, Gui Machado\, Lica Cecato\, Mazzuchini e Regina Silveira formam um percurso onde o olhar é provocado a reconhecer no gesto\, na superfície e na ausência de cor uma afirmação sensível. V&P é mais que uma paleta restrita — é um convite a escutar os ecos do visível\, a perceber o não-dito\, a sentir o impacto daquilo que\, em vermelho e preto\, se insinua ou grita.
URL:https://artequeacontece.com.br/evento/vp-vermelhopreto-na-martha-pagy-escritorio-de-arte/
LOCATION:Martha Pagy Escritório de Arte\, Av Rui Barbosa\, Flamengo\, Rio de Janeiro\, RJ\, Brazil
CATEGORIES:Rio de Janeiro
ATTACH;FMTTYPE=image/png:https://artequeacontece.com.br/wp-content/uploads/2025/05/Filipi-Dahrlan-1.png
END:VEVENT
END:VCALENDAR