BEGIN:VCALENDAR
VERSION:2.0
PRODID:-//Arte Que Acontece - ECPv6.15.20//NONSGML v1.0//EN
CALSCALE:GREGORIAN
METHOD:PUBLISH
X-WR-CALNAME:Arte Que Acontece
X-ORIGINAL-URL:https://artequeacontece.com.br
X-WR-CALDESC:Eventos para Arte Que Acontece
REFRESH-INTERVAL;VALUE=DURATION:PT1H
X-Robots-Tag:noindex
X-PUBLISHED-TTL:PT1H
BEGIN:VTIMEZONE
TZID:America/Sao_Paulo
BEGIN:STANDARD
TZOFFSETFROM:-0300
TZOFFSETTO:-0300
TZNAME:-03
DTSTART:20220101T000000
END:STANDARD
END:VTIMEZONE
BEGIN:VEVENT
DTSTART;TZID=America/Sao_Paulo:20230805T090000
DTEND;TZID=America/Sao_Paulo:20231001T170000
DTSTAMP:20260422T054648
CREATED:20230815T202009Z
LAST-MODIFIED:20230815T202037Z
UID:43272-1691226000-1696179600@artequeacontece.com.br
SUMMARY:"Volto ao Jardim" no Museu de Arte Sacra de São Paulo
DESCRIPTION:O Museu de Arte Sacra de São Paulo (MAS.SP)\, instituição da Secretaria da Cultura\, Economia e Indústria Criativas do Estado de São Paulo\, inaugura a exposição coletiva VOLTO AO JARDIM\, com trabalhos de Carla Fonseca\, Julia Bac\, Lidia Lisbôa\, Nathalie Nery\, Paula Scavazzini\, Yasmin Guimarães\, artistas brasileiras emergentes\, que exploram a conexão com a natureza e a beleza dos jardins\, proporcionando reflexões sobre tempos incertos e os encantos naturais da vida. Sob curadoria de Simon Watson\, a abertura ocorre no dia 5 de agosto – sábado\, às 11hs. A mostra\, com título mencionado na música de Cartola As Rosas não Falam\, reconhecida amplamente na versão gravada por Beth Carvalho\, inclui estrofe que conduz o conceito da exposição: \n\n\n\n“Volto ao jardim\,Com a certeza que devo chorar\,Pois bem sei que não queres voltar\,Para mim\,Queixo-me às rosas\,Que bobagem as rosas não falam\,Simplesmente as rosas exalam…”“As obras das artistas podem ser compreendidas como mensagens de envolvimento com o mundo natural\, de belos jardins e esperança em tempos incertos. E\, como na música\, esta é uma exibição com sensações doces e amargas. Sendo expostas no inverno\, está diretamente ligada aos ciclos da vida\, aos finais e recomeços: uma metáfora de nascimento e renovação\, bem como um gesto de abraço ao equilíbrio da natureza”\, discorre o curador. \n\n\n\nA exposição ocupa dois espaços distintos nas instalações do MAS.SP: uma das salas de exposições temporárias e os jardins internos do claustro. Todos os trabalhos estão sendo criados pelas artistas on-site\, no MAS.SP e\, desta forma\, dialogam com esse exemplar do Patrimônio Histórico Brasileiro. A instituição está instalada em uma área pertencente ao Mosteiro da Luz\, da Ordem da Imaculada Conceição – Congregação das Irmãs Concepcionistas\, circundado por jardins e um chácara conventual. O prédio é um exemplar raro de arquitetura histórica colonial do Brasil. VOLTO AO JARDIM é uma jornada de contemplação que abraça os ciclos da vida\, simbolizando o nascimento e a renovação. A exposição celebra o talento e a criatividade de seis artistas mulheres brasileiras emergentes\, cujas obras revelam uma profunda conexão com a natureza e a harmonia do mundo natural. \n\n\n\n“O Museu de Arte Sacra é constantemente reavivado por seus visitantes e por artistas contemporâneos que fazem trabalhos on-site\, que dialogam com a tranquilidade do local\, ao mesmo tempo em que trazem uma nova perspectiva sobre nossos tempos”. Simon Watson
URL:https://artequeacontece.com.br/evento/volto-ao-jardim-no-museu-de-arte-sacra/
LOCATION:Museu de Arte Sacra de São Paulo\, Avenida Tiradentes\, 676 - Luz\, São Paulo\, SP\, Brasil
CATEGORIES:São Paulo
ATTACH;FMTTYPE=image/jpeg:https://artequeacontece.com.br/wp-content/uploads/2023/08/LIDIA-LISBOA_MAS.SP_.jpg
END:VEVENT
END:VCALENDAR