BEGIN:VCALENDAR
VERSION:2.0
PRODID:-//Arte Que Acontece - ECPv6.15.20//NONSGML v1.0//EN
CALSCALE:GREGORIAN
METHOD:PUBLISH
X-WR-CALNAME:Arte Que Acontece
X-ORIGINAL-URL:https://artequeacontece.com.br
X-WR-CALDESC:Eventos para Arte Que Acontece
REFRESH-INTERVAL;VALUE=DURATION:PT1H
X-Robots-Tag:noindex
X-PUBLISHED-TTL:PT1H
BEGIN:VTIMEZONE
TZID:America/Sao_Paulo
BEGIN:STANDARD
TZOFFSETFROM:-0300
TZOFFSETTO:-0300
TZNAME:-03
DTSTART:20230101T000000
END:STANDARD
END:VTIMEZONE
BEGIN:VEVENT
DTSTART;TZID=America/Sao_Paulo:20241120T100000
DTEND;TZID=America/Sao_Paulo:20250125T180000
DTSTAMP:20260419T114917
CREATED:20241219T190556Z
LAST-MODIFIED:20241219T190556Z
UID:60454-1732096800-1737828000@artequeacontece.com.br
SUMMARY:"Viscous" na Cassina Projects
DESCRIPTION:Zsófia Keresztes\, “Sprout”\, 2024. Divulgação Cassina Projects\n\n\n\n\nA Cassina Projects apresenta Viscous\, a mais recente exposição coletiva da galeria\, com obras de María Fragoso Jara (*1995)\, Wang Haiyang (*1984)\, Zsófia Keresztes (*1985)\, Jessie Makinson (*1985) e Oda Iselin Sønderland (*1996). \nA exposição estabelece um paralelismo sinestésico com a experiência tátil da viscosidade\, explorando a interseção entre estética e psicologia. Adotando o código do uncanny teatral\, as obras navegam por estruturas libidinais contemporâneas\, desafiando limites e questionando normas. \nObscuras\, pulsantes e palpáveis\, as obras brincam com o grotesco e o imoral\, transitam entre o terno e o hedonista e conectam história e pós-humanidade. \nWang Haiyang\, em Time\, Space\, Memory\, and Sunyata e Blue Pill\, desconstrói concepções heteronormativas sobre identidade sexual por meio de um toque acrílico sofisticado. As obras exploram o limiar entre o desejo inocente e a vergonha inibidora\, revelando uma estética voyeurística e inquietante. \nJessie Makinson\, com To the Sugar on the Strawberries\, combina referências que vão da ficção científica ao folclore medieval e da pintura renascentista à mitologia. A cena ao ar livre apresenta figuras andróginas que transitam entre o humano e o animal\, o ritualístico e o casual\, criando um cenário de intimidade e vigilância. \nNido\, de María Fragoso Jara\, reflete empatia como força motriz. Um vaso decorado em tons sanguíneos abriga pequenas criaturas híbridas\, evocando um ex-voto onde forças animais\, natureza humana e objetificação coexistem. Em Ex voto para una madre\, Fragoso incorpora simbologia e alegoria\, conectando dimensões religiosas e sexuais. \nZsófia Keresztes apresenta esculturas surreais como Sprout e Remains of Tenderness. Formas antropomórficas de mosaico e tecido evocam a dualidade entre persona física e identidade digital\, desvendando a materialidade orgânica e o movimento entre o arcaico e o presente fluido. \nOda Iselin Sønderland\, em três aquarelas melancólicas\, investiga o subconsciente e desafia modelos causais. Personagens femininas arquetípicas exploram temas como puberdade\, desejo físico e conexão espiritual romantizada. \nCortinas brancas altas seccionam suavemente o espaço\, criando uma arquitetura efêmera que reconcilia o oculto e o revelado.
URL:https://artequeacontece.com.br/evento/viscous-na-cassina-projects/
LOCATION:Cassina Projects\, Via Mecenate\, 76/45\, Milão\, Itália
CATEGORIES:Milão
ATTACH;FMTTYPE=image/jpeg:https://artequeacontece.com.br/wp-content/uploads/2024/12/idfwiui-1.jpg
END:VEVENT
END:VCALENDAR