BEGIN:VCALENDAR
VERSION:2.0
PRODID:-//Arte Que Acontece - ECPv6.15.20//NONSGML v1.0//EN
CALSCALE:GREGORIAN
METHOD:PUBLISH
X-WR-CALNAME:Arte Que Acontece
X-ORIGINAL-URL:https://artequeacontece.com.br
X-WR-CALDESC:Eventos para Arte Que Acontece
REFRESH-INTERVAL;VALUE=DURATION:PT1H
X-Robots-Tag:noindex
X-PUBLISHED-TTL:PT1H
BEGIN:VTIMEZONE
TZID:America/Sao_Paulo
BEGIN:STANDARD
TZOFFSETFROM:-0300
TZOFFSETTO:-0300
TZNAME:-03
DTSTART:20210101T000000
END:STANDARD
END:VTIMEZONE
BEGIN:VEVENT
DTSTART;TZID=America/Sao_Paulo:20221020T090000
DTEND;TZID=America/Sao_Paulo:20230226T200000
DTSTAMP:20260422T073604
CREATED:20230213T213217Z
LAST-MODIFIED:20230215T231925Z
UID:38504-1666256400-1677441600@artequeacontece.com.br
SUMMARY:Vinicius de Moraes no Farol Santander
DESCRIPTION:A mostra homenageia o Poetinha abarcando não só seus manuscritos\, objetos pessoais e influências\, mas também trabalhos de artes visuais que se conectam ao campo semântico do célebre diplomata\, escritor e compositor. Eucanaã Ferraz\, também poeta e curador da exposição\, explica: “Vinicius de Moraes – por toda a minha vida traz o mundo do mais amado poeta brasileiro para nossos olhos\, ouvidos e\, sobretudo\, nossos corações. O critério cronológico da exposição está aliado com a simultaneidade das linguagens e dos acontecimentos\, e abre lugar para focos específicos. O resultado é uma sequência temporal em que\, conforme o andamento da obra e da própria vida\, há saltos\, rupturas e estilhaços de memória\, obedecendo-se ao perfil múltiplo de Vinicius de Moraes. Um bom exemplo é a atenção especial à escrita teatral de Orfeu da Conceição ou A arca de Noé\, este último um dos momentos mais importantes da literatura brasileira para a infância. A escolha do material expositivo busca a variedade de registros\, abarcando poemas\, crônicas\, canções\, entrevistas\, correspondência\, depoimentos e fotografias. A grande atração é a exibição de documentos originais: cartas\, manuscritos\, datiloscritos\, capas de discos\, desenhos\, livros\, quadros etc. O marcante caráter museográfico tem também uma forte presença de obras de arte. Vinicius de Moraes teve entre seus grandes amigos artistas importantes\, como Di Cavalcanti\, Portinari\, Santa Rosa\, Scliar\, Carlos Leão\, Oscar Niemeyer e Elifas Andreatto\, entre outros. O poeta escreveu poemas\, crônicas\, notas biográficas e críticas sobre eles. Além disso\, vários desses artistas colaboraram com Vinicius em diferentes momentos de suas carreiras. A exposição pretende revelar esses laços\, indo além do registro biográfico ou documental. Nesse sentido\, Vinicius: por toda minha vida é também uma exposição de arte.”
URL:https://artequeacontece.com.br/evento/vinicius-de-moraes-no-farol-santander/
LOCATION:Farol Santander\, 24 R. João Brícola Centro Histórico de São Paulo\, São Paulo\, São Paulo\, Brasil
CATEGORIES:São Paulo
ATTACH;FMTTYPE=image/jpeg:https://artequeacontece.com.br/wp-content/uploads/2023/02/70413385-49117815.jpeg
END:VEVENT
END:VCALENDAR