BEGIN:VCALENDAR
VERSION:2.0
PRODID:-//Arte Que Acontece - ECPv6.15.20//NONSGML v1.0//EN
CALSCALE:GREGORIAN
METHOD:PUBLISH
X-WR-CALNAME:Arte Que Acontece
X-ORIGINAL-URL:https://artequeacontece.com.br
X-WR-CALDESC:Eventos para Arte Que Acontece
REFRESH-INTERVAL;VALUE=DURATION:PT1H
X-Robots-Tag:noindex
X-PUBLISHED-TTL:PT1H
BEGIN:VTIMEZONE
TZID:America/Sao_Paulo
BEGIN:STANDARD
TZOFFSETFROM:-0300
TZOFFSETTO:-0300
TZNAME:-03
DTSTART:20230101T000000
END:STANDARD
END:VTIMEZONE
BEGIN:VEVENT
DTSTART;TZID=America/Sao_Paulo:20240817T110000
DTEND;TZID=America/Sao_Paulo:20241026T190000
DTSTAMP:20260422T054645
CREATED:20240910T182825Z
LAST-MODIFIED:20240910T182825Z
UID:51029-1723892400-1729969200@artequeacontece.com.br
SUMMARY:"Vazio e dilúvio" de Marilia Furman na Central Galeria
DESCRIPTION:Vista da exposição “Vazio e dilúvio” de Marilia Furman na Central Galeria. Foto: Ana Pigosso\n\n\n\n\nA Central apresenta a mostra “Vazio e dilúvio”\, de Marilia Furman\, no sábado\,17 de agosto. A primeira individual da artista no Brasil tem curadoria de Deyson Gilbert.Ao longo de sua produção\, Marilia Furman vem levantando questões sobre o caráter de crise e colapso iminente do sistema de produção de mercadorias (ou\, capitalismo tardio). Seja por meio de apelos à sensibilidade imediata através de mecanismos que colocam matérias-primas como vidro\, parafina e gelo em conflito; seja através da apropriação e desvio de significados de objetos e imagens\, a artista busca moldar estruturas de violência e dominação social. Nos últimos anos\, Furman se voltou principalmente para uma discussão da conjuntura política brasileira\, com trabalhos que recorrem a símbolos nacionais\, militares e elementos visuais da indústria cultural do país\, tratando tal cenário como parte de um fenômeno global de intensificação violenta da desintegração social e destruição material. Vazio e Dilúvio aborda criticamente esses fenômenos\, assumindo a alegoria do dilúvio como elemento norteador de suas reflexões e trabalhando com imagens de excesso e de sobras da superprodução simultaneamente. Os trabalhos apresentados articulam elementos de guerra\, violência\, desenvolvimento técnico e cultura de massa e catástrofe climática.
URL:https://artequeacontece.com.br/evento/vazio-e-diluvio-de-marilia-furman-na-central-galeria/
LOCATION:Central Galeria\, R. Minas Gerais\, 362 – Higienólpolis\, São Paulo\, SP
CATEGORIES:São Paulo
ATTACH;FMTTYPE=image/jpeg:https://artequeacontece.com.br/wp-content/uploads/2024/09/240819-Central-phAnaPigosso-002-lw-1.jpg
END:VEVENT
END:VCALENDAR