BEGIN:VCALENDAR
VERSION:2.0
PRODID:-//Arte Que Acontece - ECPv6.15.20//NONSGML v1.0//EN
CALSCALE:GREGORIAN
METHOD:PUBLISH
X-WR-CALNAME:Arte Que Acontece
X-ORIGINAL-URL:https://artequeacontece.com.br
X-WR-CALDESC:Eventos para Arte Que Acontece
REFRESH-INTERVAL;VALUE=DURATION:PT1H
X-Robots-Tag:noindex
X-PUBLISHED-TTL:PT1H
BEGIN:VTIMEZONE
TZID:America/Sao_Paulo
BEGIN:STANDARD
TZOFFSETFROM:-0300
TZOFFSETTO:-0300
TZNAME:-03
DTSTART:20240101T000000
END:STANDARD
END:VTIMEZONE
BEGIN:VEVENT
DTSTART;TZID=America/Sao_Paulo:20250628T100000
DTEND;TZID=America/Sao_Paulo:20250816T190000
DTSTAMP:20260419T103520
CREATED:20250828T192223Z
LAST-MODIFIED:20250828T192223Z
UID:64454-1751104800-1755370800@artequeacontece.com.br
SUMMARY:"Vaquejada da meia-noite" na Almeida & Dale
DESCRIPTION:Artur Bombonato\, “nem nu\, nem vestido\, nem a pé\, nem a cavalo”\, 2024. Foto: Renato Custódio\nEm 28 de junho a Almeida & Dale inaugura Vaquejada da meia-noite\, exposição coletiva com curadoria de David Almeida. Ocupando o novo espaço expositivo da Fradique 1360\, a mostra reúne distintas vozes e gerações de artistas conectados ao território cearense por meio de um gesto afetivo que reverbera e amplia a trajetória e pesquisa de Almeida. \nMotivado por uma investigação familiar\, David Almeida\, nascido em Guará\, DF\, aproximou-se profundamente do sertão e seus artistas\, encontrando reverberações de suas pesquisas nas imagens criadas por eles. \nMais do que explicar ou catalogar a produção local\, “A mostra vocaliza testemunhos assombrados da resistência\, que se entrelaçam e desafiam o real imaginário do Brasil profundo\, onde a reza e a crença são parte indissociável da verdade”. \nA noite\, a crença e o diabo\, assim como a luta\, o trabalho e as ferramentas de sobrevivência\, são imagens que tecem o ambiente gótico-sertanejo proposto na exposição.
URL:https://artequeacontece.com.br/evento/vaquejada-da-meia-noite-na-almeida-dale/
LOCATION:Almeida & Dale\, Rua Fradique Coutinho\, 1360 – Pinheiros\, São Paulo\, SP
CATEGORIES:São Paulo
ATTACH;FMTTYPE=image/jpeg:https://artequeacontece.com.br/wp-content/uploads/2025/06/Artur-Bombonato_19802_Renato-Custodio_1-1-1.jpg
END:VEVENT
END:VCALENDAR