BEGIN:VCALENDAR
VERSION:2.0
PRODID:-//Arte Que Acontece - ECPv6.15.20//NONSGML v1.0//EN
CALSCALE:GREGORIAN
METHOD:PUBLISH
X-WR-CALNAME:Arte Que Acontece
X-ORIGINAL-URL:https://artequeacontece.com.br
X-WR-CALDESC:Eventos para Arte Que Acontece
REFRESH-INTERVAL;VALUE=DURATION:PT1H
X-Robots-Tag:noindex
X-PUBLISHED-TTL:PT1H
BEGIN:VTIMEZONE
TZID:America/Sao_Paulo
BEGIN:STANDARD
TZOFFSETFROM:-0300
TZOFFSETTO:-0300
TZNAME:-03
DTSTART:20240101T000000
END:STANDARD
END:VTIMEZONE
BEGIN:VEVENT
DTSTART;TZID=America/Sao_Paulo:20250719T100000
DTEND;TZID=America/Sao_Paulo:20250823T190000
DTSTAMP:20260422T054551
CREATED:20250718T160947Z
LAST-MODIFIED:20250718T160947Z
UID:63782-1752919200-1755975600@artequeacontece.com.br
SUMMARY:"Vai que dá zebra" de JAMAC na Galeria Vermelho
DESCRIPTION:JAMAC\, da série “Escuta”. Cortesia Galeria Vermelho\n\nDe 19 de julho a 23 de agosto\, a Vermelho apresenta Vai que dá zebra\, nova exposição individual do JAMAC. A mostra ocupa a fachada\, a banca e os dois andares da galeria com duas séries inéditas. A produção retoma e reafirma o uso do estêncil na produção das pinturas do coletivo. A técnica está na raiz do trabalho do JAMAC\, que a usa na capacitação de pessoas no bairro da Zona Sul de São Paulo e em suas produções colaborativas para exposições institucionais como Blooming Brasil-Japão\, que ocorreu no Toyota Municipal Museum of Art\, no Japão\, em 2008; e na Ocupação de seis meses que o coletivo fez no Pavilhão das Culturas Brasileiras\, em 2011 – para citar alguns. Em Vai que dá zebra\, as pinturas são produzidas a partir da combinação do estêncil com a serigrafia. \nA série Escuta propõe um inventário de convivências por meio de pinturas que sobrepõem imagens de cadeiras com significado para o coletivo. Cada composição sugere modos de estar junto — registos de encontros cotidianos e possibilidades de novas escutas. \nAposta cruza arte\, cultura popular e jogo. A série reúne pinturas feitas a partir dos 25 animais do jogo do bicho e convida colecionadores a participar de um jogo com uma das obras – a única que reúne todos os bichos. Essa pintura será sorteada entre os compradores de uma das pinturas que funcionam como bilhetes para o jogo. Ao adotar a lógica da aposta\, o JAMAC discute valor\, risco e mercado\, tendo a zebra — o resultado improvável — como símbolo central de incerteza e reinvenção. \nÉ ela quem ocupa a fachada\, marcando o ponto onde a aposta falha — ou começa de novo. \nA Ocupação JAMAC\, na Banca da Vermelho continua ativa\, agora também com itens relacionados à exposição.
URL:https://artequeacontece.com.br/evento/vai-que-da-zebra-de-jamac-na-galeria-vermelho/
LOCATION:Galeria Vermelho\, R. Minas Gerais\, 350 - Higienópolis\, São Paulo\, São Paulo\, Brasil
CATEGORIES:São Paulo
ATTACH;FMTTYPE=image/jpeg:https://artequeacontece.com.br/wp-content/uploads/2025/07/IMG_5756Boa-1.jpg
END:VEVENT
END:VCALENDAR