BEGIN:VCALENDAR
VERSION:2.0
PRODID:-//Arte Que Acontece - ECPv6.15.20//NONSGML v1.0//EN
CALSCALE:GREGORIAN
METHOD:PUBLISH
X-WR-CALNAME:Arte Que Acontece
X-ORIGINAL-URL:https://artequeacontece.com.br
X-WR-CALDESC:Eventos para Arte Que Acontece
REFRESH-INTERVAL;VALUE=DURATION:PT1H
X-Robots-Tag:noindex
X-PUBLISHED-TTL:PT1H
BEGIN:VTIMEZONE
TZID:America/Sao_Paulo
BEGIN:STANDARD
TZOFFSETFROM:-0300
TZOFFSETTO:-0300
TZNAME:-03
DTSTART:20240101T000000
END:STANDARD
END:VTIMEZONE
BEGIN:VEVENT
DTSTART;TZID=America/Sao_Paulo:20251101T100000
DTEND;TZID=America/Sao_Paulo:20260124T190000
DTSTAMP:20260419T103221
CREATED:20251028T185309Z
LAST-MODIFIED:20251028T185309Z
UID:65965-1761991200-1769281200@artequeacontece.com.br
SUMMARY:"Vagarosa Luminescência Voadora" de Luiz Zerbini na Fortes D’Aloia & Gabriel
DESCRIPTION:Luiz Zerbini\, “Cangaceiro” (detalhe)\, 2025. Cortesia Fprtes D’Aloia & Gabriel\nA Fortes D’Aloia & Gabriel apresenta Vagarosa Luminescência Voadora\, nova exposição de Luiz Zerbini em São Paulo. Neste corpo de trabalho\, a imagem de cupinzeiros do cerrado brasileiro\, com larvas em estado de bioluminescência\, desencadeia uma nova investigação sobre cor\, luz e ritmo\, a partir dos fenômenos do mundo natural. \nNo espaço expositivo\, uma grande instalação de esculturas dialoga com pinturas de larga escala\, configurando um ambiente onde rastros da presença humana coexistem com a reprodução e transformação da própria imagem da natureza. Nesse meio interconectado e de atmosfera hipnótica\, superfícies e volumes se tornam portais para uma percepção expandida. As propriedades pictóricas e esculturais se deslocam de uma obra a outra\, instaurando um sistema de trocas visuais. O cupinzeiro\, por sua vez\, surge ora na pintura\, ora como corpo escultórico de textura lisérgica. \n“Como em um inventário afetivo e botânico dos trópicos\, o artista se volta mais uma vez para a paisagem — não como cenário idílico\, mas como corpo vivo\, habitado\, tensionado por histórias visíveis e invisíveis. A floresta\, os campos\, as margens dos rios\, os vestígios urbanos e os restos do que chamamos de civilização são traduzidos em esculturas e telas de grande dimensão\, com padronagens geométricas e gestos orgânicos”\, escreve Catarina Duncan no ensaio crítico que acompanha a exposição. \nConjuntamente\, as pinturas e a instalação formam uma teia de relações\, entre narrativa e geografia\, que evidencia a contínua experimentação de Zerbini entre diferentes meios. A exposição mostra como os ambientes\, sejam florestas tropicais\, arquiteturas animais ou margens costeiras\, são compostos de camadas vitais\, de equilíbrios entre contrários\, transformações em curso\, um emaranhado histórico\, ecológico e plástico
URL:https://artequeacontece.com.br/evento/vagarosa-luminescencia-voadora-de-luiz-zerbini-na-fortes-daloia-gabriel/
LOCATION:Fortes D’Aloia & Gabriel\, R. James Holland\, 71 - Barra Funda\, São Paulo\, SP\, Brasil
CATEGORIES:São Paulo
ATTACH;FMTTYPE=image/jpeg:https://artequeacontece.com.br/wp-content/uploads/2025/10/1luizzerbini-patkilgore2025-j8a5252-2360x1328-1.jpeg
END:VEVENT
END:VCALENDAR