BEGIN:VCALENDAR
VERSION:2.0
PRODID:-//Arte Que Acontece - ECPv6.15.20//NONSGML v1.0//EN
CALSCALE:GREGORIAN
METHOD:PUBLISH
X-WR-CALNAME:Arte Que Acontece
X-ORIGINAL-URL:https://artequeacontece.com.br
X-WR-CALDESC:Eventos para Arte Que Acontece
REFRESH-INTERVAL;VALUE=DURATION:PT1H
X-Robots-Tag:noindex
X-PUBLISHED-TTL:PT1H
BEGIN:VTIMEZONE
TZID:America/Sao_Paulo
BEGIN:STANDARD
TZOFFSETFROM:-0300
TZOFFSETTO:-0300
TZNAME:-03
DTSTART:20210101T000000
END:STANDARD
END:VTIMEZONE
BEGIN:VEVENT
DTSTART;TZID=America/Sao_Paulo:20221115T100000
DTEND;TZID=America/Sao_Paulo:20230219T170000
DTSTAMP:20260422T070840
CREATED:20230213T195555Z
LAST-MODIFIED:20230216T132019Z
UID:38344-1668506400-1676826000@artequeacontece.com.br
SUMMARY:Uta Barth no Getty Center
DESCRIPTION:A exposição “Peripheral Vision” faz um panorama da carreira da artista experimental Uta Barth\, desde suas primeiras experiências como estudante até os estudos posteriores sobre as capacidades do olho e sobre o papel da câmera na tradução de informações visuais em uma fotografia. O trabalho mais recente de Barth é exibido pela primeira vez na mostra: um projeto encomendado em comemoração ao vigésimo aniversário do Getty Center. Por mais de quarenta anos\, Uta Barth\, nascida na Alemanha Ocidental (1958)\, mas morando e trabalhando em Los Angeles\, tem feito fotografias que investigam o ato de procurar. Em seus trabalhos divididos em várias partes\, ela explora as qualidades efêmeras da luz e sua capacidade de dominar e desestabilizar totalmente a visão humana. Em algumas de suas séries\, a repetição de temas (entre eles\, recortes de sua própria casa) cria um ritmo que sugere movimento\, conduzindo os espectadores de uma imagem a outra. Barth também destaca a conexão permanente da fotografia com a passagem do tempo através de suas imagens sequenciais\, capturadas em intervalos ao longo de um determinado período.
URL:https://artequeacontece.com.br/evento/uta-barth-no-getty-center/
LOCATION:Getty Center\, 1200 Getty Center Dr Brentwood\, Los Angeles\, Califórnia\, Estados Unidos
CATEGORIES:Los Angeles
ATTACH;FMTTYPE=image/jpeg:https://artequeacontece.com.br/wp-content/uploads/2023/02/68827614-48327592.jpeg
END:VEVENT
END:VCALENDAR