BEGIN:VCALENDAR
VERSION:2.0
PRODID:-//Arte Que Acontece - ECPv6.15.20//NONSGML v1.0//EN
CALSCALE:GREGORIAN
METHOD:PUBLISH
X-WR-CALNAME:Arte Que Acontece
X-ORIGINAL-URL:https://artequeacontece.com.br
X-WR-CALDESC:Eventos para Arte Que Acontece
REFRESH-INTERVAL;VALUE=DURATION:PT1H
X-Robots-Tag:noindex
X-PUBLISHED-TTL:PT1H
BEGIN:VTIMEZONE
TZID:America/Sao_Paulo
BEGIN:STANDARD
TZOFFSETFROM:-0300
TZOFFSETTO:-0300
TZNAME:-03
DTSTART:20240101T000000
END:STANDARD
END:VTIMEZONE
BEGIN:VEVENT
DTSTART;TZID=America/Sao_Paulo:20250816T100000
DTEND;TZID=America/Sao_Paulo:20251011T190000
DTSTAMP:20260422T124222
CREATED:20250828T183706Z
LAST-MODIFIED:20250828T183706Z
UID:64444-1755338400-1760209200@artequeacontece.com.br
SUMMARY:"Urihi mãripraɨ – Sonhar a terra-floresta" de Joseca Yanomami na Almeida & Dale
DESCRIPTION:Obra de Joseca Yanomami. Foto: Filipe Berndt\nPor meio de sua obra\, Joseca Yanomami cria traduções de cenas do universo onírico e do xamanismo yanomami em imagens. Em Urihi mãripraɨ – Sonhar a terra-floresta\, sua primeira individual na Almeida & Dale\, o artista apresenta obras que dão a ver realidades que se revelam em sonhos habitados pelos espíritos e seres que sustentam o céu e a terra-floresta. \nO conjunto é formado por obras inéditas\, incluindo pinturas sobre tela\, suporte novo na prática de Joseca\, assim como por uma seleção de desenhos do início de sua carreira. A curadoria é de Bruce Albert\, antropólogo que trabalha com os Yanomami desde 1975 e é coautor\, com Davi Kopenawa\, de A Queda do Céu: Palavras de um xamã Yanomami (2015).
URL:https://artequeacontece.com.br/evento/urihi-maripra%c9%a8-sonhar-a-terra-floresta-de-joseca-yanomami-na-almeida-dale/
LOCATION:Almeida & Dale\, Rua Fradique Coutinho\, 1360 – Pinheiros\, São Paulo\, SP
CATEGORIES:São Paulo
ATTACH;FMTTYPE=image/jpeg:https://artequeacontece.com.br/wp-content/uploads/2025/08/Almeida-e-Dale-Joseca-Yanomami-FilipeBerndt-1.jpg
END:VEVENT
END:VCALENDAR