BEGIN:VCALENDAR
VERSION:2.0
PRODID:-//Arte Que Acontece - ECPv6.15.20//NONSGML v1.0//EN
CALSCALE:GREGORIAN
METHOD:PUBLISH
X-WR-CALNAME:Arte Que Acontece
X-ORIGINAL-URL:https://artequeacontece.com.br
X-WR-CALDESC:Eventos para Arte Que Acontece
REFRESH-INTERVAL;VALUE=DURATION:PT1H
X-Robots-Tag:noindex
X-PUBLISHED-TTL:PT1H
BEGIN:VTIMEZONE
TZID:America/Sao_Paulo
BEGIN:STANDARD
TZOFFSETFROM:-0300
TZOFFSETTO:-0300
TZNAME:-03
DTSTART:20230101T000000
END:STANDARD
END:VTIMEZONE
BEGIN:VEVENT
DTSTART;TZID=America/Sao_Paulo:20241008T100000
DTEND;TZID=America/Sao_Paulo:20241120T180000
DTSTAMP:20260422T071135
CREATED:20241010T193019Z
LAST-MODIFIED:20241010T193019Z
UID:58339-1728381600-1732125600@artequeacontece.com.br
SUMMARY:"UMBRA" de Heemin Chung na Thaddaeus Ropac
DESCRIPTION:Vista da exposição “UMBRA”. Cortesia Thaddaeus Ropac\n\n\n\n\n\n\n\n\nMeu trabalho muitas vezes começa com uma sensação muito sutil e fugaz\, quase como um sussurro que transita entre o físico e o virtual. – Heemin Chung \nPara sua primeira exposição solo na Thaddaeus Ropac e também a primeira apresentação a ocorrer na Europa\, a artista Heemin Chung\, baseada em Seul\, traz uma nova série de pinturas\, esculturas e um vídeo. Suas obras exploram o impacto sensorial de estados transitórios — da escuridão à luz\, do virtual ao físico — na cidade em rápida transformação de Seul. Como Chung explica\, “Nesta cidade\, a tecnologia foi além da mera conveniência; ela alterou fundamentalmente nossa relação com o espaço e o tempo.” Intitulada UMBRA\, em referência às sombras profundas projetadas por corpos celestes\, a exposição desdobra um mundo de sombras\, réplicas e rituais. Esta investigação sobre nossa condição contemporânea inclui uma reimaginação do ritual funerário tradicional coreano Chobun. \nA interação entre o físico e o virtual\, o sentido e o replicado\, o visto e o não visto é central na obra de Chung. Para sua nova série de pinturas\, ela se inspirou nos objetos que encontra durante caminhadas matinais pelas ruas de Seul: desde detritos urbanos artificiais até elementos do mundo natural. Camadas translúcidas e brancas nublam fundos escuros com toques de roxo e rosa\, capturando a suavidade da luz\, a névoa e as graduações sutis de cor que ocorrem ao amanhecer.
URL:https://artequeacontece.com.br/evento/umbra-de-heemin-chung-na-thaddaeus-ropac/
LOCATION:Thaddaeus Ropac Londres\, 37 Dover Street\, Londres\, Reino unido
CATEGORIES:Londres
ATTACH;FMTTYPE=image/jpeg:https://artequeacontece.com.br/wp-content/uploads/2024/10/oct_2024_installs_44-edit-1-2.jpg
END:VEVENT
END:VCALENDAR