BEGIN:VCALENDAR
VERSION:2.0
PRODID:-//Arte Que Acontece - ECPv6.15.20//NONSGML v1.0//EN
CALSCALE:GREGORIAN
METHOD:PUBLISH
X-WR-CALNAME:Arte Que Acontece
X-ORIGINAL-URL:https://artequeacontece.com.br
X-WR-CALDESC:Eventos para Arte Que Acontece
REFRESH-INTERVAL;VALUE=DURATION:PT1H
X-Robots-Tag:noindex
X-PUBLISHED-TTL:PT1H
BEGIN:VTIMEZONE
TZID:America/Sao_Paulo
BEGIN:STANDARD
TZOFFSETFROM:-0300
TZOFFSETTO:-0300
TZNAME:-03
DTSTART:20240101T000000
END:STANDARD
END:VTIMEZONE
BEGIN:VEVENT
DTSTART;TZID=America/Sao_Paulo:20250614T110000
DTEND;TZID=America/Sao_Paulo:20250719T190000
DTSTAMP:20260422T073508
CREATED:20250630T181645Z
LAST-MODIFIED:20250630T181646Z
UID:63460-1749898800-1752951600@artequeacontece.com.br
SUMMARY:"Uma\, nenhuma e cem mil" de Celina Portella na Zipper Galeria
DESCRIPTION:Celina Portella\, “Exúvia/1”\, 2025. Cortesia Zipper Galeria\nA Zipper Galeria apresenta\, a partir de 14 de junho\, a nova exposição individual da artista Celina Portella\, intitulada “Uma\, nenhuma e cem mil”. A mostra reúne um conjunto inédito de trabalhos em vídeo\, fotografia\, gravura e instalação\, aprofundando as investigações da artista sobre corpo\, matéria e percepção — agora\, também com ênfase na fragmentação da imagem e seu ocultamento. \nO título remete ao romance de Luigi Pirandello que conta o impasse existencial de um sujeito que se vê dividido entre a imagem que tem de si e as múltiplas imagens projetadas sobre ele pelo olhar do outro. Assim como na obra literária\, a artista parte do princípio que cada imagem é\, na verdade\, um reflexo das subjetividades alheias – e é precisamente esse jogo de percepções que constitui o cerne de sua investigação. \nAo ocultar o rosto em diversas obras\, a artista retira da figura a sua marca mais evidente de identidade\, abrindo espaço para leituras que ultrapassam o autobiográfico. Celina tem interesse por um corpo-sem-identidade\, capaz de representar muitos outros. Em vez de afirmar uma individualidade fixa\, ela opera uma dissolução do eu em multiplicidade: o corpo como um campo fluido\, dividido entre o um\, o nenhum e os cem mil. \nNa exposição\, instalações feitas com rolos de papel dialogam com a arquitetura do espaço\, criando obstáculos e dobras que reconfiguram a experiência do visitante. O corpo da artista\, impresso em escala real\, é parcialmente encoberto pelas próprias folhas que o formam. Em outras obras\, fotografias em preto e branco revelam corpos fragmentados ou parcialmente ocultos; gravuras impressas sobre papel amassado; e um vídeo com imagens da artista dançando projetado sobre o mesmo papel que manipula ao vivo. \nA exposição enfatiza o apagamento e o deslocamento. “Uma\, nenhuma e cem mil” é\, assim\, um desdobramento da pesquisa contínua de Celina Portella sobre as múltiplas formas de representar o corpo\, em diálogo com diferentes linguagens.
URL:https://artequeacontece.com.br/evento/uma-nenhuma-e-cem-mil-de-celina-portella-na-zipper-galeria/
LOCATION:Zipper Galeria\, R. Estados Unidos\, 1494 - Jardim América\, São Paulo\, SP\, Brasil
CATEGORIES:São Paulo
ATTACH;FMTTYPE=image/jpeg:https://artequeacontece.com.br/wp-content/uploads/2025/06/11794-1.jpg
END:VEVENT
END:VCALENDAR