BEGIN:VCALENDAR
VERSION:2.0
PRODID:-//Arte Que Acontece - ECPv6.15.20//NONSGML v1.0//EN
CALSCALE:GREGORIAN
METHOD:PUBLISH
X-WR-CALNAME:Arte Que Acontece
X-ORIGINAL-URL:https://artequeacontece.com.br
X-WR-CALDESC:Eventos para Arte Que Acontece
REFRESH-INTERVAL;VALUE=DURATION:PT1H
X-Robots-Tag:noindex
X-PUBLISHED-TTL:PT1H
BEGIN:VTIMEZONE
TZID:America/Sao_Paulo
BEGIN:STANDARD
TZOFFSETFROM:-0300
TZOFFSETTO:-0300
TZNAME:-03
DTSTART:20240101T000000
END:STANDARD
END:VTIMEZONE
BEGIN:VEVENT
DTSTART;TZID=America/Sao_Paulo:20251017T100000
DTEND;TZID=America/Sao_Paulo:20251220T190000
DTSTAMP:20260419T102700
CREATED:20251023T195907Z
LAST-MODIFIED:20251023T200235Z
UID:65893-1760695200-1766257200@artequeacontece.com.br
SUMMARY:“Uma Contra-História do Brasil” de Camille Kachani na Zipper Galeria
DESCRIPTION:Camille Kachani\, detalhe de “Contra-Historia do Brasil”\, 2024\n  \nNo conjunto inédito de 12 obras\, Kachani revisita criticamente a construção histórica do país\, propondo outra leitura a partir de povos originários\, africanos escravizados e imigrantes europeus\, cujas experiências foram em grande parte silenciadas no discurso oficial. Com curadoria de Ícaro Ferraz Vidal Junior\, a mostra tem abertura no dia 16 de outubro\, às 18h. Inspirado no procedimento de Michel Onfray ao formular uma “contra-história” da filosofia\, Kachani desloca o foco do cânone para protagonistas invisibilizados. “Nestes trabalhos\, tento recontar\, por meio de alusões e símbolos\, a história do País pelos olhos dos povos que\, embora tenham formado ou construído o Brasil\, não participaram da elaboração da HistóriaBrasileira”\, afirma o artista.  Em seu vocabulário visual\, materiais naturais e artefatos culturais se entrelaçam\, reabrindodisputas sobre quem nomeia\, mapeia e narra o território. \n  \n  \n 
URL:https://artequeacontece.com.br/evento/uma-contra-historia-do-brasil-de-camille-kachani-na-zipper-galeria/
LOCATION:Zipper Galeria\, R. Estados Unidos\, 1494 - Jardim América\, São Paulo\, SP\, Brasil
CATEGORIES:São Paulo
ATTACH;FMTTYPE=image/jpeg:https://artequeacontece.com.br/wp-content/uploads/2025/10/Camille-Kachani-detalhe-de-Contra-Historia-do-Brasil-2024.jpg
END:VEVENT
END:VCALENDAR