BEGIN:VCALENDAR
VERSION:2.0
PRODID:-//Arte Que Acontece - ECPv6.15.20//NONSGML v1.0//EN
CALSCALE:GREGORIAN
METHOD:PUBLISH
X-WR-CALNAME:Arte Que Acontece
X-ORIGINAL-URL:https://artequeacontece.com.br
X-WR-CALDESC:Eventos para Arte Que Acontece
REFRESH-INTERVAL;VALUE=DURATION:PT1H
X-Robots-Tag:noindex
X-PUBLISHED-TTL:PT1H
BEGIN:VTIMEZONE
TZID:America/Sao_Paulo
BEGIN:STANDARD
TZOFFSETFROM:-0300
TZOFFSETTO:-0300
TZNAME:-03
DTSTART:20230101T000000
END:STANDARD
END:VTIMEZONE
BEGIN:VEVENT
DTSTART;TZID=America/Sao_Paulo:20241001T100000
DTEND;TZID=America/Sao_Paulo:20250119T173000
DTSTAMP:20260419T134212
CREATED:20241126T183542Z
LAST-MODIFIED:20241126T183542Z
UID:59902-1727776800-1737307800@artequeacontece.com.br
SUMMARY:"Ultra-Violet: New Light on Van Gogh’s Irises" no Getty Center
DESCRIPTION:Vincent van Gogh\, “XRF of Irises” (detalhe)\, 1889. Imagem: Museu Getty\n\nExamine a célebre pintura Irises de Vincent van Gogh\, pertencente ao Getty\, sob a perspectiva da ciência moderna de conservação. Esta exposição explora como a compreensão do artista sobre luz e cor influenciou sua prática de pintura e como conservadores e cientistas\, trabalhando juntos\, podem aproveitar o poder da luz por meio de ferramentas analíticas que revelam os materiais e métodos de trabalho do artista. Por fim\, a exposição revela como a luz alterou irreversivelmente algumas das cores de Irises. Uma pintura que julgávamos conhecer tão bem de repente se torna surpreendentemente diferente.
URL:https://artequeacontece.com.br/evento/ultra-violet-new-light-on-van-goghs-irises-no-getty-center/
LOCATION:Getty Center\, 1200 Getty Center Dr\, Los Angeles\, Califórnia\, Estados Unidos
CATEGORIES:Los Angeles
ATTACH;FMTTYPE=image/jpeg:https://artequeacontece.com.br/wp-content/uploads/2024/11/4b96dbe1-4b9f-4737-9d97-ef898752fe9d-1.jpg
END:VEVENT
END:VCALENDAR