BEGIN:VCALENDAR
VERSION:2.0
PRODID:-//Arte Que Acontece - ECPv6.15.20//NONSGML v1.0//EN
CALSCALE:GREGORIAN
METHOD:PUBLISH
X-WR-CALNAME:Arte Que Acontece
X-ORIGINAL-URL:https://artequeacontece.com.br
X-WR-CALDESC:Eventos para Arte Que Acontece
REFRESH-INTERVAL;VALUE=DURATION:PT1H
X-Robots-Tag:noindex
X-PUBLISHED-TTL:PT1H
BEGIN:VTIMEZONE
TZID:America/Sao_Paulo
BEGIN:STANDARD
TZOFFSETFROM:-0300
TZOFFSETTO:-0300
TZNAME:-03
DTSTART:20240101T000000
END:STANDARD
END:VTIMEZONE
BEGIN:VEVENT
DTSTART;TZID=America/Sao_Paulo:20250726T100000
DTEND;TZID=America/Sao_Paulo:20251026T210000
DTSTAMP:20260419T174557
CREATED:20250723T194442Z
LAST-MODIFIED:20250723T194442Z
UID:63878-1753524000-1761512400@artequeacontece.com.br
SUMMARY:"Tudo que Nasce Vermelho" de Luara Macari no MAC USP
DESCRIPTION:Luara Macari\, “Ri Ró: rompante de rio”\, 2023 – Imagem: Divulgação\n\n\n\n\nUma das ações realizadas pelo MAC USP para incentivar a produção artística contemporânea é a realização de editais de exposições temporárias para artistas emergentes\, que ainda não tenham realizado mostras individuais em museus ou galerias. A terceira edição do Edital recebeu 180 inscrições e selecionou três projetos a serem apresentados em 2025/2026. O primeiro deles é a exposição Tudo que Nasce Vermelho\, individual da artista Luara Macari (Ribeirão Preto\, SP\, 1999)\, apresentando 21 trabalhos em que articula os gestos pictóricos entre a argila\, a tinta à óleo\, o carvão e o grafite sobre tela. \nArtista\, escritora e curadora em formação (PUC SP\, 2023)\, Luara Macari constrói um espaço onde “a pintura é exercício de escuta\, presença e memória”\, diz Fernanda Pitta\, curadora responsável do MAC USP. A partir das fabulações\, dos saberes e das tradições ioruba a artista propõe uma série de trabalhos que apresentam uma representação pictórica do mundo\, em que imagem e rito se implicam mutuamente. ”Cada pintura é também uma oferenda: tempo suspenso\, escuta ritual e desejo de rememoração” completa a curadora. \nO vermelho que guia os caminhos da artista\, cor impetuosa e vibrante\, é também substância vital e ancestral\, força plástica e simbólica\, que atravessa as obras da artista e transforma o imaterial em matéria\, superfície\, impressão e campo sensível. “O vermelho condensa o sangue\, o barro\, o fogo\, a terra e o corpo — elementos que sustentam tanto a criação e a existência na cosmovisão ioruba”\, comenta Fernanda. \nNesta exposição\, Luara Macari constrói um espaço onde a pintura é exercício de escuta\, presença e memória\, e “cria um território onde se experimenta a força da arte como gesto de cuidado\, reinvenção e reparação. Em sua prática\, a arte transforma o imaginário\, partindo do gesto íntimo de saber de onde se vem para relembrar os caminhos para onde se quer ir” define a curadora.
URL:https://artequeacontece.com.br/evento/tudo-que-nasce-vermelho-de-luara-macari-no-mac-usp/
LOCATION:MAC USP\, Av. Pedro Álvares Cabral\, 1301 - Vila Mariana\, São Paulo\, SP\, Brasil
CATEGORIES:São Paulo
ATTACH;FMTTYPE=image/jpeg:https://artequeacontece.com.br/wp-content/uploads/2025/07/IMG_05.jpg
END:VEVENT
END:VCALENDAR