BEGIN:VCALENDAR
VERSION:2.0
PRODID:-//Arte Que Acontece - ECPv6.15.20//NONSGML v1.0//EN
CALSCALE:GREGORIAN
METHOD:PUBLISH
X-WR-CALNAME:Arte Que Acontece
X-ORIGINAL-URL:https://artequeacontece.com.br
X-WR-CALDESC:Eventos para Arte Que Acontece
REFRESH-INTERVAL;VALUE=DURATION:PT1H
X-Robots-Tag:noindex
X-PUBLISHED-TTL:PT1H
BEGIN:VTIMEZONE
TZID:America/Sao_Paulo
BEGIN:STANDARD
TZOFFSETFROM:-0300
TZOFFSETTO:-0300
TZNAME:-03
DTSTART:20240101T000000
END:STANDARD
END:VTIMEZONE
BEGIN:VEVENT
DTSTART;TZID=America/Sao_Paulo:20250315T100000
DTEND;TZID=America/Sao_Paulo:20250615T210000
DTSTAMP:20260419T084937
CREATED:20250313T174058Z
LAST-MODIFIED:20250313T174058Z
UID:61570-1742032800-1750021200@artequeacontece.com.br
SUMMARY:"Truque" de Ilê Sartuzi no MAC USP
DESCRIPTION:Ilê Sartuzi. Escaneamento de filme 35mm – Divulgação\n\n\n\n\nO MAC USP inaugura no sábado\, 15 de março\, a partir das 11 horas\, a exposição Truque\, de Ilê Sartuzi.\, com uma série de intervenções sutis — semelhantes a truques de mágica — que desvendam elementos infraestruturais de espaços institucionais dedicados à cultura e à arte. Essas obras envolvem elementos tecnológicos de segurança que muitas vezes são invisíveis\, brincando com a experiência do visitante e focando a atenção em aspectos periféricos do ambiente do museu. \nPara desenvolver a produção de Truque\, Sartuzi realizou detalhada pesquisa sobre a estrutura do museu e acordos com diferentes instâncias institucionais\, abrangendo desde curadores até a equipe de segurança e corpo de bombeiros\, todos se debruçando em negociações em torno do escopo arquitetônico. Isso quer dizer que Sartuzi\, antes de passar a decisões estéticas\, aprofundou-se em uma abordagem técnica\, recolhendo vocabulário\, perspectivas e noções a respeito do seu objeto. “Antes de finalmente chegar à imagem\, que potencialmente concentra a novidade\, ou\, idealmente\, alguma possibilidade de transformação\, a produção de Sartuzi costuma se nutrir de variados modelos linguísticos\, como o literário\, o arquitetônico\, o teatral e o coreográfico”\, comenta Marcela Vieira\, curadora da exposição. \nA exposição tem dois núcleos principais. Na série de Proposições para sistemas de segurança de museus (2023)\, As obras\, por vezes acionadas pela presença do visitante sugerem uma coreografia e novas configurações do espaço. O público é capaz de ativar as estruturas do ambiente\, fazendo-o reagir aos percursos e movimentos. Já a videoinstalação Sleight of Hand (2023-2024)\, acompanhada de um conjunto de documentos e objetos relacionados a ela\, registra a ação realizada em 18 de junho de 2024\, no British Museum\, em Londres\, quando\, durante um programa que permite aos visitantes manipularem peças do acervo\, o artista usou uma técnica de mágica para trocar uma moeda original\, cunhada em 1645\, por uma réplica. Em seguida\, Sartuzi caminhou em direção à rua e\, antes de sair\, depositou a moeda na caixa de doações da instituição.
URL:https://artequeacontece.com.br/evento/truque-de-ile-sartuzi-no-mac-usp/
LOCATION:MAC USP\, Av. Pedro Álvares Cabral\, 1301 - Vila Mariana\, São Paulo\, SP\, Brasil
CATEGORIES:São Paulo
ATTACH;FMTTYPE=image/jpeg:https://artequeacontece.com.br/wp-content/uploads/2025/03/35mm-film-scan2-1.jpg
END:VEVENT
END:VCALENDAR