BEGIN:VCALENDAR
VERSION:2.0
PRODID:-//Arte Que Acontece - ECPv6.15.20//NONSGML v1.0//EN
CALSCALE:GREGORIAN
METHOD:PUBLISH
X-WR-CALNAME:Arte Que Acontece
X-ORIGINAL-URL:https://artequeacontece.com.br
X-WR-CALDESC:Eventos para Arte Que Acontece
REFRESH-INTERVAL;VALUE=DURATION:PT1H
X-Robots-Tag:noindex
X-PUBLISHED-TTL:PT1H
BEGIN:VTIMEZONE
TZID:America/Sao_Paulo
BEGIN:STANDARD
TZOFFSETFROM:-0300
TZOFFSETTO:-0300
TZNAME:-03
DTSTART:20240101T000000
END:STANDARD
END:VTIMEZONE
BEGIN:VEVENT
DTSTART;TZID=America/Sao_Paulo:20250826T110000
DTEND;TZID=America/Sao_Paulo:20251025T170000
DTSTAMP:20260419T103717
CREATED:20250910T202657Z
LAST-MODIFIED:20250910T202657Z
UID:64725-1756206000-1761411600@artequeacontece.com.br
SUMMARY:"TRILOGIAS" de Leonora Weissmann na Martha Pagy Escritório de Arte
DESCRIPTION:Obra de Leonora Weissmann – Divulgação\n\n\n\n\nA mineira Leonora Weissmann fala de sua produção: “Em meu processo as imagens surgem a partir de necessidades nemsempre claras a princípio\, mas logo estabeleço uma rede de conexões que formam algum eixo. A primeira pintura desse recorte\, intitulado posteriormente ‘A pequena idade do gelo’\, surgiu na exposição Estranho Mundo Próximo. \nTrata-se de uma fase\, ou momento que creio ser a pequena idade do gelo de minha própria pintura. A pintura tem os seus períodos\, necessidades e\, porque não\, climas. \nA paisagem de neve me fascina desde a infância quando via os quadros de Peter Bruegel o Velho\, em especial ‘Os caçadores na neve’ e ‘Paisagem de Inverno com patinadores e armadilha para pássaros’. Naturalmente são imagens instigantes\, por serem cenas de neve cheias de crianças\, por possuírem uma estranheza hipnótica com seus mil detalhes e simbolismos. \nAlém das questões simbólicas e inconscientes que me levaram a pintar essas imagens\, o branco em contraste com o preto\, o recorte que a luz clara da neve gera nas composições fazem os elementos como galhos\, pedras\, pássaros e pessoas virarem linhas e silhuetas sobre a tela\, como um desenho. A pintura torna-se mais gráfica. É fascinante. \nAs figuras\, em sua maior parte crianças\, em minha ‘pequena idade do gelo’ parecem\, em algum momento\, astronautas em um planeta desconhecido\, explorando a paisagem\, a superfície\, buscando constantemente algo que não se apresenta. \nElas apontam para caminhos possíveis. \nA partir das pinturas comecei a fazer intervenções nos livros e gravuras de Bruegel com grafismos que chamo de ‘folhas e ossos’. São silhuetas de folhagens inventadas que criam um jogo entre a forma e a contra-forma. Ou vêem-se as folhas ou o vazado que na verdade é a forma e remete a ossos.
URL:https://artequeacontece.com.br/evento/trilogias-de-leonora-weissmann-na-martha-pagy-escritorio-de-arte/
LOCATION:Martha Pagy Escritório de Arte\, Av Rui Barbosa\, Flamengo\, Rio de Janeiro\, RJ\, Brazil
CATEGORIES:Rio de Janeiro
ATTACH;FMTTYPE=image/jpeg:https://artequeacontece.com.br/wp-content/uploads/2025/09/LEONORA-WEISSMANN_2-1.jpg
END:VEVENT
END:VCALENDAR