BEGIN:VCALENDAR
VERSION:2.0
PRODID:-//Arte Que Acontece - ECPv6.15.20//NONSGML v1.0//EN
CALSCALE:GREGORIAN
METHOD:PUBLISH
X-WR-CALNAME:Arte Que Acontece
X-ORIGINAL-URL:https://artequeacontece.com.br
X-WR-CALDESC:Eventos para Arte Que Acontece
REFRESH-INTERVAL;VALUE=DURATION:PT1H
X-Robots-Tag:noindex
X-PUBLISHED-TTL:PT1H
BEGIN:VTIMEZONE
TZID:America/Sao_Paulo
BEGIN:STANDARD
TZOFFSETFROM:-0300
TZOFFSETTO:-0300
TZNAME:-03
DTSTART:20250101T000000
END:STANDARD
END:VTIMEZONE
BEGIN:VEVENT
DTSTART;VALUE=DATE:20260227
DTEND;VALUE=DATE:20260901
DTSTAMP:20260422T071144
CREATED:20260220T173134Z
LAST-MODIFIED:20260220T173134Z
UID:68999-1772150400-1788220799@artequeacontece.com.br
SUMMARY:"Tracey Emin - A Second Life" na Tate Modern em Londres
DESCRIPTION:A Second Life apresenta um panorama abrangente de 40 anos da trajetória artística de Tracey Emin\, reunindo obras emblemáticas ao lado de trabalhos inéditos que evidenciam a força e a continuidade de sua prática. Por meio de pintura\, vídeo\, têxteis\, neons\, escrita\, escultura e instalação\, Emin reafirma sua posição como uma das artistas contemporâneas mais influentes de sua geração\, explorando o corpo feminino como território de experiência\, memória e transformação. \nProjetada ao centro do debate artístico internacional nos anos 1990 com obras icônicas como My Bed\, Emin redefiniu os limites entre vida pessoal e produção artística. Sua abordagem radicalmente autobiográfica\, marcada pela exposição direta da intimidade e pela recusa em separar o privado do público\, tornou-se um marco cultural na arte britânica e consolidou sua relevância no cenário global. \nA mostra destaca o caráter confessional e visceral que atravessa toda a sua obra\, abordando temas como amor\, trauma\, desejo e cura. Ao mesmo tempo\, evidencia o papel central da pintura em sua trajetória\, apresentando trabalhos recentes que sintetizam décadas de investigação artística e revelam como Emin transforma experiências pessoais em linguagem estética universal.
URL:https://artequeacontece.com.br/evento/tracey-emin-a-second-life-na-tate-modern-em-londres/
LOCATION:Tate Modern\, Bankside\, London SE1 9TG\, Londres\, Reino unido
CATEGORIES:Londres
ATTACH;FMTTYPE=image/png:https://artequeacontece.com.br/wp-content/uploads/2026/02/1_Tracey_Emin.width-1440.png
END:VEVENT
END:VCALENDAR