BEGIN:VCALENDAR
VERSION:2.0
PRODID:-//Arte Que Acontece - ECPv6.15.20//NONSGML v1.0//EN
CALSCALE:GREGORIAN
METHOD:PUBLISH
X-WR-CALNAME:Arte Que Acontece
X-ORIGINAL-URL:https://artequeacontece.com.br
X-WR-CALDESC:Eventos para Arte Que Acontece
REFRESH-INTERVAL;VALUE=DURATION:PT1H
X-Robots-Tag:noindex
X-PUBLISHED-TTL:PT1H
BEGIN:VTIMEZONE
TZID:America/Sao_Paulo
BEGIN:STANDARD
TZOFFSETFROM:-0300
TZOFFSETTO:-0300
TZNAME:-03
DTSTART:20230101T000000
END:STANDARD
END:VTIMEZONE
BEGIN:VEVENT
DTSTART;TZID=America/Sao_Paulo:20240322T100000
DTEND;TZID=America/Sao_Paulo:20240616T190000
DTSTAMP:20260422T053356
CREATED:20240327T181632Z
LAST-MODIFIED:20240327T181635Z
UID:47678-1711101600-1718564400@artequeacontece.com.br
SUMMARY:"Topiarius" de Vanessa Freitag no Sesc Três Rios
DESCRIPTION:O Sesc Três Rios inaugura no dia 22 de março de 2024\, a partir das 14h\, a exposição TOPIARIUS\, individual da artista Vanessa Freitag\, com curadoria de Renata Santini. Vanessa\, hoje radicada no México\, apresentará uma instalação têxtil composta por cerca de 50 peças tecidas em pequeno e médio formato\, a partir do chão da galeria com alguns filamentos presos ao teto; e 15 desenhos cujas formas geradas designam-se criaturas\, pequenos seres que podem remeter às existências da natureza ou seres imaginários. A exposição foi selecionada pelo Edital de Cultura Sesc RJ Pulsar. \n\n\n\nTopiarius\, palavra grega latinizada\, significa “jardim artificial”\, e também se refere ao encarregado de organizar\, aparar e cuidar do jardim. Numa referência à “arte da jardinagem”\, a artista Vanessa Freitag estende o uso da palavra à relação de cuidado que estabelecemos no cotidiano\, começando pelo ofício da artista em seu processo criativo\, até abranger lugares e pessoas. \n\n\n\n“Uma memória de infância do jardim da avó materna é o gatilho para a série de trabalhos selecionados para esta proposta. A artista empreende uma investigação escultórica tomando como fio condutor imagens de flores\, plantas e animais dos quais recorda o jardim de sua infância. Concretiza essas lembranças em formas desenhadas\, tecidas\, costuradas e ornamentadas\, que aludem a organismos imaginários vivendo em simbiose em um espaço delimitado. Pensa nas conexões por trás da criação de um jardim e da criação de uma peça tecida: tempo\, paciência\, imersão. Maneiras de conceber o mundo lentamente. E em silêncio. Um tipo de tempo que aparentemente pouco temos no nosso dia a dia”\, comenta a curadora Renata Santini. \n\n\n\nVanessa cria os objetos com materiais reutilizados\, como roupas de segunda mão\, retalhos de tecidos\, linhas\, fios\, bolinhas de gude e pequenos objetos encontrados em bazares da cidade onde vive (Léon\, México). “Queria que as roupas carregassem marcas de uso\, porque acredito que nelas se encontra a memória do corpo\, travando assim uma espécie de diálogo silencioso com o outro”\, relata a artista. \n\n\n\nTopiarius nasce durante o período da quarentena e aborda as linguagens do têxtil e do desenho\, a partir\, sobretudo\, do exercício do pensamento por meio da prática artística\, na qual se articulam formas de experimentação de lugares\, como o jardim artificial criado por Freitag através de referências pessoais.
URL:https://artequeacontece.com.br/evento/topiarius-de-vanessa-freitag-no-sesc-tres-rios/
LOCATION:Sesc Três Rios\, Rua Nelson Viana\, 327 - Três Rios\, Rio de Janeiro\, RJ\, Brasil
CATEGORIES:Rio de Janeiro
ATTACH;FMTTYPE=image/jpeg:https://artequeacontece.com.br/wp-content/uploads/2024/03/VANESSA_FREITAG_DETALHE-OBRA.jpg
END:VEVENT
END:VCALENDAR