BEGIN:VCALENDAR
VERSION:2.0
PRODID:-//Arte Que Acontece - ECPv6.15.20//NONSGML v1.0//EN
CALSCALE:GREGORIAN
METHOD:PUBLISH
X-WR-CALNAME:Arte Que Acontece
X-ORIGINAL-URL:https://artequeacontece.com.br
X-WR-CALDESC:Eventos para Arte Que Acontece
REFRESH-INTERVAL;VALUE=DURATION:PT1H
X-Robots-Tag:noindex
X-PUBLISHED-TTL:PT1H
BEGIN:VTIMEZONE
TZID:America/Sao_Paulo
BEGIN:STANDARD
TZOFFSETFROM:-0300
TZOFFSETTO:-0300
TZNAME:-03
DTSTART:20220101T000000
END:STANDARD
END:VTIMEZONE
BEGIN:VEVENT
DTSTART;TZID=America/Sao_Paulo:20230610T100000
DTEND;TZID=America/Sao_Paulo:20230730T180000
DTSTAMP:20260422T072545
CREATED:20230614T212035Z
LAST-MODIFIED:20230614T212039Z
UID:41461-1686391200-1690740000@artequeacontece.com.br
SUMMARY:"Todas as Cores" no MAC Niterói
DESCRIPTION:O Museu de Arte Contemporânea de Niterói (MAC) é contemplado com a exposição Todas As Cores\, de Tomaz Viana\, também conhecido como Toz. Serão mais de 20 trabalhos inéditos e uma intervenção no pátio externo que abordam múltiplas perspectivas do personagem central da exposição. Toz vem espalhando alegria e cores pela cidade do Rio de Janeiro desde a década de 1990 e em sua trajetória criou uma famosa família de personagens que mistura referências do graffiti\, da animação e dos mangás japoneses com suas ideias particulares. Seu personagem O Vendedor de Alegria será o epicentro da exposição e representa uma realidade alegre\, cheia de vida e alto astral\, inspirado nos vendedores ambulantes que circulam pelas praias brasileiras. Sua arte ganha vida em telas\, esculturas\, painéis e muros ao redor do mundo e faz referências claras às estamparias de tecidos populares no Mercado Modelo e à profusão de cores da Baixa do Sapateiro de sua infância em Salvador. A mostra Todas As Cores se destaca por ter boas vibrações e energias e espalha esperança e alegria ao atual cenário. A exposição tem curadoria de Camila Ferreira e em sábados alternados\, Toz conduzirá visitas guiadas pela mostra.
URL:https://artequeacontece.com.br/evento/todas-as-cores-no-mac-niteroi/
LOCATION:MAC Niterói\, Mirante da Boa Viagem\, s/nº – Boa Viagem\, Niterói\, RJ\, Brasil
CATEGORIES:Rio de Janeiro
ATTACH;FMTTYPE=image/jpeg:https://artequeacontece.com.br/wp-content/uploads/2023/06/Exposicao-Todas-as-cores-TOZ-IIIII-1-1.jpg
END:VEVENT
END:VCALENDAR