BEGIN:VCALENDAR
VERSION:2.0
PRODID:-//Arte Que Acontece - ECPv6.15.20//NONSGML v1.0//EN
CALSCALE:GREGORIAN
METHOD:PUBLISH
X-WR-CALNAME:Arte Que Acontece
X-ORIGINAL-URL:https://artequeacontece.com.br
X-WR-CALDESC:Eventos para Arte Que Acontece
REFRESH-INTERVAL;VALUE=DURATION:PT1H
X-Robots-Tag:noindex
X-PUBLISHED-TTL:PT1H
BEGIN:VTIMEZONE
TZID:America/Sao_Paulo
BEGIN:STANDARD
TZOFFSETFROM:-0300
TZOFFSETTO:-0300
TZNAME:-03
DTSTART:20230101T000000
END:STANDARD
END:VTIMEZONE
BEGIN:VEVENT
DTSTART;TZID=America/Sao_Paulo:20240320T110000
DTEND;TZID=America/Sao_Paulo:20240902T190000
DTSTAMP:20260422T071143
CREATED:20240423T151826Z
LAST-MODIFIED:20240423T151828Z
UID:48330-1710932400-1725303600@artequeacontece.com.br
SUMMARY:"To Breathe — Constellation" de Kimsooja na Bourse de Commerce
DESCRIPTION:Vista da intervenção de Kimsooja To Breathe — Constellation como parte da exposição Le monde comme il va\, Bourse de Commerce – Pinault Collection\, Paris\, 2024. © Tadao Ando Architect & Associates\, Niney et Marca Architectes\, agence Pierre-Antoine Gatier. Foto: Florent Michel / 11h45 / Pinault Collection.\n\n\n\nComo parte da exposição Le monde comme il va\, a artista sul-coreana Kimsooja apresenta a intervenção To Breathe — Constellation. Sua obra monumental e imaterial na Rotunda da Bolsa de Comércio consiste em um imenso espelho cobrindo o chão\, que inverte toda a arquitetura e\, com ela\, a ordem do mundo\, fazendo com que o céu se abra sob nossos pés no centro do edifício. Além disso\, Kimsooja ocupa as 24 vitrines do Passage e o nível inferior do museu com obras e instalações de vídeo sobre temas como identidade\, fronteira\, memória\, exílio\, deslocamento e tecelagem. \n\n\n\n“Eu quero criar obras que sejam como água e ar\, que não podem ser possuídas\, mas podem ser compartilhadas com todos”\, diz Kimsooja\, cuja obra\, desde o final dos anos 1970\, tem sido uma experiência essencial e universal na cena internacional de arte. Após estudar pintura em Seul\, ela se afasta de qualquer ensino e prática artística convencional para explorar\, através dos gestos da vida cotidiana\, questões de identidade\, compromisso\, memória individual e coletiva e o lugar do indivíduo no mundo. Em sua performance famosa em 1997\, ela atravessa a Coreia por onze dias\, montada em um caminhão cheio de bottaris coloridos\, balaios de tecidos cintilantes que acompanham e marcam a vida dos coreanos – casamento\, nascimento e morte. Como uma artista nômade\, ela usa metaforicamente seu próprio corpo\, como uma presença anônima quase invisível que\, por sua imobilidade e verticalidade\, se inscreve como uma agulha no tecido do mundo. \n\n\n\nO espelho que ela cobre o chão da Rotunda da Bolsa de Comércio desempenha um papel semelhante ao da agulha ou de seu próprio corpo.
URL:https://artequeacontece.com.br/evento/to-breathe-constellation-de-kimsooja-na-bourse-de-commerce/
LOCATION:Bourse de Commerce\, 2 Rue de Viarmes Paris\, Paris\, Paris\, França
CATEGORIES:Paris
ATTACH;FMTTYPE=image/jpeg:https://artequeacontece.com.br/wp-content/uploads/2024/04/BDC_KIMSOOJA_©11h45-HD-4_0.jpg
END:VEVENT
END:VCALENDAR