BEGIN:VCALENDAR
VERSION:2.0
PRODID:-//Arte Que Acontece - ECPv6.15.20//NONSGML v1.0//EN
CALSCALE:GREGORIAN
METHOD:PUBLISH
X-WR-CALNAME:Arte Que Acontece
X-ORIGINAL-URL:https://artequeacontece.com.br
X-WR-CALDESC:Eventos para Arte Que Acontece
REFRESH-INTERVAL;VALUE=DURATION:PT1H
X-Robots-Tag:noindex
X-PUBLISHED-TTL:PT1H
BEGIN:VTIMEZONE
TZID:America/Sao_Paulo
BEGIN:STANDARD
TZOFFSETFROM:-0300
TZOFFSETTO:-0300
TZNAME:-03
DTSTART:20220101T000000
END:STANDARD
END:VTIMEZONE
BEGIN:VEVENT
DTSTART;TZID=America/Sao_Paulo:20230601T100000
DTEND;TZID=America/Sao_Paulo:20230825T180000
DTSTAMP:20260422T072328
CREATED:20230606T142636Z
LAST-MODIFIED:20230606T142641Z
UID:41226-1685613600-1692986400@artequeacontece.com.br
SUMMARY:"To Bend the Ear of the Outer World" na Gagosian
DESCRIPTION:To Bend the Ear of the Outer World: Conversations on contemporary abstract painting\, apresenta obras novas e recentes de mais de quarenta artistas das Américas\, Reino Unido e Alemanha. A mostra foi organizada pelo curador convidado Gary Garrels\, que\, em colaboração com os artistas\, selecionou uma única pintura de cada um. Justapondo uma ampla gama de abordagens da abstração contemporânea\, a exposição reúne obras de três gerações de artistas\, incluindo algumas nunca antes exibidas pela Gagosian. A exposição examina a pintura abstrata contemporânea por meio de uma instalação que enfatiza a individualidade de cada obra e artista\, ao mesmo tempo em que incentiva os espectadores a encontrar afinidades entre elas. Reflete conversas em andamento sobre as possibilidades da abstração com artistas que Garrels há muito tempo admira\, juntamente com outros que ele descobriu durante o processo de planejamento da exposição. Essa intensidade de engajamento informa as maneiras pelas quais esses artistas continuam a explorar os limites da abstração. Evitando restrições sistemáticas ou teóricas\, eles estão unidos por uma subjetividade expressiva\, desenvolvendo suas práticas em diálogo com seus pares e em relação a mais de um século de inovação na arte não representacional. A multiplicidade e vitalidade das obras expostas falam da relevância contínua da pintura abstrata.
URL:https://artequeacontece.com.br/evento/to-bend-the-ear-of-the-outer-world-na-gagosian/
LOCATION:Gagosian Grosvenor Hill\, 20 Grosvenor Hill\, Londres
CATEGORIES:Londres
ATTACH;FMTTYPE=image/jpeg:https://artequeacontece.com.br/wp-content/uploads/2023/06/FADOJ_2023.0001-2-1.jpg
END:VEVENT
END:VCALENDAR