BEGIN:VCALENDAR
VERSION:2.0
PRODID:-//Arte Que Acontece - ECPv6.15.20//NONSGML v1.0//EN
CALSCALE:GREGORIAN
METHOD:PUBLISH
X-WR-CALNAME:Arte Que Acontece
X-ORIGINAL-URL:https://artequeacontece.com.br
X-WR-CALDESC:Eventos para Arte Que Acontece
REFRESH-INTERVAL;VALUE=DURATION:PT1H
X-Robots-Tag:noindex
X-PUBLISHED-TTL:PT1H
BEGIN:VTIMEZONE
TZID:America/Sao_Paulo
BEGIN:STANDARD
TZOFFSETFROM:-0300
TZOFFSETTO:-0300
TZNAME:-03
DTSTART:20240101T000000
END:STANDARD
END:VTIMEZONE
BEGIN:VEVENT
DTSTART;TZID=America/Sao_Paulo:20250913T110000
DTEND;TZID=America/Sao_Paulo:20251115T190000
DTSTAMP:20260419T114917
CREATED:20250916T182324Z
LAST-MODIFIED:20250916T182324Z
UID:64892-1757761200-1763233200@artequeacontece.com.br
SUMMARY:"Título Provisório" na Nonada ZN
DESCRIPTION:Detalhe da obra de Daniel Barreto – Divulgação\n\n\n\n\nCada vez mais ligada à arte\, a Kenner vai patrocinar a exposição “Título Provisório”\, que será inaugurada neste sábado (13)\, na Penha – Zona Norte do Rio de Janeiro –\, e ficará aberta ao público até 15 de novembro. A iniciativa reforça o compromisso da marca em valorizar manifestações culturais independentes\, descentralizadas e com raízes na comunidade. Integrando o circuito ArtRio\, a mostra coletiva vai reunir\, em uma fábrica desativada\, obras de oito brasileiros que exploram como as cadeias produtivas podem aproximar as pessoas e se transformar em linguagem artística. \nPinturas\, esculturas\, fotografias\, performances sonoras\, vídeos e instalações fazem parte da programação\, que também contará com visitas guiadas e bate-papo com o público. Gerente de Comunicação da Kenner\, Mariana Egert pontua que o incentivo posiciona a marca como agente ativo de experiências acessíveis que criam conexões ricas e que promovem diálogos culturais na sociedade. \n“Apoiar a arte independente é mostrar uma preocupação social que envolve tanto os artistas quanto com os moradores da região. E isso acontecer justamente no subúrbio é muito significativo\, porque a Zona Norte do Rio é plural demais e acaba\, muitas vezes\, ficando de fora desses circuitos culturais. Essa é uma oportunidade de dar ainda mais visibilidade à produção artística e engajar a comunidade local”\, afirma Mariana. \nObras criadas por Rafael Meliga\, Bruna Lamego\, Daniel Barreto\, Daniel Olej\, Gabriela Mureb\, Helô Duran\, Lucas Pires e Mbé formam o acervo da exposição\, que\, como provoca em seu nome\, busca pontuar como a noção de transitoriedade dialoga com a arte em processo\, que se constrói no trabalho diário e na relação com estruturas externas.
URL:https://artequeacontece.com.br/evento/titulo-provisorio-na-nonada-zn/
LOCATION:Nonada Zona Norte\, Rua Conde de Agrolongo\, 677 - Penha\, Rio de Janeiro\, RJ\, Brasil
CATEGORIES:Rio de Janeiro
ATTACH;FMTTYPE=image/jpeg:https://artequeacontece.com.br/wp-content/uploads/2025/09/unnamed-5-1.jpg
END:VEVENT
END:VCALENDAR