BEGIN:VCALENDAR
VERSION:2.0
PRODID:-//Arte Que Acontece - ECPv6.15.20//NONSGML v1.0//EN
CALSCALE:GREGORIAN
METHOD:PUBLISH
X-WR-CALNAME:Arte Que Acontece
X-ORIGINAL-URL:https://artequeacontece.com.br
X-WR-CALDESC:Eventos para Arte Que Acontece
REFRESH-INTERVAL;VALUE=DURATION:PT1H
X-Robots-Tag:noindex
X-PUBLISHED-TTL:PT1H
BEGIN:VTIMEZONE
TZID:America/Sao_Paulo
BEGIN:STANDARD
TZOFFSETFROM:-0300
TZOFFSETTO:-0300
TZNAME:-03
DTSTART:20220101T000000
END:STANDARD
END:VTIMEZONE
BEGIN:VEVENT
DTSTART;TZID=America/Sao_Paulo:20230831T100000
DTEND;TZID=America/Sao_Paulo:20231014T190000
DTSTAMP:20260422T053653
CREATED:20230831T154104Z
LAST-MODIFIED:20230831T154111Z
UID:43673-1693476000-1697310000@artequeacontece.com.br
SUMMARY:"Tijolo de Prata" de Rommulo Vieira Conceição na Aura Galeria
DESCRIPTION:HB4116\n\n\n\nO artista Rommulo Vieira Conceição (Salvador\, 1968. Vive e trabalha em Porto Alegre) inaugura sua primeira individual na Aura. Com curadoria de Roberto Conduru\, Tijolo de prata  traz trabalhos históricos e outros nunca exibidos do artista. Participante da 35a Bienal de São Paulo — Coreografias do impossível e de Dos Brasis: Arte e pensamento negro\, Sesc Belenzinho\, Vieira Conceição ocupa um lugar de destaque na cena artística brasileira. Com mais de 20 anos de carreira\, trabalha com variados suportes e tem obras integrantes de diversas coleções públicas importantes\, como as da Pinacoteca do Estado de São Paulo\, do Inhotim\, do Museu de Arte Contemporânea da USP (MAC-USP) e do Centro Cultural de São Paulo (CCSP).Atravessando temas como o impasse associado à ideia de uma estética da gambiarra na história da arte contemporânea brasileira e investigações em torno da  tensão entre lugar e espaço na arquitetura moderna\, a mostra traz obras de diversos momentos e séries da produção de Rommulo\, desde instalações e esculturas até relevos de parede e fotografias.
URL:https://artequeacontece.com.br/evento/tijolo-de-prata-de-rommulo-vieira-conceicao-na-aura-galeria/
LOCATION:Aura Galeria\, Rua da Consolação\, 2767 - Jardins\, São Paulo\, SP\, Brasil
CATEGORIES:São Paulo
ATTACH;FMTTYPE=image/jpeg:https://artequeacontece.com.br/wp-content/uploads/2023/08/RVC-Serie-Tudo-que-e-solido-desmancha-no-ar-03-2017.-Desenho-e-fotografia-impressao-em-aco-inox.-130-x-95-cm-1.jpg
END:VEVENT
END:VCALENDAR