BEGIN:VCALENDAR
VERSION:2.0
PRODID:-//Arte Que Acontece - ECPv6.15.20//NONSGML v1.0//EN
CALSCALE:GREGORIAN
METHOD:PUBLISH
X-WR-CALNAME:Arte Que Acontece
X-ORIGINAL-URL:https://artequeacontece.com.br
X-WR-CALDESC:Eventos para Arte Que Acontece
REFRESH-INTERVAL;VALUE=DURATION:PT1H
X-Robots-Tag:noindex
X-PUBLISHED-TTL:PT1H
BEGIN:VTIMEZONE
TZID:America/Sao_Paulo
BEGIN:STANDARD
TZOFFSETFROM:-0300
TZOFFSETTO:-0300
TZNAME:-03
DTSTART:20230101T000000
END:STANDARD
END:VTIMEZONE
BEGIN:VEVENT
DTSTART;TZID=America/Sao_Paulo:20240111T100000
DTEND;TZID=America/Sao_Paulo:20240210T180000
DTSTAMP:20260422T054308
CREATED:20240205T210300Z
LAST-MODIFIED:20240205T210304Z
UID:46148-1704967200-1707588000@artequeacontece.com.br
SUMMARY:"Thought Objects" de James Welling na David Zwirner
DESCRIPTION:David Zwirner tem o prazer de anunciar uma exposição de obras novas e recentes do fotógrafo James Welling na localização da galeria em 533 West 19th Street\, em Nova York. Welling é representado pela David Zwirner desde 2005. Thought Objects marca sua décima exposição individual na galeria. \n\n\n\nDesde a década de 1970\, quando era estudante no California Institute of the Arts\, Welling tornou-se conhecido por um corpo incessantemente em evolução de imagens que considera tanto a história quanto as especificidades técnicas da fotografia. Seu trabalho sinalizou uma ruptura com as ideias tradicionais de fotografia\, deslocando a atenção para a construção das próprias imagens. \n\n\n\nThought Objects apresenta um grupo de obras vagamente conectadas\, alcançadas por meio de uma variedade de processos digitais\, que juntas ampliam a investigação contínua de Welling sobre o que uma fotografia pode ser.
URL:https://artequeacontece.com.br/evento/thought-objects-de-james-welling-na-david-zwirner/
LOCATION:David Zwirner 19th St.\, 525 West 19th Street\, Nova York\, Nova York\, Estados Unidos
CATEGORIES:Nova York
ATTACH;FMTTYPE=image/jpeg:https://artequeacontece.com.br/wp-content/uploads/2024/02/James-Welling-from-the-series-Thought-Objects-2021-2023.jpg
END:VEVENT
END:VCALENDAR