BEGIN:VCALENDAR
VERSION:2.0
PRODID:-//Arte Que Acontece - ECPv6.15.20//NONSGML v1.0//EN
CALSCALE:GREGORIAN
METHOD:PUBLISH
X-WR-CALNAME:Arte Que Acontece
X-ORIGINAL-URL:https://artequeacontece.com.br
X-WR-CALDESC:Eventos para Arte Que Acontece
REFRESH-INTERVAL;VALUE=DURATION:PT1H
X-Robots-Tag:noindex
X-PUBLISHED-TTL:PT1H
BEGIN:VTIMEZONE
TZID:America/Sao_Paulo
BEGIN:STANDARD
TZOFFSETFROM:-0300
TZOFFSETTO:-0300
TZNAME:-03
DTSTART:20220101T000000
END:STANDARD
END:VTIMEZONE
BEGIN:VEVENT
DTSTART;TZID=America/Sao_Paulo:20231118T100000
DTEND;TZID=America/Sao_Paulo:20241103T170000
DTSTAMP:20260422T072428
CREATED:20240314T183747Z
LAST-MODIFIED:20240314T183750Z
UID:47277-1700301600-1730653200@artequeacontece.com.br
SUMMARY:"Thinking Small: Dutch Art to Scale" no Museum of Fine Arts Boston
DESCRIPTION:Hans Bol\, Vista de Amsterdã do Sul (detalhe)\, 1589. Doação de Rose-Marie e Eijk van Otterloo em apoio ao Centro de Arte Neerlandesa.\n\n\n\nA frase “pensar pequeno” descreve um ato de engajamento profundo com a arte – um tipo específico de encontro no qual um espectador considera\, percebe e age de maneira diferente em resposta ao que vê. Com algumas formas de arte holandesa\, o minúsculo se torna abrangente: elementos pequenos atraem o olhar e inspiram os espectadores a se engajarem em um nível íntimo\, examinando cada centímetro e maravilhando-se com a habilidade e dedicação do criador do objeto. No século XVII\, representações em miniatura da distância eram um meio para homens e mulheres holandeses compreenderem a imensidão de seu mundo. Embora muitas obras que convidam à ação de pensar pequeno sejam pequenas em si mesmas\, obras maiores também podem convidar os espectadores a se concentrarem nos detalhes encontrados nelas. Os pintores de paisagens holandeses frequentemente preenchiam suas composições com detalhes – reais e imaginados – que atraem os espectadores para o mundo da imagem. \n\n\n\nUma colaboração entre o Centro de Arte Neerlandesa do MFA\, a Galeria de Arte da Universidade de Yale e professores e alunos de Yale\, esta exposição explora uma seleção intrigante de objetos dos Países Baixos do século XVII que foram projetados para elicitar um olhar lento e contemplação por parte de seus públicos originais. Com 15 pinturas\, gravuras\, medalhas de prata\, livros e até mesmo uma xícara feita de uma concha de nautilus esculpida\, “Pensando Pequeno: Arte Holandesa em Escala” obriga os espectadores a reconsiderarem sua relação com o mundo ao seu redor. \n\n\n\nEsta é a terceira de uma série de colaborações entre o CNA e seus parceiros acadêmicos que se baseia na profunda coleção de arte holandesa e flamenga do Museu de maneiras novas e inesperadas\, trazendo perspectivas frescas e vozes diversas para o primeiro plano\, enquanto mostra bolsas de estudo interdisciplinares. Exposições anteriores incluíram A Modern Art Market\, em exibição de novembro de 2021 a outubro de 2022\, e Michaelina Wautier and The Five Senses: Innovation in 17th-Century Flemish Painting”\, em exibição de 12 de novembro de 2022 a 5 de novembro de 2023. \n\n\n\nOs Fundadores do Centro de Arte Neerlandesa são Rose-Marie e Eijk van Otterloo e Susan e Matthew Weatherbie.
URL:https://artequeacontece.com.br/evento/thinking-small-dutch-art-to-scale-no-museum-of-fine-arts-boston/
LOCATION:MFA Boston\, 465 Huntington Ave\, Boston\, Massachusetts\, Estados Unidos
CATEGORIES:Boston
ATTACH;FMTTYPE=image/jpeg:https://artequeacontece.com.br/wp-content/uploads/2024/03/Hans-Bol-View-of-Amsterdam-from-the-South-detail-1589.-Gouache-heightened-with-gold-on-vellum-laid-down-on-panel.jpg
END:VEVENT
END:VCALENDAR