BEGIN:VCALENDAR
VERSION:2.0
PRODID:-//Arte Que Acontece - ECPv6.15.20//NONSGML v1.0//EN
CALSCALE:GREGORIAN
METHOD:PUBLISH
X-WR-CALNAME:Arte Que Acontece
X-ORIGINAL-URL:https://artequeacontece.com.br
X-WR-CALDESC:Eventos para Arte Que Acontece
REFRESH-INTERVAL;VALUE=DURATION:PT1H
X-Robots-Tag:noindex
X-PUBLISHED-TTL:PT1H
BEGIN:VTIMEZONE
TZID:America/Sao_Paulo
BEGIN:STANDARD
TZOFFSETFROM:-0300
TZOFFSETTO:-0300
TZNAME:-03
DTSTART:20240101T000000
END:STANDARD
END:VTIMEZONE
BEGIN:VEVENT
DTSTART;TZID=America/Sao_Paulo:20250917T100000
DTEND;TZID=America/Sao_Paulo:20260412T180000
DTSTAMP:20260422T053141
CREATED:20250917T191851Z
LAST-MODIFIED:20250917T191851Z
UID:64924-1758103200-1776016800@artequeacontece.com.br
SUMMARY:"Theatre Picasso" na Tate Modern
DESCRIPTION:Pablo Picasso\, “As Três Bailarinas”\, 1925. Tate. © Succession Picasso / DACS 2024\n\n\n\n\nPablo Picasso era fascinado por performers e por sua capacidade de se transformar. Ele se inspirava nos dançarinos\, artistas e toureiros que pintava\, e deles emprestou elementos para criar sua própria persona pública: Picasso\, o Artista. \nMarcando o centenário de sua famosa pintura As Três Bailarinas\, esta exposição\, encenada pela consagrada artista contemporânea Wu Tsang e pelo autor e curador Enrique Fuenteblanca\, lança uma nova luz sobre a obra de Picasso. Eles transformarão o espaço expositivo em um teatro para apresentar mais de 45 obras de Picasso da coleção da Tate\, ao lado de empréstimos importantes de instituições europeias. A mostra inclui pinturas\, esculturas\, têxteis e trabalhos em papel\, alguns nunca antes vistos no Reino Unido. \nPor meio de sua persona\, Picasso cultivou um mito em torno de si\, como artista celebrado e\, ao mesmo tempo\, outsider. A maneira como ele fez isso pode ser examinada pela ideia contemporânea de “performatividade” – como palavras e ações podem gerar mudanças e moldar identidades. Essa persona sempre foi atraída por vidas alternativas e pela tensão entre a cultura popular e a vanguarda. Acompanhou-o por toda a vida e continua a moldar a forma como imaginamos o papel do artista hoje. \nTheatre Picasso é apresentada na The George Economou Gallery. Em parceria com White & Case. Com apoio da Huo Family Foundation. Apoio adicional do The Theatre Picasso Exhibition Supporters Circle\, Tate Americas Foundation e Tate Members. \nEncenada por Wu Tsang e Enrique Fuenteblanca com a colaboração da designer de exposições Lucie Rebeyrol\, do estúdio Roll.
URL:https://artequeacontece.com.br/evento/theatre-picasso-na-tate-modern/
LOCATION:Tate Modern\, Bankside\, Londres\, Reino unido
CATEGORIES:Londres
ATTACH;FMTTYPE=image/jpeg:https://artequeacontece.com.br/wp-content/uploads/2025/09/Picasso_The_Three_Dancers.width-1200.jpg
END:VEVENT
END:VCALENDAR